Back
From: metabase:user:68a9c4ac-1ec7-11e0-bf29-9c4bfeb2ac3f
Subject: PASS Dist-Zilla-Plugin-Test-Perl-Critic-2.112410 v5.15.6 GNU/Linux
Date: 2012-01-10T04:40:32Z
This distribution has been tested as part of the CPAN Testers
project, supporting the Perl programming language. See
http://wiki.cpantesters.org/ for more information or email
questions to cpan-testers-discuss@perl.org
--
Dear Jerome Quelin,
This is a computer-generated report for Dist-Zilla-Plugin-Test-Perl-Critic-2.112410
on perl 5.15.6, created by CPAN-Reporter-1.2003.
Thank you for uploading your work to CPAN. Congratulations!
All tests were successful.
Sections of this report:
* Tester comments
* Program output
* Prerequisites
* Environment and other context
------------------------------
TESTER COMMENTS
------------------------------
Additional comments from tester:
none provided
------------------------------
PROGRAM OUTPUT
------------------------------
Output from './Build test':
t/00-compile.t ................ ok
#
#
# perl: v5.15.6 (wanted 5.008) on linux from /home/smoker/perl5/perlbrew/perls/perl-5.15.6/bin/perl5.15.6
#
# Data::Section => 0.101621 (want 0.004)
# Dist::Zilla::File::InMemory => 4.300006 (want any version)
# Dist::Zilla::Role::FileGatherer => 4.300006 (want any version)
# Dist::Zilla::Role::TextTemplate => 4.300006 (want any version)
# File::Find => 1.20 (want any version)
# File::Path => 2.08_01 (want any version)
# File::Temp => 0.22 (want any version)
# Module::Build => 0.3901 (want 0.3601)
# Moose => 2.0401 (want any version)
# Moose::Autobox => 0.11 (want any version)
# Moose::Util => 2.0401 (want any version)
# Test::DZil => 4.300006 (want any version)
# Test::More => 0.98 (want 0.94)
# autodie => 2.10 (want any version)
# namespace::autoclean => 0.13 (want any version)
# strict => 1.06 (want any version)
# warnings => 1.12 (want any version)
#
# Thanks for using my code. I hope it works for you.
# If not, please try and include this output in the bug report.
# That will help me reproduce the issue and solve you problem.
#
t/000-report-versions-tiny.t .. ok
t/manifest.t .................. ok
t/release-has-version.t ....... skipped: these tests are for release candidate testing
t/release-kwalitee.t .......... skipped: these tests are for release candidate testing
t/release-minimum-version.t ... skipped: these tests are for release candidate testing
t/release-pod-coverage.t ...... skipped: these tests are for release candidate testing
t/release-pod-syntax.t ........ skipped: these tests are for release candidate testing
All tests successful.
Files=8, Tests=7, 3 wallclock secs ( 0.03 usr 0.01 sys + 2.61 cusr 0.09 csys = 2.74 CPU)
Result: PASS
------------------------------
PREREQUISITES
------------------------------
Prerequisite modules loaded:
requires:
Module Need Have
------------------------------- ------ --------
Data::Section 0.004 0.101621
Dist::Zilla::File::InMemory 0 4.300006
Dist::Zilla::Role::FileGatherer 0 4.300006
Dist::Zilla::Role::TextTemplate 0 4.300006
Moose 0 2.0401
Moose::Util 0 2.0401
namespace::autoclean 0 0.13
perl 5.008 5.015006
strict 0 1.06
warnings 0 1.12
build_requires:
Module Need Have
------------------------------- ------ --------
autodie 0 2.10
File::Find 0 1.20
File::Path 0 2.08_01
File::Temp 0 0.22
Module::Build 0.3601 0.39_01
Moose::Autobox 0 0.11
Test::DZil 0 4.300006
Test::More 0.94 0.98
configure_requires:
Module Need Have
------------------------------- ------ --------
Module::Build 0.3601 0.39_01
------------------------------
ENVIRONMENT AND OTHER CONTEXT
------------------------------
Environment variables:
LANG = en_US.UTF-8
MANPATH_WITHOUT_PERLBREW =
PATH = /home/smoker/perl5/perlbrew/bin:/home/smoker/perl5/perlbrew/perls/perl-5.15.6/bin:/usr/kerberos/bin:/home/smoker/bin:/usr/local/bin:/bin:/usr/bin:/usr/X11R6/bin:/pasid:.:/home/smoker/bin
PATH_WITHOUT_PERLBREW = /usr/kerberos/bin:/home/smoker/bin:/usr/local/bin:/bin:/usr/bin:/usr/X11R6/bin:/pasid:.:/home/smoker/bin
PERL5LIB =
PERL5OPT =
PERL5_CPANPLUS_IS_RUNNING = 8620
PERL5_CPAN_IS_RUNNING = 8620
PERLBREW_BASHRC_VERSION = 0.39
PERLBREW_HOME = /home/smoker/.perlbrew
PERLBREW_MANPATH = /home/smoker/perl5/perlbrew/perls/perl-5.15.6/man
PERLBREW_PATH = /home/smoker/perl5/perlbrew/bin:/home/smoker/perl5/perlbrew/perls/perl-5.15.6/bin
PERLBREW_PERL = perl-5.15.6
PERLBREW_ROOT = /home/smoker/perl5/perlbrew
PERLBREW_VERSION = 0.39
SHELL = /bin/bash
TERM = screen
Perl special variables (and OS-specific diagnostics, for MSWin32):
$^X = /home/smoker/perl5/perlbrew/perls/perl-5.15.6/bin/perl5.15.6
$UID/$EUID = 500 / 500
$GID = 500 500
$EGID = 500 500
Perl module toolchain versions installed:
Module Have
------------------- --------
CPAN 1.9800
CPAN::Meta 2.113640
Cwd 3.38
ExtUtils::CBuilder 0.280205
ExtUtils::Command 1.17
ExtUtils::Install 1.57
ExtUtils::MakeMaker 6.63_02
ExtUtils::Manifest 1.60
ExtUtils::ParseXS 3.08
File::Spec 3.34
JSON 2.53
JSON::PP 2.27200
Module::Build 0.39_01
Module::Signature 0.68
Parse::CPAN::Meta 1.4401
Test::Harness 3.23
Test::More 0.98
YAML n/a
YAML::Syck n/a
version 0.96
--
Summary of my perl5 (revision 5 version 15 subversion 6) configuration:
Platform:
osname=linux, osvers=2.6.10-1.771_fc2, archname=i686-linux
uname='linux engine-smoker.localdomain 2.6.10-1.771_fc2 #1 mon mar 28 00:50:14 est 2005 i686 i686 i386 gnulinux '
config_args='-de -Dprefix=/home/smoker/perl5/perlbrew/perls/perl-5.15.6 -Dusedevel'
hint=recommended, useposix=true, d_sigaction=define
useithreads=undef, usemultiplicity=undef
useperlio=define, d_sfio=undef, uselargefiles=define, usesocks=undef
use64bitint=undef, use64bitall=undef, uselongdouble=undef
usemymalloc=n, bincompat5005=undef
Compiler:
cc='cc', ccflags ='-fno-strict-aliasing -pipe -I/usr/local/include -D_LARGEFILE_SOURCE -D_FILE_OFFSET_BITS=64',
optimize='-O2',
cppflags='-fno-strict-aliasing -pipe -I/usr/local/include'
ccversion='', gccversion='3.3.3 20040412 (Red Hat Linux 3.3.3-7)', gccosandvers=''
intsize=4, longsize=4, ptrsize=4, doublesize=8, byteorder=1234
d_longlong=define, longlongsize=8, d_longdbl=define, longdblsize=12
ivtype='long', ivsize=4, nvtype='double', nvsize=8, Off_t='off_t', lseeksize=8
alignbytes=4, prototype=define
Linker and Libraries:
ld='cc', ldflags =' -L/usr/local/lib'
libpth=/usr/local/lib /lib /usr/lib
libs=-lnsl -ldl -lm -lcrypt -lutil -lc
perllibs=-lnsl -ldl -lm -lcrypt -lutil -lc
libc=/lib/libc-2.3.3.so, so=so, useshrplib=false, libperl=libperl.a
gnulibc_version='2.3.3'
Dynamic Linking:
dlsrc=dl_dlopen.xs, dlext=so, d_dlsymun=undef, ccdlflags='-Wl,-E'
cccdlflags='-fPIC', lddlflags='-shared -O2 -L/usr/local/lib'
Characteristics of this binary (from libperl):
Compile-time options: HAS_TIMES PERLIO_LAYERS PERL_DONT_CREATE_GVSV
PERL_MALLOC_WRAP PERL_PRESERVE_IVUV PERL_USE_DEVEL
USE_LARGE_FILES USE_LOCALE USE_LOCALE_COLLATE
USE_LOCALE_CTYPE USE_LOCALE_NUMERIC USE_PERLIO
USE_PERL_ATOF
Built under linux
Compiled at Jan 9 2012 20:53:12
%ENV:
PERL5LIB=""
PERL5OPT=""
PERL5_CPANPLUS_IS_RUNNING="8620"
PERL5_CPAN_IS_RUNNING="8620"
PERLBREW_BASHRC_VERSION="0.39"
PERLBREW_HOME="/home/smoker/.perlbrew"
PERLBREW_MANPATH="/home/smoker/perl5/perlbrew/perls/perl-5.15.6/man"
PERLBREW_PATH="/home/smoker/perl5/perlbrew/bin:/home/smoker/perl5/perlbrew/perls/perl-5.15.6/bin"
PERLBREW_PERL="perl-5.15.6"
PERLBREW_ROOT="/home/smoker/perl5/perlbrew"
PERLBREW_VERSION="0.39"
@INC:
/home/smoker/perl5/perlbrew/perls/perl-5.15.6/lib/site_perl/5.15.6/i686-linux
/home/smoker/perl5/perlbrew/perls/perl-5.15.6/lib/site_perl/5.15.6
/home/smoker/perl5/perlbrew/perls/perl-5.15.6/lib/5.15.6/i686-linux
/home/smoker/perl5/perlbrew/perls/perl-5.15.6/lib/5.15.6
.