Text-Amuse-Preprocessor v0.64 Perl 5 v5.18.4 x86_64-linux

Status
Pass
From
Slaven Rezić
Dist
Text-Amuse-Preprocessor v0.64
Platform
Perl 5 v5.18.4 x86_64-linux
Date
2020-11-05 20:33:57
ID
3ae96d84-1fa6-11eb-a6a9-4c7a1f24ea8f
This distribution has been tested as part of the CPAN Testers
project, supporting the Perl programming language.  See
http://wiki.cpantesters.org/ for more information or email
questions to cpan-testers-discuss@perl.org


--
Dear Marco Pessotto,

This is a computer-generated report for Text-Amuse-Preprocessor-0.64
on perl 5.18.4, created by CPAN-Reporter-1.2018.

Thank you for uploading your work to CPAN.  Congratulations!
All tests were successful.

Sections of this report:

    * Tester comments
    * Program output
    * Prerequisites
    * Environment and other context

------------------------------
TESTER COMMENTS
------------------------------

Additional comments from tester:

none provided

------------------------------
PROGRAM OUTPUT
------------------------------

Output from '/usr/bin/make test':

PERL_DL_NONLAZY=1 /opt/perl-5.18.4/bin/perl5.18.4 "-MExtUtils::Command::MM" "-e" "test_harness(0, 'blib/lib', 'blib/arch')" t/*.t
# Testing Text::Amuse::Preprocessor 0.64, Perl 5.018004, /opt/perl-5.18.4/bin/perl5.18.4
t/00-load.t ........... ok
t/changes.t ........... skipped: Changes testing not required (or Test::CPAN::Changes not found)
t/chars.t ............. ok
# Using /var/tmp/cpansmoker-1023/2020110518/edrjTR6kO1 for ligatures
# Using /var/tmp/cpansmoker-1023/2020110518/8T2_IfJlIa for missing_nl
# Using /var/tmp/cpansmoker-1023/2020110518/bZzHMpHPZf for garbage
# Using /var/tmp/cpansmoker-1023/2020110518/pso45x5X7B for ellipsis_no_fix
# Using /var/tmp/cpansmoker-1023/2020110518/isnPIUOEs_ for ellipsis
# Using /var/tmp/cpansmoker-1023/2020110518/Y8d2WsHsqS for links
# Using /var/tmp/cpansmoker-1023/2020110518/1T11Vn7nmP for en
# Using /var/tmp/cpansmoker-1023/2020110518/QFM9MmPj1x for fi
# Using /var/tmp/cpansmoker-1023/2020110518/Cqdsm5EyE8 for es
# Using /var/tmp/cpansmoker-1023/2020110518/DCUgfyxiwI for sr
# Using /var/tmp/cpansmoker-1023/2020110518/8z3snXM5Fm for hr
# Using /var/tmp/cpansmoker-1023/2020110518/R_YVGVIa4p for ru
# Using /var/tmp/cpansmoker-1023/2020110518/KDRa9zv8XF for it
# Using /var/tmp/cpansmoker-1023/2020110518/LKy5DRHw6i for mk
# Using /var/tmp/cpansmoker-1023/2020110518/PtuPc4RQIi for sv
# Using /var/tmp/cpansmoker-1023/2020110518/fhZiua7G5S for de
# Using /var/tmp/cpansmoker-1023/2020110518/iM1WdVOzR9 for pl
# Using /var/tmp/cpansmoker-1023/2020110518/3f8wLfluBz for bg
# Using /var/tmp/cpansmoker-1023/2020110518/ctnXL40qB3 for fr
# Using /var/tmp/cpansmoker-1023/2020110518/YakQ6nqmnS for pt
# Using /var/tmp/cpansmoker-1023/2020110518/IqZxopxktr for sq
# Using /var/tmp/cpansmoker-1023/2020110518/Slpj25YOMe for da
# Using /var/tmp/cpansmoker-1023/2020110518/W5hrnMIbPk for nl
# Using /var/tmp/cpansmoker-1023/2020110518/HMhXIYY0Z0 for id
# Using /var/tmp/cpansmoker-1023/2020110518/vBMyR9keXO for Full example
# Using /var/tmp/cpansmoker-1023/2020110518/bnKuIN5j5K for Quote
# Using /var/tmp/cpansmoker-1023/2020110518/SZcapauZKr for Quote
# Using /var/tmp/cpansmoker-1023/2020110518/WWqKsOsjjo for Nl quotation
t/common.t ............ ok
t/crash-on-verb.t ..... ok
# $VAR1 = "#title Test
# #lang en
# 
# 0
# 
# \x{201c}0\x{201d}
# 
# 0
# ";
# $VAR1 = "#title Test
# #lang en
# 
# 0
# 
# \x{201c}0\x{201d}
# 
# 0
# ";
t/crash_on_loop.t ..... ok
# /var/tmp/cpansmoker-1023/2020110518/uPF5WSvYQo/verbatim-in.muse
# /var/tmp/cpansmoker-1023/2020110518/uPF5WSvYQo
t/exclude-verbatim.t .. ok
# Testing t/footnotes/good.in => t/footnotes/good.out
# Testing t/footnotes/good2.in => t/footnotes/good2.out
# Testing t/footnotes/good3.in => t/footnotes/good3.out
# Testing t/footnotes/mixed.in => t/footnotes/mixed.out
# Testing t/footnotes/indentation.in => t/footnotes/indentation.out
# Testing t/footnotes/sec-good.in => t/footnotes/sec-good.out
# Testing t/footnotes/sec-good2.in => t/footnotes/sec-good2.out
# Testing t/footnotes/sec-good3.in => t/footnotes/sec-good3.out
# Testing t/footnotes/sec-bad.in => t/footnotes/sec-bad.out
# @@ -1 +1,2 @@
# -{4}
# +{3}
# +{3}
# Testing t/footnotes/sec-bad2.in => t/footnotes/sec-bad2.out
# @@ -1,3 +1,2 @@
# -{4}
# +{3}
# -{5}
# +{3}
# -{6}
# Testing t/footnotes/bad.in => t/footnotes/bad.out
# @@ -1,2 +1,3 @@
#  [1]
# -[1]
# +[2]
# +[4]
# Testing t/footnotes/bad2.in => t/footnotes/bad2.out
# @@ -1,4 +1,3 @@
#  [1]
# -[1]
# +[2]
#  [4]
# -[5]
t/footnotes.t ......... ok
tagpile mismatch: root, p
t/html-2.t ............ ok
# Using /var/tmp/cpansmoker-1023/2020110518/1ghp02YVBA.html
# Using /var/tmp/cpansmoker-1023/2020110518/V4jmRD2DQn.html
# Using /var/tmp/cpansmoker-1023/2020110518/56j4rk8Gak.html
# Using /var/tmp/cpansmoker-1023/2020110518/_3RyE55BWt.html
# Using /var/tmp/cpansmoker-1023/2020110518/LMhwqR3GXn.html
# Using /var/tmp/cpansmoker-1023/2020110518/7q8i3CS2pd.html
# Using /var/tmp/cpansmoker-1023/2020110518/JxVLfPBU27.html
# Using /var/tmp/cpansmoker-1023/2020110518/iHZ1lRfBUW.html
# Using /var/tmp/cpansmoker-1023/2020110518/Uq4PJ0Fqx6.html
# Using /var/tmp/cpansmoker-1023/2020110518/JqTlzl6Xpi.html
# Using /var/tmp/cpansmoker-1023/2020110518/4kEgq5H_Jd.html
# Using /var/tmp/cpansmoker-1023/2020110518/HDJmWeOasg.html
# Using /var/tmp/cpansmoker-1023/2020110518/JAkSKifAaI.html
# Using /var/tmp/cpansmoker-1023/2020110518/hhgrr_iba2.html
# Using /var/tmp/cpansmoker-1023/2020110518/KO1qxGrtBB.html
# Using /var/tmp/cpansmoker-1023/2020110518/yvMAa1OIFW.html
# Using /var/tmp/cpansmoker-1023/2020110518/M8DdpFUkg2.html
t/html.t .............. ok
t/manifest.t .......... skipped: Author tests not required for installation
t/memory-cycles.t ..... skipped: Test::Memory::Cycle required for testing memory cycles
t/nbsp.t .............. ok
# Infile is /var/tmp/cpansmoker-1023/2020110518/_bbY8lSohE/input.txt
# Using /var/tmp/cpansmoker-1023/2020110518/qOurnQpvSV as temporary dir
t/object.t ............ ok
t/pod-coverage.t ...... skipped: Pod coverage not required for installation
t/pod.t ............... skipped: Pod test not required for installation
t/russian.t ........... ok
t/subs.t .............. ok
t/typography.t ........ ok
All tests successful.
Files=19, Tests=430,  2 wallclock secs ( 0.04 usr  0.15 sys +  1.48 cusr  0.44 csys =  2.11 CPU)
Result: PASS

------------------------------
PREREQUISITES
------------------------------

Prerequisite modules loaded:

requires:

    Module              Need Have    
    ------------------- ---- --------
    HTML::PullParser    0    3.75    
    IO::HTML            1    1.001   
    Pod::Simple::Wiki   0.19 0.20    
    Text::Amuse         0.95 1.70    
    Text::Diff          0    1.45    

build_requires:

    Module              Need Have    
    ------------------- ---- --------
    Test::More          0    1.302164

configure_requires:

    Module              Need Have    
    ------------------- ---- --------
    ExtUtils::MakeMaker 0    6.66    


------------------------------
ENVIRONMENT AND OTHER CONTEXT
------------------------------

Environment variables:

    LANG = en_US.UTF-8
    PATH = /usr/local/bin:/usr/bin:/bin:/usr/local/sbin:/usr/sbin:/sbin:/home/cpansand/bin/linux-gnu:/home/cpansand/bin/sh:/home/cpansand/bin:/usr/games:/home/cpansand/devel:/home/eserte/src/srezic-misc/scripts
    PERL5LIB = /home/cpansand/.cpan/build/2020110518/HTML-Parser-3.75-TqwnCt/blib/arch:/home/cpansand/.cpan/build/2020110518/HTML-Parser-3.75-TqwnCt/blib/lib:/home/cpansand/.cpan/build/2020110518/HTML-Tagset-3.20-Xrg3Y8/blib/arch:/home/cpansand/.cpan/build/2020110518/HTML-Tagset-3.20-Xrg3Y8/blib/lib:/home/cpansand/.cpan/build/2020110518/Text-Amuse-1.70-XSytHk/blib/arch:/home/cpansand/.cpan/build/2020110518/Text-Amuse-1.70-XSytHk/blib/lib:/home/cpansand/.cpan/build/2020110518/Pod-Simple-Wiki-0.20-dwYWLR/blib/arch:/home/cpansand/.cpan/build/2020110518/Pod-Simple-Wiki-0.20-dwYWLR/blib/lib
    PERL5OPT = 
    PERL5_CPANPLUS_IS_RUNNING = 23646
    PERL5_CPAN_IS_RUNNING = 23646
    PERL5_CPAN_IS_RUNNING_IN_RECURSION = 23580,23646
    PERLDOC = -MPod::Perldoc::ToTextOverstrike
    PERL_BATCH = yes
    PERL_CANARY_STABILITY_NOPROMPT = 1
    PERL_CPAN_REPORTER_CONFIG = /var/tmp/cpansmoker-1023/2020110518/cpanreporter_000_config.ini
    PERL_EXTUTILS_AUTOINSTALL = --defaultdeps
    SHELL = /usr/bin/zsh
    TERM = screen
    TMPDIR = /var/tmp/cpansmoker-1023/2020110518

Perl special variables (and OS-specific diagnostics, for MSWin32):

    $^X = /opt/perl-5.18.4/bin/perl5.18.4
    $UID/$EUID = 1023 / 1023
    $GID = 1023 1023
    $EGID = 1023 1023

Perl module toolchain versions installed:

    Module              Have    
    ------------------- --------
    CPAN                2.00    
    CPAN::Meta          2.150010
    Cwd                 3.40    
    ExtUtils::CBuilder  0.280210
    ExtUtils::Command   1.17    
    ExtUtils::Install   1.59    
    ExtUtils::MakeMaker 6.66    
    ExtUtils::Manifest  1.63    
    ExtUtils::ParseXS   3.18    
    File::Spec          3.40    
    JSON                4.02    
    JSON::PP            4.04    
    Module::Build       0.4229  
    Module::Signature   n/a     
    Parse::CPAN::Meta   2.150010
    Test::Harness       3.42    
    Test::More          1.302164
    YAML                1.29    
    YAML::Syck          1.31    
    version             0.9902  


--

Summary of my perl5 (revision 5 version 18 subversion 4) configuration:
   
  Platform:
    osname=linux, osvers=4.4.0-157-generic, archname=x86_64-linux
    uname='linux ubuntu16 4.4.0-157-generic #185-ubuntu smp tue jul 23 09:17:01 utc 2019 x86_64 x86_64 x86_64 gnulinux '
    config_args='-ds -e -Dprefix=/opt/perl-5.18.4 -Dcf_email=srezic@cpan.org'
    hint=recommended, useposix=true, d_sigaction=define
    useithreads=undef, usemultiplicity=undef
    useperlio=define, d_sfio=undef, uselargefiles=define, usesocks=undef
    use64bitint=define, use64bitall=define, uselongdouble=undef
    usemymalloc=n, bincompat5005=undef
  Compiler:
    cc='cc', ccflags ='-fwrapv -fno-strict-aliasing -pipe -fstack-protector -I/usr/local/include -D_LARGEFILE_SOURCE -D_FILE_OFFSET_BITS=64',
    optimize='-O2',
    cppflags='-fwrapv -fno-strict-aliasing -pipe -fstack-protector -I/usr/local/include'
    ccversion='', gccversion='5.4.0 20160609', gccosandvers=''
    intsize=4, longsize=8, ptrsize=8, doublesize=8, byteorder=12345678
    d_longlong=define, longlongsize=8, d_longdbl=define, longdblsize=16
    ivtype='long', ivsize=8, nvtype='double', nvsize=8, Off_t='off_t', lseeksize=8
    alignbytes=8, prototype=define
  Linker and Libraries:
    ld='cc', ldflags =' -fstack-protector -L/usr/local/lib'
    libpth=/usr/local/lib /lib/x86_64-linux-gnu /lib/../lib /usr/lib/x86_64-linux-gnu /usr/lib/../lib /lib /usr/lib
    libs=-lnsl -ldb -ldl -lm -lcrypt -lutil -lc
    perllibs=-lnsl -ldl -lm -lcrypt -lutil -lc
    libc=libc-2.23.so, so=so, useshrplib=false, libperl=libperl.a
    gnulibc_version='2.23'
  Dynamic Linking:
    dlsrc=dl_dlopen.xs, dlext=so, d_dlsymun=undef, ccdlflags='-Wl,-E'
    cccdlflags='-fPIC', lddlflags='-shared -O2 -L/usr/local/lib -fstack-protector'


Characteristics of this binary (from libperl): 
  Compile-time options: HAS_TIMES PERLIO_LAYERS PERL_DONT_CREATE_GVSV
                        PERL_HASH_FUNC_ONE_AT_A_TIME_HARD PERL_MALLOC_WRAP
                        PERL_PRESERVE_IVUV PERL_SAWAMPERSAND USE_64_BIT_ALL
                        USE_64_BIT_INT USE_LARGE_FILES USE_LOCALE
                        USE_LOCALE_COLLATE USE_LOCALE_CTYPE
                        USE_LOCALE_NUMERIC USE_PERLIO USE_PERL_ATOF
  Locally applied patches:
	Devel::PatchPerl 1.64
  Built under linux
  Compiled at Aug  6 2019 18:40:30
  %ENV:
    PERL5LIB="/home/cpansand/.cpan/build/2020110518/HTML-Parser-3.75-TqwnCt/blib/arch:/home/cpansand/.cpan/build/2020110518/HTML-Parser-3.75-TqwnCt/blib/lib:/home/cpansand/.cpan/build/2020110518/HTML-Tagset-3.20-Xrg3Y8/blib/arch:/home/cpansand/.cpan/build/2020110518/HTML-Tagset-3.20-Xrg3Y8/blib/lib:/home/cpansand/.cpan/build/2020110518/Text-Amuse-1.70-XSytHk/blib/arch:/home/cpansand/.cpan/build/2020110518/Text-Amuse-1.70-XSytHk/blib/lib:/home/cpansand/.cpan/build/2020110518/Pod-Simple-Wiki-0.20-dwYWLR/blib/arch:/home/cpansand/.cpan/build/2020110518/Pod-Simple-Wiki-0.20-dwYWLR/blib/lib"
    PERL5OPT=""
    PERL5_CPANPLUS_IS_RUNNING="23646"
    PERL5_CPAN_IS_RUNNING="23646"
    PERL5_CPAN_IS_RUNNING_IN_RECURSION="23580,23646"
    PERLDOC="-MPod::Perldoc::ToTextOverstrike"
    PERL_BATCH="yes"
    PERL_CANARY_STABILITY_NOPROMPT="1"
    PERL_CPAN_REPORTER_CONFIG="/var/tmp/cpansmoker-1023/2020110518/cpanreporter_000_config.ini"
    PERL_EXTUTILS_AUTOINSTALL="--defaultdeps"
  @INC:
    /home/cpansand/.cpan/build/2020110518/HTML-Parser-3.75-TqwnCt/blib/arch
    /home/cpansand/.cpan/build/2020110518/HTML-Parser-3.75-TqwnCt/blib/lib
    /home/cpansand/.cpan/build/2020110518/HTML-Tagset-3.20-Xrg3Y8/blib/arch
    /home/cpansand/.cpan/build/2020110518/HTML-Tagset-3.20-Xrg3Y8/blib/lib
    /home/cpansand/.cpan/build/2020110518/Text-Amuse-1.70-XSytHk/blib/arch
    /home/cpansand/.cpan/build/2020110518/Text-Amuse-1.70-XSytHk/blib/lib
    /home/cpansand/.cpan/build/2020110518/Pod-Simple-Wiki-0.20-dwYWLR/blib/arch
    /home/cpansand/.cpan/build/2020110518/Pod-Simple-Wiki-0.20-dwYWLR/blib/lib
    /opt/perl-5.18.4/lib/site_perl/5.18.4/x86_64-linux
    /opt/perl-5.18.4/lib/site_perl/5.18.4
    /opt/perl-5.18.4/lib/5.18.4/x86_64-linux
    /opt/perl-5.18.4/lib/5.18.4
    .