Report for XML-RSS-1.56

Back
From: metabase:user:32904986-c427-11df-a07f-b497e104d833
Subject: PASS XML-RSS-1.56 v5.16.2 Mac OS X
Date: 2014-12-07T20:18:38Z

This distribution has been tested as part of the CPAN Testers
project, supporting the Perl programming language.  See
http://wiki.cpantesters.org/ for more information or email
questions to cpan-testers-discuss@perl.org


--
Dear Shlomi Fish,

This is a computer-generated report for XML-RSS-1.56
on perl 5.16.2, created by CPAN-Reporter-1.2011.

Thank you for uploading your work to CPAN.  Congratulations!
All tests were successful.

Sections of this report:

    * Tester comments
    * Program output
    * Prerequisites
    * Environment and other context

------------------------------
TESTER COMMENTS
------------------------------

Additional comments from tester:

none provided

------------------------------
PROGRAM OUTPUT
------------------------------

Output from './Build test':

t/load.t .............................. ok
t/pod.t ............................... ok
t/cpan-changes.t ...................... ok
t/style-trailing-space.t .............. ok
t/version.t ........................... ok
t/render-upon-init.t .................. ok
t/encoding.t .......................... ok
t/0.9-generate.t ...................... ok
t/0.9-parse.t ......................... ok
t/0.9-strict.t ........................ ok
t/0.91-parse.t ........................ ok
t/1.0-generate.t ...................... ok
t/1.0-gen-errors-on-missing-fields.t .. ok
t/1.0-parse.t ......................... ok
t/1.0-parse-2.t ....................... ok
t/1.0-parse-exotic.t .................. ok
t/2.0-generate.t ...................... ok
t/2.0-modules.t ....................... ok
t/2.0-permalink.t ..................... ok
t/2.0-parse.t ......................... ok
t/2.0-parse-cloud.t ................... ok
t/2.0-parse-2.t ....................... ok
t/2.0-parse-self.t .................... ok
t/2.0-wo-title.t ...................... ok
t/1.0-to-2.0.t ........................ ok
t/auto_add_modules.t .................. ok
t/enclosures.t ........................ ok
t/enclosures2.t ....................... ok
t/enclosures-multi.t .................. ok
t/encode-output.t ..................... ok
t/test-generated-items.t .............. ok
t/pod-coverage.t ...................... ok
t/rss2-gt-encoding.t .................. ok
t/charset1.t .......................... ok
t/xml-header.t ........................ ok
t/add-item-insert-vs-append.t ......... ok
t/guid.t .............................. ok
t/xml-base.t .......................... ok
t/save-while-in-taint-mode.t .......... ok
All tests successful.
Files=39, Tests=459,  5 wallclock secs ( 0.15 usr  0.06 sys +  4.48 cusr  0.41 csys =  5.10 CPU)
Result: PASS

------------------------------
PREREQUISITES
------------------------------

Prerequisite modules loaded:

requires:

    Module                   Need  Have    
    ------------------------ ----- --------
    DateTime                 0     1.12    
    DateTime::Format::Mail   0     0.401   
    DateTime::Format::W3CDTF 0     0.06    
    HTML::Entities           0     3.69    
    perl                     5.008 5.016002
    XML::Parser              2.23  2.41    

build_requires:

    Module                   Need  Have    
    ------------------------ ----- --------
    Test::Manifest           0.9   2.02    
    Test::More               0     1.001009

configure_requires:

    Module                   Need  Have    
    ------------------------ ----- --------
    Module::Build            0.36  0.4210  


------------------------------
ENVIRONMENT AND OTHER CONTEXT
------------------------------

Environment variables:

    LC_CTYPE = UTF-8
    PATH = /usr/bin:/bin:/usr/sbin:/sbin:/usr/local/bin:/opt/X11/bin:/usr/local/MacGPG2/bin
    PERL5LIB = 
    PERL5OPT = 
    PERL5_CPANPLUS_IS_RUNNING = 99895
    PERL5_CPAN_IS_RUNNING = 99895
    SHELL = /bin/bash
    TERM = xterm-256color
    TMPDIR = /var/folders/c5/867l5h614bs44szg7g2t48fr0000gn/T/
    VERSIONER_PERL_PREFER_32_BIT = no
    VERSIONER_PERL_VERSION = 5.16

Perl special variables (and OS-specific diagnostics, for MSWin32):

    $^X = /usr/bin/perl
    $UID/$EUID = 501 / 501
    $GID = 20 20 401 12 61 79 80 81 98 402 33 100 204 398 399
    $EGID = 20 20 401 12 61 79 80 81 98 402 33 100 204 398 399

Perl module toolchain versions installed:

    Module              Have    
    ------------------- --------
    CPAN                2.05    
    CPAN::Meta          2.143240
    Cwd                 3.47    
    ExtUtils::CBuilder  0.280220
    ExtUtils::Command   1.18    
    ExtUtils::Install   2.04    
    ExtUtils::MakeMaker 7.04    
    ExtUtils::Manifest  1.69    
    ExtUtils::ParseXS   3.24    
    File::Spec          3.47    
    JSON                2.90    
    JSON::PP            2.27300 
    Module::Build       0.4210  
    Module::Signature   0.73    
    Parse::CPAN::Meta   1.4414  
    Test::Harness       3.34    
    Test::More          1.001009
    YAML                1.13    
    YAML::Syck          1.27    
    version             0.9909  


--

Summary of my perl5 (revision 5 version 16 subversion 2) configuration:
   
  Platform:
    osname=darwin, osvers=13.0, archname=darwin-thread-multi-2level
    uname='darwin b1003.apple.com 13.0 darwin kernel version 13.0.0: tue jul 30 20:52:22 pdt 2013; root:xnu-2422.1.53~3release_x86_64 x86_64 '
    config_args='-ds -e -Dprefix=/usr -Dccflags=-g  -pipe  -Dldflags= -Dman3ext=3pm -Duseithreads -Duseshrplib -Dinc_version_list=none -Dcc=cc'
    hint=recommended, useposix=true, d_sigaction=define
    useithreads=define, usemultiplicity=define
    useperlio=define, d_sfio=undef, uselargefiles=define, usesocks=undef
    use64bitint=define, use64bitall=define, uselongdouble=undef
    usemymalloc=n, bincompat5005=undef
  Compiler:
    cc='cc', ccflags ='-arch x86_64 -arch i386 -g -pipe -fno-common -DPERL_DARWIN -fno-strict-aliasing -fstack-protector -I/usr/local/include',
    optimize='-Os',
    cppflags='-g -pipe -fno-common -DPERL_DARWIN -fno-strict-aliasing -fstack-protector -I/usr/local/include'
    ccversion='', gccversion='4.2.1 Compatible Apple LLVM 5.0 (clang-500.0.68)', gccosandvers=''
    intsize=4, longsize=8, ptrsize=8, doublesize=8, byteorder=12345678
    d_longlong=define, longlongsize=8, d_longdbl=define, longdblsize=16
    ivtype='long', ivsize=8, nvtype='double', nvsize=8, Off_t='off_t', lseeksize=8
    alignbytes=8, prototype=define
  Linker and Libraries:
    ld='cc -mmacosx-version-min=10.9', ldflags ='-arch x86_64 -arch i386 -fstack-protector -L/usr/local/lib'
    libpth=/usr/local/lib /usr/lib
    libs= 
    perllibs=
    libc=, so=dylib, useshrplib=true, libperl=libperl.dylib
    gnulibc_version=''
  Dynamic Linking:
    dlsrc=dl_dlopen.xs, dlext=bundle, d_dlsymun=undef, ccdlflags=' '
    cccdlflags=' ', lddlflags='-arch x86_64 -arch i386 -bundle -undefined dynamic_lookup -L/usr/local/lib -fstack-protector'


Characteristics of this binary (from libperl): 
  Compile-time options: HAS_TIMES MULTIPLICITY PERLIO_LAYERS
                        PERL_DONT_CREATE_GVSV PERL_IMPLICIT_CONTEXT
                        PERL_MALLOC_WRAP PERL_PRESERVE_IVUV USE_64_BIT_ALL
                        USE_64_BIT_INT USE_ITHREADS USE_LARGE_FILES
                        USE_LOCALE USE_LOCALE_COLLATE USE_LOCALE_CTYPE
                        USE_LOCALE_NUMERIC USE_PERLIO USE_PERL_ATOF
                        USE_REENTRANT_API
  Locally applied patches:
	/Library/Perl/Updates/<version> comes before system perl directories
	installprivlib and installarchlib points to the Updates directory
	CVE-2013-1667 hashtable DOS fix
  Built under darwin
  Compiled at Sep 12 2013 22:44:37
  %ENV:
    PERL5LIB=""
    PERL5OPT=""
    PERL5_CPANPLUS_IS_RUNNING="99895"
    PERL5_CPAN_IS_RUNNING="99895"
  @INC:
    /Library/Perl/5.16/darwin-thread-multi-2level
    /Library/Perl/5.16
    /Network/Library/Perl/5.16/darwin-thread-multi-2level
    /Network/Library/Perl/5.16
    /Library/Perl/Updates/5.16.2/darwin-thread-multi-2level
    /Library/Perl/Updates/5.16.2
    /System/Library/Perl/5.16/darwin-thread-multi-2level
    /System/Library/Perl/5.16
    /System/Library/Perl/Extras/5.16/darwin-thread-multi-2level
    /System/Library/Perl/Extras/5.16
    .