POE-Component-SmokeBox v0.58 Perl 5 v5.30.3 x86_64-linux

Status
Pass
From
Slaven Rezić
Dist
POE-Component-SmokeBox v0.58
Platform
Perl 5 v5.30.3 x86_64-linux
Date
2023-05-29 11:44:54
ID
3ab1a6a0-fe16-11ed-a2c8-2ae96d8775ea
This distribution has been tested as part of the CPAN Testers
project, supporting the Perl programming language.  See
http://wiki.cpantesters.org/ for more information or email
questions to cpan-testers-discuss@perl.org


--
Dear Chris Williams,

This is a computer-generated report for POE-Component-SmokeBox-0.58
on perl 5.30.3, created by CPAN-Reporter-1.2018.

Thank you for uploading your work to CPAN.  Congratulations!
All tests were successful.

Sections of this report:

    * Tester comments
    * Program output
    * Prerequisites
    * Environment and other context

------------------------------
TESTER COMMENTS
------------------------------

Additional comments from tester:

none provided

------------------------------
PROGRAM OUTPUT
------------------------------

Output from '/usr/bin/make test':

PERL_DL_NONLAZY=1 "/opt/perl-5.30.3/bin/perl" "-MExtUtils::Command::MM" "-MTest::Harness" "-e" "undef *Test::Harness::Switches; test_harness(0, 'blib/lib', 'blib/arch')" t/*.t t/backend/*.t t/jobqueue/*.t t/smokebox/*.t
t/00-compile.t ..................... ok
# 
# 
# Testing POE::Component::SmokeBox-0.58
# 
# 
# 
# Code borrowed from XML::Twig by MIROD
# 
# Configuration:
# 
# perl: 5.030003
# OS: linux - x86_64-linux
# 
# POE                      :            1.370 (required)
# Module::Pluggable        :              5.2 (required)
# Object::Accessor         :             0.48 (required)
# Params::Check            :             0.38 (required)
# Digest::MD5              :             2.58 (required)
# IO::Pty                  :             1.17 (strongly recommended)
# 
# Test::More               :         1.302194 (required for build)
# File::Spec               :             3.78 (required for build)
# 
t/00_dump_stuff.t .................. ok
t/00_use_objs.t .................... ok
t/01_objects.t ..................... ok
t/author-pod-coverage.t ............ skipped: these tests are for testing by the author
t/author-pod-syntax.t .............. skipped: these tests are for testing by the author
t/backend/00_compile.t ............. ok
t/backend/01_cpan_yac.t ............ ok
t/backend/01_cpanp_yac.t ........... ok
t/backend/01_crsmoker.t ............ ok
t/backend/01_reporter.t ............ ok
t/backend/02_check.t ............... ok
t/backend/02_index.t ............... ok
t/backend/02_smoke.t ............... ok
t/backend/03_check_cpyac.t ......... ok
t/backend/03_check_cyac.t .......... ok
t/backend/03_index_cpyac.t ......... ok
t/backend/03_index_cyac.t .......... ok
t/backend/03_smoke_cpyac.t ......... ok
t/backend/03_smoke_cyac.t .......... ok
t/backend/04_check_rep.t ........... ok
t/backend/04_check_reps.t .......... ok
t/backend/04_index_rep.t ........... ok
t/backend/04_index_reps.t .......... ok
t/backend/04_smoke_rep.t ........... ok
t/backend/04_smoke_reps.t .......... ok
t/backend/05_env.t ................. ok
No such backend 'CORE::Badger'
 at t/backend/06_false_backend.t line 23.
t/backend/06_false_backend.t ....... ok
# Waiting for the idle kill - should be 10 seconds or so
t/backend/07_test_idle.t ........... ok
# Waiting for the excessive run kill - should be 15 seconds or so
t/backend/08_test_excess.t ......... ok
# Waiting for the loop detection kill - could be anytime really.
t/backend/09_test_loop.t ........... ok
t/backend/10_test_normal.t ......... ok
t/backend/11_test_nolog.t .......... ok
t/backend/12_test_callback.t ....... ok
t/backend/13_test_callback_deny.t .. ok
t/jobqueue/00_compile.t ............ ok
t/jobqueue/01_jobqueue.t ........... ok
t/jobqueue/02_smokers.t ............ ok
# Waiting five seconds for the dust to settle
t/jobqueue/03_paused.t ............. ok
t/jobqueue/03_paused_between.t ..... ok
t/jobqueue/03_paused_now.t ......... ok
Required option 'smokers' is not provided for POE::Component::SmokeBox::JobQueue::_submit by POE::Session::_invoke_state at /opt/perl-5.30.3/lib/site_perl/5.30.3/POE/Session.pm line 483.
t/jobqueue/04_no_smokers.t ......... ok
t/jobqueue/05_delay.t .............. ok
t/smokebox/00_compile.t ............ ok
t/smokebox/01_usage.t .............. ok
t/smokebox/02_smokers.t ............ ok
t/smokebox/03_multiplicity.t ....... ok
t/smokebox/04_smokers_more.t ....... ok
t/smokebox/05_multi_smoke.t ........ ok
t/smokebox/06_many_jobs.t .......... ok
# Starting 25 jobs, this can take a while
t/smokebox/07_stress.t ............. ok
t/smokebox/08_delay.t .............. ok
t/smokebox/09_delay_delay.t ........ ok
All tests successful.
Files=53, Tests=1564, 153 wallclock secs ( 0.22 usr  0.05 sys + 15.44 cusr  1.73 csys = 17.44 CPU)
Result: PASS

------------------------------
PREREQUISITES
------------------------------

Prerequisite modules loaded:

requires:

    Module                 Need  Have    
    ---------------------- ----- --------
    Digest::SHA            0     6.04    
    Env::Sanctify          0.04  1.12    
    File::Path             0     2.16    
    File::Spec             0     3.78    
    File::Temp             0     0.2309  
    Module::Pluggable      0     5.2     
    Object::Accessor       0     0.48    
    Params::Check          0     0.38    
    perl                   5.006 5.030003
    POE                    1.367 1.370   
    Regexp::Assemble       0.34  0.38    
    SDBM_File              0     1.15    
    String::Perl::Warnings 0.04  1.16    

build_requires:

    Module                 Need  Have    
    ---------------------- ----- --------
    ExtUtils::MakeMaker    0     7.70    
    File::Spec             0     3.78    
    IO::Handle             0     1.48    
    IPC::Open3             0     1.20    
    Test::Harness          3.14  3.44    
    Test::More             0.47  1.302194

configure_requires:

    Module                 Need  Have    
    ---------------------- ----- --------
    ExtUtils::MakeMaker    0     7.70    


------------------------------
ENVIRONMENT AND OTHER CONTEXT
------------------------------

Environment variables:

    LANG = en_US.UTF-8
    PATH = /usr/local/bin:/usr/bin:/bin:/usr/local/sbin:/usr/sbin:/sbin:/home/cpansand/bin/linux-gnu:/home/cpansand/bin/sh:/home/cpansand/bin:/usr/games:/home/cpansand/devel:/home/eserte/src/srezic-misc/scripts
    PERL5LIB = 
    PERL5OPT = 
    PERL5_CPANPLUS_IS_RUNNING = 1869106
    PERL5_CPAN_IS_RUNNING = 1869106
    PERL5_CPAN_IS_RUNNING_IN_RECURSION = 1866141,1869106
    PERLDOC = -MPod::Perldoc::ToTextOverstrike
    PERL_BATCH = yes
    PERL_CANARY_STABILITY_NOPROMPT = 1
    PERL_CPAN_REPORTER_CONFIG = /var/tmp/cpansmoker-1023/2023052911/cpanreporter_000_config.ini
    PERL_EXTUTILS_AUTOINSTALL = --defaultdeps
    PERL_USE_UNSAFE_INC = 1
    SHELL = /usr/bin/zsh
    TERM = screen
    TMPDIR = /var/tmp/cpansmoker-1023/2023052911

Perl special variables (and OS-specific diagnostics, for MSWin32):

    $^X = /opt/perl-5.30.3/bin/perl
    $UID/$EUID = 1023 / 1023
    $GID = 1023 1023
    $EGID = 1023 1023

Perl module toolchain versions installed:

    Module              Have    
    ------------------- --------
    CPAN                2.22    
    CPAN::Meta          2.150010
    Cwd                 3.78    
    ExtUtils::CBuilder  0.280236
    ExtUtils::Command   7.70    
    ExtUtils::Install   2.14    
    ExtUtils::MakeMaker 7.70    
    ExtUtils::Manifest  1.72    
    ExtUtils::ParseXS   3.40    
    File::Spec          3.78    
    JSON                4.10    
    JSON::PP            4.13    
    Module::Build       0.4231  
    Module::Signature   n/a     
    Parse::CPAN::Meta   2.150010
    Test::Harness       3.44    
    Test::More          1.302194
    YAML                1.30    
    YAML::Syck          1.34    
    version             0.9924  


--

Summary of my perl5 (revision 5 version 30 subversion 3) configuration:
   
  Platform:
    osname=linux
    osvers=5.19.9-200.fc36.x86_64
    archname=x86_64-linux
    uname='linux cloud4.bbbike.org 5.19.9-200.fc36.x86_64 #1 smp preempt_dynamic thu sep 15 09:49:52 utc 2022 x86_64 x86_64 x86_64 gnulinux '
    config_args='-ds -e -Dprefix=/opt/perl-5.30.3 -Dcf_email=srezic@cpan.org'
    hint=recommended
    useposix=true
    d_sigaction=define
    useithreads=undef
    usemultiplicity=undef
    use64bitint=define
    use64bitall=define
    uselongdouble=undef
    usemymalloc=n
    default_inc_excludes_dot=define
    bincompat5005=undef
  Compiler:
    cc='cc'
    ccflags ='-fwrapv -fno-strict-aliasing -pipe -fstack-protector-strong -I/usr/local/include -D_LARGEFILE_SOURCE -D_FILE_OFFSET_BITS=64 -D_FORTIFY_SOURCE=2'
    optimize='-O2'
    cppflags='-fwrapv -fno-strict-aliasing -pipe -fstack-protector-strong -I/usr/local/include'
    ccversion=''
    gccversion='12.2.1 20220819 (Red Hat 12.2.1-2)'
    gccosandvers=''
    intsize=4
    longsize=8
    ptrsize=8
    doublesize=8
    byteorder=12345678
    doublekind=3
    d_longlong=define
    longlongsize=8
    d_longdbl=define
    longdblsize=16
    longdblkind=3
    ivtype='long'
    ivsize=8
    nvtype='double'
    nvsize=8
    Off_t='off_t'
    lseeksize=8
    alignbytes=8
    prototype=define
  Linker and Libraries:
    ld='cc'
    ldflags =' -fstack-protector-strong -L/usr/local/lib'
    libpth=/usr/local/lib /usr/lib /lib/../lib64 /usr/lib/../lib64 /lib /lib64 /usr/lib64 /usr/local/lib64
    libs=-lpthread -ldb -ldl -lm -lcrypt -lutil -lc
    perllibs=-lpthread -ldl -lm -lcrypt -lutil -lc
    libc=/lib/../lib64/libc.so.6
    so=so
    useshrplib=false
    libperl=libperl.a
    gnulibc_version='2.35'
  Dynamic Linking:
    dlsrc=dl_dlopen.xs
    dlext=so
    d_dlsymun=undef
    ccdlflags='-Wl,-E'
    cccdlflags='-fPIC'
    lddlflags='-shared -O2 -L/usr/local/lib -fstack-protector-strong'


Characteristics of this binary (from libperl): 
  Compile-time options:
    HAS_TIMES
    PERLIO_LAYERS
    PERL_COPY_ON_WRITE
    PERL_DONT_CREATE_GVSV
    PERL_MALLOC_WRAP
    PERL_OP_PARENT
    PERL_PRESERVE_IVUV
    USE_64_BIT_ALL
    USE_64_BIT_INT
    USE_LARGE_FILES
    USE_LOCALE
    USE_LOCALE_COLLATE
    USE_LOCALE_CTYPE
    USE_LOCALE_NUMERIC
    USE_LOCALE_TIME
    USE_PERLIO
    USE_PERL_ATOF
  Built under linux
  Compiled at Sep 23 2022 05:46:53
  %ENV:
    PERL5LIB=""
    PERL5OPT=""
    PERL5_CPANPLUS_IS_RUNNING="1869106"
    PERL5_CPAN_IS_RUNNING="1869106"
    PERL5_CPAN_IS_RUNNING_IN_RECURSION="1866141,1869106"
    PERLDOC="-MPod::Perldoc::ToTextOverstrike"
    PERL_BATCH="yes"
    PERL_CANARY_STABILITY_NOPROMPT="1"
    PERL_CPAN_REPORTER_CONFIG="/var/tmp/cpansmoker-1023/2023052911/cpanreporter_000_config.ini"
    PERL_EXTUTILS_AUTOINSTALL="--defaultdeps"
    PERL_USE_UNSAFE_INC="1"
  @INC:
    /opt/perl-5.30.3/lib/site_perl/5.30.3/x86_64-linux
    /opt/perl-5.30.3/lib/site_perl/5.30.3
    /opt/perl-5.30.3/lib/5.30.3/x86_64-linux
    /opt/perl-5.30.3/lib/5.30.3
    .