Report for Dist-Zilla-Plugin-RequiresExternal-1.005

Back
From: metabase:user:d19ceddc-2c3b-11e5-a2eb-e02be534f7ab
Subject: PASS Dist-Zilla-Plugin-RequiresExternal-1.005 v5.20.2 GNU/Linux
Date: 2015-07-17T07:27:07Z

This distribution has been tested as part of the CPAN Testers
project, supporting the Perl programming language.  See
http://wiki.cpantesters.org/ for more information or email
questions to cpan-testers-discuss@perl.org


--
Dear Mark Gardner,

This is a computer-generated report for Dist-Zilla-Plugin-RequiresExternal-1.005
on perl 5.20.2, created by CPAN-Reporter-1.2011.

Thank you for uploading your work to CPAN.  Congratulations!
All tests were successful.

Sections of this report:

    * Tester comments
    * Program output
    * Prerequisites
    * Environment and other context

------------------------------
TESTER COMMENTS
------------------------------

Additional comments from tester:

none provided

------------------------------
PROGRAM OUTPUT
------------------------------

Output from '/usr/bin/make test':

PERL_DL_NONLAZY=1 "/usr/bin/perl" "-MExtUtils::Command::MM" "-MTest::Harness" "-e" "undef *Test::Harness::Switches; test_harness(0, 'blib/lib', 'blib/arch')" t/*.t
t/00-compile.t .......................... ok
# Testing with Perl 5.020002, /usr/bin/perl
#     Carp version is 1.36
#     Dist::Zilla::File::InMemory version is 5.037
#     Dist::Zilla::Role::FileGatherer version is 5.037
#     Dist::Zilla::Role::MetaProvider version is 5.037
#     Dist::Zilla::Role::Plugin version is 5.037
#     Dist::Zilla::Role::TextTemplate version is 5.037
#     English version is 1.09
#     Env::Path version is 0.19
#     ExtUtils::MakeMaker version is 7.04
#     File::Spec version is 3.47
#     IO::Handle version is 1.35
#     IPC::Open3 version is 1.16
#     List::MoreUtils version is 0.410
#     Modern::Perl version is 1.20150127
#     Moose version is 2.1405
#     MooseX::AttributeShortcuts version is 0.024
#     MooseX::Types::Moose version is 0.45
#     Path::Class version is 0.35
#     Scalar::Util version is 1.42
#     Test::DZil version is 5.037
#     Test::More version is 1.001014
#     Test::Most version is 0.34
#     namespace::autoclean version is 0.24
#     strict version is 1.08
#     utf8 version is 1.13_01
#     warnings version is 1.23
t/000-report-versions.t ................. ok
t/author-critic.t ....................... skipped: these tests are for testing by the author
t/author-eol.t .......................... skipped: these tests are for testing by the author
t/author-no-tabs.t ...................... skipped: these tests are for testing by the author

#   Failed test 'this_is_supposed_to_fail in PATH'
#   at t/000-requires_external.t line 8.
# Looks like you failed 1 test of 1.
FAILED--Further testing stopped: Test failed.  BAIL OUT!.
make[1]: *** [test_dynamic] Error 255
t/fatal.t ............................... ok
t/release-changes_has_content.t ......... skipped: these tests are for release candidate testing
t/release-cpan-changes.t ................ skipped: these tests are for release candidate testing
t/release-dist-manifest.t ............... skipped: these tests are for release candidate testing
t/release-distmeta.t .................... skipped: these tests are for release candidate testing
t/release-kwalitee.t .................... skipped: these tests are for release candidate testing
t/release-localbrew-perl-5.10.1-TEST.t .. skipped: these tests are for release candidate testing
t/release-localbrew-perl-5.16.3-TEST.t .. skipped: these tests are for release candidate testing
t/release-localbrew-perl-5.18.4-TEST.t .. skipped: these tests are for release candidate testing
t/release-localbrew-perl-5.20.2-TEST.t .. skipped: these tests are for release candidate testing
t/release-localbrew-perl-5.22.0-TEST.t .. skipped: these tests are for release candidate testing
t/release-localbrew-perl-latest-TEST.t .. skipped: these tests are for release candidate testing
t/release-meta-json.t ................... skipped: these tests are for release candidate testing
t/release-minimum-version.t ............. skipped: these tests are for release candidate testing
t/release-mojibake.t .................... skipped: these tests are for release candidate testing
t/release-pod-coverage.t ................ skipped: these tests are for release candidate testing
t/release-pod-linkcheck.t ............... skipped: these tests are for release candidate testing
t/release-pod-syntax.t .................. skipped: these tests are for release candidate testing
t/release-portability.t ................. skipped: these tests are for release candidate testing
t/release-synopsis.t .................... skipped: these tests are for release candidate testing
t/release-system-localbrew.t ............ skipped: these tests are for release candidate testing
t/release-test-version.t ................ skipped: these tests are for release candidate testing
t/release-unused-vars.t ................. skipped: these tests are for release candidate testing
t/test.t ................................ ok
All tests successful.
Files=29, Tests=33, 14 wallclock secs ( 0.18 usr  0.05 sys + 12.73 cusr  0.66 csys = 13.62 CPU)
Result: PASS

------------------------------
PREREQUISITES
------------------------------

Prerequisite modules loaded:

requires:

    Module                          Need  Have      
    ------------------------------- ----- ----------
    Dist::Zilla::File::InMemory     0     5.037     
    Dist::Zilla::Role::FileGatherer 0     5.037     
    Dist::Zilla::Role::MetaProvider 0     5.037     
    Dist::Zilla::Role::Plugin       0     5.037     
    Dist::Zilla::Role::TextTemplate 0     5.037     
    English                         0     1.09      
    Env::Path                       0.18  0.19      
    List::MoreUtils                 0     0.410     
    Modern::Perl                    0     1.20150127
    Moose                           0     2.1405    
    MooseX::AttributeShortcuts      0     0.024     
    MooseX::Types::Moose            0     0.45      
    namespace::autoclean            0     0.24      
    Path::Class                     0     0.35      
    perl                            5.010 5.020002  
    Test::Most                      0     0.34      
    utf8                            0     1.13_01   

build_requires:

    Module                          Need  Have      
    ------------------------------- ----- ----------
    Carp                            0     1.36      
    Env::Path                       0.18  0.19      
    ExtUtils::MakeMaker             0     7.04      
    File::Spec                      0     3.47      
    IO::Handle                      0     1.35      
    IPC::Open3                      0     1.16      
    Scalar::Util                    0     1.42      
    strict                          0     1.08      
    Test::DZil                      0     5.037     
    Test::More                      0.94  1.001014  
    Test::Most                      0     0.34      
    warnings                        0     1.23      

configure_requires:

    Module                          Need  Have      
    ------------------------------- ----- ----------
    ExtUtils::MakeMaker             0     7.04      


------------------------------
ENVIRONMENT AND OTHER CONTEXT
------------------------------

Environment variables:

    LANG = en_US.UTF-8
    PATH = /usr/local/bin:/usr/local/sbin:/usr/bin:/usr/sbin:/bin:/sbin:/root/bin
    PERL5LIB = 
    PERL5OPT = 
    PERL5_CPANPLUS_IS_RUNNING = 5420
    PERL5_CPAN_IS_RUNNING = 5420
    SHELL = /bin/bash
    TERM = xterm-256color

Perl special variables (and OS-specific diagnostics, for MSWin32):

    $^X = /usr/bin/perl
    $UID/$EUID = 0 / 0
    $GID = 0 0
    $EGID = 0 0

Perl module toolchain versions installed:

    Module              Have    
    ------------------- --------
    CPAN                2.10    
    CPAN::Meta          2.150001
    Cwd                 3.47    
    ExtUtils::CBuilder  0.280220
    ExtUtils::Command   1.20    
    ExtUtils::Install   2.04    
    ExtUtils::MakeMaker 7.04    
    ExtUtils::Manifest  1.70    
    ExtUtils::ParseXS   3.24    
    File::Spec          3.47    
    JSON                2.90    
    JSON::PP            2.27300 
    Module::Build       0.4214  
    Module::Signature   0.79    
    Parse::CPAN::Meta   1.4414  
    Test::Harness       3.35    
    Test::More          1.001014
    YAML                1.15    
    YAML::Syck          1.29    
    version             0.9912  


--

Summary of my perl5 (revision 5 version 20 subversion 2) configuration:
   
  Platform:
    osname=linux, osvers=3.19.5-200.fc21.x86_64, archname=i386-linux-thread-multi
    uname='linux buildhw-08.phx2.fedoraproject.org 3.19.5-200.fc21.x86_64 #1 smp mon apr 20 19:51:56 utc 2015 i686 i686 i386 gnulinux '
    config_args='-des -Doptimize=-O2 -g -pipe -Wall -Werror=format-security -Wp,-D_FORTIFY_SOURCE=2 -fexceptions -fstack-protector-strong --param=ssp-buffer-size=4 -grecord-gcc-switches  -m32 -march=i686 -mtune=atom -fasynchronous-unwind-tables -Dccdlflags=-Wl,--enable-new-dtags -Dlddlflags=-shared -O2 -g -pipe -Wall -Werror=format-security -Wp,-D_FORTIFY_SOURCE=2 -fexceptions -fstack-protector-strong --param=ssp-buffer-size=4 -grecord-gcc-switches  -m32 -march=i686 -mtune=atom -fasynchronous-unwind-tables -Wl,-z,relro  -Dshrpdir=/usr/lib -DDEBUGGING=-g -Dversion=5.20.2 -Dmyhostname=localhost -Dperladmin=root@localhost -Dcc=gcc -Dcf_by=Red Hat, Inc. -Dprefix=/usr -Dvendorprefix=/usr -Dsiteprefix=/usr/local -Dsitelib=/usr/local/share/perl5 -Dsitearch=/usr/local/lib/perl5 -Dprivlib=/usr/share/perl5 -Dvendorlib=/usr/share/perl5/vendor_perl -Darchlib=/usr/lib/perl5 -Dvendorarch=/usr/lib/perl5/vendor_perl -Darchname=i386-linux-thread-multi -Duseshrplib -Dusethreads -Duseithreads -Dusedtrace=/usr/bin/dtrace -Duselargefiles -Dd_semctl_semun -Di_db -Ui_ndbm -Di_gdbm -Di_shadow -Di_syslog -Dman3ext=3pm -Duseperlio -Dinstallusrbinperl=n -Ubincompat5005 -Uversiononly -Dpager=/usr/bin/less -isr -Dd_gethostent_r_proto -Ud_endhostent_r_proto -Ud_sethostent_r_proto -Ud_endprotoent_r_proto -Ud_setprotoent_r_proto -Ud_endservent_r_proto -Ud_setservent_r_proto -Dscriptdir=/usr/bin -Dusesitecustomize'
    hint=recommended, useposix=true, d_sigaction=define
    useithreads=define, usemultiplicity=define
    use64bitint=undef, use64bitall=undef, uselongdouble=undef
    usemymalloc=n, bincompat5005=undef
  Compiler:
    cc='gcc', ccflags ='-D_REENTRANT -D_GNU_SOURCE -fwrapv -fno-strict-aliasing -pipe -fstack-protector -I/usr/local/include -D_LARGEFILE_SOURCE -D_FILE_OFFSET_BITS=64',
    optimize='-O2 -g -pipe -Wall -Werror=format-security -Wp,-D_FORTIFY_SOURCE=2 -fexceptions -fstack-protector-strong --param=ssp-buffer-size=4 -grecord-gcc-switches -m32 -march=i686 -mtune=atom -fasynchronous-unwind-tables',
    cppflags='-D_REENTRANT -D_GNU_SOURCE -fwrapv -fno-strict-aliasing -pipe -fstack-protector -I/usr/local/include'
    ccversion='', gccversion='5.1.1 20150422 (Red Hat 5.1.1-1)', gccosandvers=''
    intsize=4, longsize=4, ptrsize=4, doublesize=8, byteorder=1234
    d_longlong=define, longlongsize=8, d_longdbl=define, longdblsize=12
    ivtype='long', ivsize=4, nvtype='double', nvsize=8, Off_t='off_t', lseeksize=8
    alignbytes=4, prototype=define
  Linker and Libraries:
    ld='gcc', ldflags =' -fstack-protector -L/usr/local/lib'
    libpth=/usr/local/lib /usr/lib /lib
    libs=-lresolv -lnsl -lgdbm -ldb -ldl -lm -lcrypt -lutil -lpthread -lc -lgdbm_compat
    perllibs=-lresolv -lnsl -ldl -lm -lcrypt -lutil -lpthread -lc
    libc=libc-2.21.so, so=so, useshrplib=true, libperl=libperl.so
    gnulibc_version='2.21'
  Dynamic Linking:
    dlsrc=dl_dlopen.xs, dlext=so, d_dlsymun=undef, ccdlflags='-Wl,--enable-new-dtags'
    cccdlflags='-fPIC', lddlflags='-shared -O2 -g -pipe -Wall -Werror=format-security -Wp,-D_FORTIFY_SOURCE=2 -fexceptions -fstack-protector-strong --param=ssp-buffer-size=4 -grecord-gcc-switches -m32 -march=i686 -mtune=atom -fasynchronous-unwind-tables -Wl,-z,relro  -L/usr/local/lib'


Characteristics of this binary (from libperl): 
  Compile-time options: HAS_TIMES MULTIPLICITY PERLIO_LAYERS
                        PERL_DONT_CREATE_GVSV
                        PERL_HASH_FUNC_ONE_AT_A_TIME_HARD
                        PERL_IMPLICIT_CONTEXT PERL_MALLOC_WRAP
                        PERL_NEW_COPY_ON_WRITE PERL_PRESERVE_IVUV
                        USE_ITHREADS USE_LARGE_FILES USE_LOCALE
                        USE_LOCALE_COLLATE USE_LOCALE_CTYPE
                        USE_LOCALE_NUMERIC USE_PERLIO USE_PERL_ATOF
                        USE_REENTRANT_API USE_SITECUSTOMIZE
  Locally applied patches:
	Fedora Patch1: Removes date check, Fedora/RHEL specific
	Fedora Patch4: use libresolv instead of libbind
	Fedora Patch5: USE_MM_LD_RUN_PATH
	Fedora Patch6: Skip hostname tests, due to builders not being network capable
	Fedora Patch7: Dont run one io test due to random builder failures
	Fedora Patch15: Define SONAME for libperl.so
	Fedora Patch16: Install libperl.so to -Dshrpdir value
	Fedora Patch22: Document Math::BigInt::CalcEmu requires Math::BigInt (CPAN RT#85015)
	Fedora Patch25: Use stronger algorithm needed for FIPS in t/op/crypt.t (RT#121591)
	Fedora Patch26: Make *DBM_File desctructors thread-safe (RT#61912)
	Fedora Patch27: Report inaccesible file on failed require (RT#123270)
	Fedora Patch28: Use stronger algorithm needed for FIPS in t/op/taint.t (RT#123338)
	Fedora Patch29: Fix Errno.pm generation for GCC 5.0 (RT#123784)
	Fedora Patch30: Handle hexadecimal constants by h2ph (RT#123784)
	Fedora Patch31: Do not use -_h2ph_pre.ph from system at tests (RT#123784)
	Fedora Patch200: Link XS modules to libperl.so with EU::CBuilder on Linux
	Fedora Patch201: Link XS modules to libperl.so with EU::MM on Linux
  Built under linux
  Compiled at Jun  5 2015 10:35:36
  %ENV:
    PERL5LIB=""
    PERL5OPT=""
    PERL5_CPANPLUS_IS_RUNNING="5420"
    PERL5_CPAN_IS_RUNNING="5420"
  @INC:
    /usr/local/lib/perl5
    /usr/local/share/perl5
    /usr/lib/perl5/vendor_perl
    /usr/share/perl5/vendor_perl
    /usr/lib/perl5
    /usr/share/perl5
    .