IO-Socket-SSL v2.085 Perl 5 v5.38.1 x86_64-cygwin-thread

Status
Pass
From
Peter John Acklam (PJACKLAM)
Dist
IO-Socket-SSL v2.085
Platform
Perl 5 v5.38.1 x86_64-cygwin-thread
Date
2024-06-03 10:55:10
ID
3a5ee43f-7a39-1014-888a-bb0ecb5a66f2
This distribution has been tested as part of the CPAN Testers
project, supporting the Perl programming language.  See
http://wiki.cpantesters.org/ for more information or email
questions to cpan-testers-discuss@perl.org


--
Dear Steffen Ullrich,

This is a computer-generated report for IO-Socket-SSL-2.085
on perl 5.38.1, created by CPAN-Reporter-1.2019.

Thank you for uploading your work to CPAN.  Congratulations!
All tests were successful.

Sections of this report:

    * Tester comments
    * Program output
    * Prerequisites
    * Environment and other context

------------------------------
TESTER COMMENTS
------------------------------

Additional comments from tester:

this report is from an automated smoke testing program
and was not reviewed by a human for accuracy

------------------------------
PROGRAM OUTPUT
------------------------------

Output from '/usr/bin/make test':

PERL_DL_NONLAZY=1 "/cygdrive/d/opt/perl5/cygwin_nt-10.0/3.4.5/x86_64/perl/5.38.1/x86_64-cygwin-thread/bin/perl5.38.1.exe" "-MExtUtils::Command::MM" "-MTest::Harness" "-e" "undef *Test::Harness::Switches; test_harness(0, 'blib/lib', 'blib/arch')" t/*.t t/external/*.t
# openssl version compiled=0x1010113f linked=0x1010113f -- OpenSSL 1.1.1s  1 Nov 2022
# Net::SSLeay version=1.94
# parent IO::Socket::IP version=0.4101
t/01loadmodule.t .................. ok
t/acceptSSL-timeout.t ............. ok
t/alpn.t .......................... ok
t/auto_verify_hostname.t .......... ok
t/cert_formats.t .................. ok
t/cert_no_file.t .................. ok
t/compatibility.t ................. ok
t/connectSSL-timeout.t ............ ok
t/core.t .......................... ok
t/dhe.t ........................... ok
t/ecdhe.t ......................... ok
# tcp connect to www.chksum.de:443 ok
# fingerprint matches
# validation with default CA w/o OCSP ok
# got stapled response as expected
# validation with default CA with OCSP defaults ok
# validation with default CA with OCSP full chain ok
# tcp connect to www.bild.de:443 ok
# fingerprint matches
# validation with default CA w/o OCSP ok
# validation with default CA with OCSP defaults ok
# validation with default CA with OCSP full chain ok
# tcp connect to revoked.grc.com:443 ok
t/external/ocsp.t ................. ok
# found 134 CA certs
# have root CA for www.bild.de in store
# 5 connections to www.bild.de ok
# have root CA for www.yahoo.com in store
# 5 connections to www.yahoo.com ok
# have root CA for www.comdirect.de in store
# 5 connections to www.comdirect.de ok
# fingerprint www.comdirect.de matches
# have root CA for meine.deutsche-bank.de in store
# 5 connections to meine.deutsche-bank.de ok
# fingerprint meine.deutsche-bank.de matches
# have root CA for www.twitter.com in store
# 5 connections to www.twitter.com ok
# fingerprint www.twitter.com matches
# have root CA for www.facebook.com in store
# 5 connections to www.facebook.com ok
# have root CA for www.live.com in store
# 5 connections to www.live.com ok
t/external/usable_ca.t ............ ok
t/io-socket-inet6.t ............... skipped: no IO::Socket::INET6 available
t/io-socket-ip.t .................. ok
t/memleak_bad_handshake.t ......... ok
t/mitm.t .......................... ok
t/multiple-cert-rsa-ecc.t ......... ok
t/nonblock.t ...................... ok
t/npn.t ........................... ok
# -- test: newINET start_SSL stop_SSL start_SSL
# server accepted new client
# wait for initial data from client
# got 0x666f6f from client
# server: got plain data at start of connection
# server: TLS upgrade
# server: TLS downgrade
# server: TLS upgrade#2
# -- test: newSSL stop_SSL connect_SSL
# server accepted new client
# wait for initial data from client
# got 0x160301 from client
# server: TLS upgrade
# server: TLS downgrade
# server: TLS upgrade#2
# -- test: newSSL:0 connect_SSL stop_SSL connect_SSL
# server accepted new client
# wait for initial data from client
# got 0x666f6f from client
# server: got plain data at start of connection
# server: TLS upgrade
# server: TLS downgrade
# server: TLS upgrade#2
# -- test: newSSL:0 start_SSL stop_SSL connect_SSL
# server accepted new client
# wait for initial data from client
# got 0x666f6f from client
# server: got plain data at start of connection
# server: TLS upgrade
# server: TLS downgrade
# server: TLS upgrade#2
# server accepted new client
# wait for initial data from client
# got 0x656e64 from client
# client requested end of tests
t/plain_upgrade_downgrade.t ....... ok
# failed to accept SSLv3
# looks like OpenSSL was compiled without SSLv3 support
t/protocol_version.t .............. ok
t/public_suffix_lib_encode_idn.t .. ok
t/public_suffix_lib_libidn.t ...... ok
t/public_suffix_lib_uri.t ......... ok
t/public_suffix_ssl.t ............. ok
t/readline.t ...................... ok
t/session_cache.t ................. ok
# listen at 127.0.0.1:56160
# listen at 127.0.0.1:56161
# connect to 0: success reuse=0 version=TLSv1_3
# connect to 0: success reuse=1 version=TLSv1_3
# connect to 1: success reuse=1 version=TLSv1_3
# connect to 1: success reuse=0 version=TLSv1_3
# connect to 0: success reuse=0 version=TLSv1_3
# connect to 0: success reuse=1 version=TLSv1_3
t/session_ticket.t ................ ok
t/sessions.t ...................... ok
t/set_curves.t .................... ok
t/signal-readline.t ............... ok
t/sni.t ........................... ok
t/sni_verify.t .................... ok
t/start-stopssl.t ................. ok
t/startssl-failed.t ............... ok
t/startssl.t ...................... ok
t/sysread_write.t ................. ok
t/verify_fingerprint.t ............ ok
t/verify_hostname.t ............... ok
t/verify_hostname_standalone.t .... ok
t/verify_partial_chain.t .......... ok
All tests successful.
Files=42, Tests=812, 208 wallclock secs ( 0.44 usr  1.06 sys + 36.64 cusr 109.63 csys = 147.77 CPU)
Result: PASS

------------------------------
PREREQUISITES
------------------------------

Prerequisite modules loaded:

requires:

    Module              Need Have    
    ------------------- ---- --------
    Mozilla::CA         0    20240313
    Net::SSLeay         1.46 1.94    
    Scalar::Util        0    1.63    

build_requires:

    Module              Need Have    
    ------------------- ---- --------
    ExtUtils::MakeMaker 0    7.70    

configure_requires:

    Module              Need Have    
    ------------------- ---- --------
    ExtUtils::MakeMaker 0    7.70    
    Net::SSLeay         1.46 1.94    


------------------------------
ENVIRONMENT AND OTHER CONTEXT
------------------------------

Environment variables:

    AUTOMATED_TESTING = 1
    COMSPEC = C:\WINDOWS\system32\cmd.exe
    NUMBER_OF_PROCESSORS = 8
    PATH = /opt/perl5/cygwin_nt-10.0/3.4.5/x86_64/perl/5.38.1/x86_64-cygwin-thread/bin:/opt/perl5/cygwin_nt-10.0/3.4.5/x86_64/perl/5.38.1/x86_64-cygwin-thread/local/bin:/usr/lib/lapack:/usr/local/bin:/usr/bin:/bin
    PERL5LIB = /opt/perl5/cygwin_nt-10.0/3.4.5/x86_64/perl/5.38.1/x86_64-cygwin-thread/local/lib/perl5:/opt/perl5/cygwin_nt-10.0/3.4.5/x86_64/perl/5.38.1/x86_64-cygwin-thread/local/lib/site_perl:/opt/perl5/cygwin_nt-10.0/3.4.5/x86_64/perl/5.38.1/x86_64-cygwin-thread/local/lib
    PERL5OPT = 
    PERL5_CPANPLUS_IS_RUNNING = 30930
    PERL5_CPAN_IS_RUNNING = 30930
    PERL_CANARY_STABILITY_NOPROMPT = 1
    PERL_CPAN_REPORTER_CONFIG = /cygdrive/d/home/peter/.cpanreporter/config-cygwin-rigel.ini
    PERL_EXTUTILS_AUTOINSTALL = 1
    PERL_MB_OPT = --install_base /opt/perl5/cygwin_nt-10.0/3.4.5/x86_64/perl/5.38.1/x86_64-cygwin-thread/local
    PERL_MM_OPT = INSTALL_BASE=/opt/perl5/cygwin_nt-10.0/3.4.5/x86_64/perl/5.38.1/x86_64-cygwin-thread/local
    PERL_MM_USE_DEFAULT = 1
    PERL_TEST_CRITIC = 1
    PERL_TEST_CRITIC = 1
    PERL_TEST_POD = 1
    PERL_TEST_POD = 1
    PERL_USE_UNSAFE_INC = 1
    POD_TESTING = 1
    POD_TESTS = 1
    PROCESSOR_IDENTIFIER = Intel64 Family 6 Model 42 Stepping 7, GenuineIntel
    SHELL = /bin/bash
    TEMP = /tmp
    TERM = xterm

Perl special variables (and OS-specific diagnostics, for MSWin32):

    $^X = /cygdrive/d/opt/perl5/cygwin_nt-10.0/3.4.5/x86_64/perl/5.38.1/x86_64-cygwin-thread/bin/perl5.38.1
    $UID/$EUID = 197609 / 197609
    $GID = 197609 401408 545 4 66049 11 15 68380 113 4095 66048 262180
    $EGID = 197609 401408 545 4 66049 11 15 68380 113 4095 66048 262180

Perl module toolchain versions installed:

    Module              Have    
    ------------------- --------
    CPAN                2.36    
    CPAN::Meta          2.150010
    Cwd                 3.89    
    ExtUtils::CBuilder  0.280238
    ExtUtils::Command   7.70    
    ExtUtils::Install   2.22    
    ExtUtils::MakeMaker 7.70    
    ExtUtils::Manifest  1.73    
    ExtUtils::ParseXS   3.51    
    File::Spec          3.88    
    JSON                n/a     
    JSON::PP            4.16    
    Module::Build       0.4234  
    Module::Signature   n/a     
    Parse::CPAN::Meta   2.150010
    Test2               1.302194
    Test::Harness       3.44    
    Test::More          1.302194
    YAML                1.31    
    YAML::Syck          n/a     
    version             0.9929  


--

Summary of my perl5 (revision 5 version 38 subversion 1) configuration:
   
  Platform:
    osname=cygwin
    osvers=3.4.5-1.x86_64
    archname=x86_64-cygwin-thread
    uname='cygwin_nt-10.0-19045 rigel 3.4.5-1.x86_64 2023-01-19 19:09 utc x86_64 cygwin '
    config_args='-de -Dmksymlinks -Uinc_version_list -Uinstallusrbinperl -Dusethreads -Uusemultiplicity -Dprefix=/opt/perl5/cygwin_nt-10.0/3.4.5/x86_64/perl/5.38.1/x86_64-cygwin-thread -Darchname=x86_64-cygwin-thread'
    hint=recommended
    useposix=true
    d_sigaction=define
    useithreads=define
    usemultiplicity=undef
    use64bitint=define
    use64bitall=define
    uselongdouble=undef
    usemymalloc=n
    default_inc_excludes_dot=define
  Compiler:
    cc='gcc'
    ccflags ='-U__STRICT_ANSI__ -D_GNU_SOURCE -fwrapv -fno-strict-aliasing -pipe -fstack-protector-strong -D_FORTIFY_SOURCE=2'
    optimize='-O3'
    cppflags='-U__STRICT_ANSI__ -D_GNU_SOURCE -fwrapv -fno-strict-aliasing -pipe -fstack-protector-strong'
    ccversion=''
    gccversion='11.3.0'
    gccosandvers=''
    intsize=4
    longsize=8
    ptrsize=8
    doublesize=8
    byteorder=12345678
    doublekind=3
    d_longlong=define
    longlongsize=8
    d_longdbl=define
    longdblsize=16
    longdblkind=3
    ivtype='long'
    ivsize=8
    nvtype='double'
    nvsize=8
    Off_t='off_t'
    lseeksize=8
    alignbytes=8
    prototype=define
  Linker and Libraries:
    ld='g++'
    ldflags =' -Wl,--enable-auto-import -Wl,--export-all-symbols -Wl,--enable-auto-image-base -fstack-protector-strong -L/usr/local/lib'
    libpth=/usr/lib /usr/lib/w32api /usr/local/lib /lib
    libs=-lpthread -lgdbm -ldb -ldl -lcrypt -lgdbm_compat
    perllibs=-lpthread -ldl -lcrypt
    libc=/usr/lib/libcygwin.a
    so=dll
    useshrplib=true
    libperl=cygperl5_38_1.dll
    gnulibc_version=''
  Dynamic Linking:
    dlsrc=dl_dlopen.xs
    dlext=dll
    d_dlsymun=undef
    ccdlflags=' '
    cccdlflags=' '
    lddlflags=' --shared  -Wl,--enable-auto-import -Wl,--export-all-symbols -Wl,--enable-auto-image-base -L/usr/local/lib -fstack-protector-strong'


Characteristics of this binary (from libperl): 
  Compile-time options:
    HAS_LONG_DOUBLE
    HAS_STRTOLD
    HAS_TIMES
    MULTIPLICITY
    PERLIO_LAYERS
    PERL_COPY_ON_WRITE
    PERL_DONT_CREATE_GVSV
    PERL_HASH_FUNC_SIPHASH13
    PERL_HASH_USE_SBOX32
    PERL_OP_PARENT
    PERL_PRESERVE_IVUV
    PERL_USE_SAFE_PUTENV
    USE_64_BIT_ALL
    USE_64_BIT_INT
    USE_ITHREADS
    USE_LARGE_FILES
    USE_LOCALE
    USE_LOCALE_COLLATE
    USE_LOCALE_CTYPE
    USE_LOCALE_NUMERIC
    USE_LOCALE_TIME
    USE_PERLIO
    USE_PERL_ATOF
    USE_REENTRANT_API
  Built under cygwin
  Compiled at May 19 2024 06:11:55
  %ENV:
    PERL5LIB="/opt/perl5/cygwin_nt-10.0/3.4.5/x86_64/perl/5.38.1/x86_64-cygwin-thread/local/lib/perl5:/opt/perl5/cygwin_nt-10.0/3.4.5/x86_64/perl/5.38.1/x86_64-cygwin-thread/local/lib/site_perl:/opt/perl5/cygwin_nt-10.0/3.4.5/x86_64/perl/5.38.1/x86_64-cygwin-thread/local/lib"
    PERL5OPT=""
    PERL5_CPANPLUS_IS_RUNNING="30930"
    PERL5_CPAN_IS_RUNNING="30930"
    PERL_CANARY_STABILITY_NOPROMPT="1"
    PERL_CPAN_REPORTER_CONFIG="/cygdrive/d/home/peter/.cpanreporter/config-cygwin-rigel.ini"
    PERL_EXTUTILS_AUTOINSTALL="1"
    PERL_MB_OPT="--install_base /opt/perl5/cygwin_nt-10.0/3.4.5/x86_64/perl/5.38.1/x86_64-cygwin-thread/local"
    PERL_MM_OPT="INSTALL_BASE=/opt/perl5/cygwin_nt-10.0/3.4.5/x86_64/perl/5.38.1/x86_64-cygwin-thread/local"
    PERL_MM_USE_DEFAULT="1"
    PERL_TEST_CRITIC="1"
    PERL_TEST_POD="1"
    PERL_USE_UNSAFE_INC="1"
  @INC:
    /opt/perl5/cygwin_nt-10.0/3.4.5/x86_64/perl/5.38.1/x86_64-cygwin-thread/local/lib/perl5/x86_64-cygwin-thread
    /opt/perl5/cygwin_nt-10.0/3.4.5/x86_64/perl/5.38.1/x86_64-cygwin-thread/local/lib/perl5
    /opt/perl5/cygwin_nt-10.0/3.4.5/x86_64/perl/5.38.1/x86_64-cygwin-thread/local/lib/site_perl
    /opt/perl5/cygwin_nt-10.0/3.4.5/x86_64/perl/5.38.1/x86_64-cygwin-thread/local/lib
    /opt/perl5/cygwin_nt-10.0/3.4.5/x86_64/perl/5.38.1/x86_64-cygwin-thread/lib/site_perl/5.38.1/x86_64-cygwin-thread
    /opt/perl5/cygwin_nt-10.0/3.4.5/x86_64/perl/5.38.1/x86_64-cygwin-thread/lib/site_perl/5.38.1
    /opt/perl5/cygwin_nt-10.0/3.4.5/x86_64/perl/5.38.1/x86_64-cygwin-thread/lib/5.38.1/x86_64-cygwin-thread
    /opt/perl5/cygwin_nt-10.0/3.4.5/x86_64/perl/5.38.1/x86_64-cygwin-thread/lib/5.38.1
    .