Report for Config-Auto-0.44

Back
From: metabase:user:45d22f42-6c23-1014-8a4f-ad39d6d2c9d7
Subject: PASS Config-Auto-0.44 v5.22.1 Windows (Cygwin)
Date: 2016-01-05T14:36:45Z

This distribution has been tested as part of the CPAN Testers
project, supporting the Perl programming language.  See
http://wiki.cpantesters.org/ for more information or email
questions to cpan-testers-discuss@perl.org


--
Dear Chris Williams,

This is a computer-generated report for Config-Auto-0.44
on perl 5.22.1, created by CPAN-Reporter-1.2015.

Thank you for uploading your work to CPAN.  Congratulations!
All tests were successful.

Sections of this report:

    * Tester comments
    * Program output
    * Prerequisites
    * Environment and other context

------------------------------
TESTER COMMENTS
------------------------------

Additional comments from tester:

none provided

------------------------------
PROGRAM OUTPUT
------------------------------

Output from '/usr/bin/make test':

PERL_DL_NONLAZY=1 "/usr/bin/perl.exe" "-MExtUtils::Command::MM" "-MTest::Harness" "-e" "undef *Test::Harness::Switches; test_harness(0, 'blib/lib', 'blib/arch')" t/*.t
# Testing Config::Auto 0.44
t/00_load.t ............ ok
t/01_OO.t .............. ok
t/02_parse.t ........... ok
t/03_invalid.t ......... ok
t/04_magic.t ........... ok
t/05_rt69984.t ......... ok
t/06_const_it.t ........ ok
t/07_rt91891.t ......... ok
t/20_XML_unvailable.t .. ok
t/99_pod.t ............. ok
All tests successful.
Files=10, Tests=379,  3 wallclock secs ( 0.05 usr  0.03 sys +  0.87 cusr  0.69 csys =  1.64 CPU)
Result: PASS

------------------------------
PREREQUISITES
------------------------------

Prerequisite modules loaded:

requires:

    Module                Need Have    
    --------------------- ---- --------
    Config::IniFiles      0    2.88    
    File::Spec::Functions 0    3.56    
    File::Temp            0    0.2304  
    IO::String            0    1.08    
    Test::More            0    1.001014
    Text::ParseWords      0    3.30    
    YAML                  0.67 1.15    

build_requires:

    Module                Need Have    
    --------------------- ---- --------
    ExtUtils::MakeMaker   0    7.04_01 

configure_requires:

    Module                Need Have    
    --------------------- ---- --------
    ExtUtils::MakeMaker   0    7.04_01 


------------------------------
ENVIRONMENT AND OTHER CONTEXT
------------------------------

Environment variables:

    COMSPEC = C:\Windows\system32\cmd.exe
    LANG = de_DE.UTF-8
    NONINTERACTIVE_TESTING = 1
    NUMBER_OF_PROCESSORS = 4
    PATH = /usr/local/bin:/usr/bin:/bin:/cygdrive/c/ProgramData/Oracle/Java/javapath:/cygdrive/c/Program Files (x86)/SECUNET/GuDStarSignUSBTokenFuerELSTER:/cygdrive/c/Program Files/SECUNET/GuDStarSignUSBTokenFuerELSTER:/cygdrive/c/Program Files/Common Files/Microsoft Shared/Windows Live:/cygdrive/c/Program Files (x86)/Common Files/Microsoft Shared/Windows Live:/cygdrive/c/Program Files (x86)/ATI Stream/bin/x86_64:/cygdrive/c/Program Files (x86)/ATI Stream/bin/x86:/cygdrive/c/Program Files (x86)/Business Objects/Common/3.5/bin/NOTES:/cygdrive/c/Program Files (x86)/Business Objects/Common/3.5/bin/NOTES/DATA:/cygdrive/c/Perl516/site/bin:/cygdrive/c/Perl516/bin:/cygdrive/c/Windows/system32:/cygdrive/c/Windows:/cygdrive/c/Windows/System32/Wbem:/cygdrive/c/Program Files (x86)/ATI Technologies/ATI.ACE/Core-Static:/usr/bin:/usr/local/bin:/cygdrive/c/bin:/cygdrive/c/usr:/cygdrive/c/Program Files (x86)/Windows Live/Shared:/cygdrive/c/Windows/System32/WindowsPowerShell/v1.0:/cygdrive/c/Windows/System32/WindowsPowerShell/v1.0:/cygdrive/c/Program Files (x86)/QuickTime/QTSystem:/cygdrive/g/Strawberry/c/bin:/cygdrive/g/Strawberry/perl/site/bin:/cygdrive/g/Strawberry/perl/bin:/cygdrive/c/Program Files (x86)/Skype/Phone:/cygdrive/c/Program Files/TortoiseSVN/bin:/usr/lib/lapack
    PERL5LIB = 
    PERL5OPT = 
    PERL5_CPANPLUS_IS_RUNNING = 10084
    PERL5_CPAN_IS_RUNNING = 10084
    PERL_MM_USE_DEFAULT = 1
    PROCESSOR_IDENTIFIER = Intel64 Family 6 Model 26 Stepping 5, GenuineIntel
    SHELL = /bin/bash
    TERM = xterm

Perl special variables (and OS-specific diagnostics, for MSWin32):

    $^X = /usr/bin/perl
    $UID/$EUID = 1049076 / 1049076
    $GID = 1049089 1049089 544 555 545 4 66049 11 15 4095 1049088 1049096 1049095 1049094 1049148 405504
    $EGID = 1049089 1049089 544 555 545 4 66049 11 15 4095 1049088 1049096 1049095 1049094 1049148 405504

Perl module toolchain versions installed:

    Module              Have    
    ------------------- --------
    CPAN                2.11    
    CPAN::Meta          2.150005
    Cwd                 3.56    
    ExtUtils::CBuilder  0.280221
    ExtUtils::Command   1.20    
    ExtUtils::Install   2.04    
    ExtUtils::MakeMaker 7.04_01 
    ExtUtils::Manifest  1.70    
    ExtUtils::ParseXS   3.28    
    File::Spec          3.56    
    JSON                2.90    
    JSON::PP            2.27300 
    Module::Build       0.4214  
    Module::Signature   0.79    
    Parse::CPAN::Meta   1.4417  
    Test::Harness       3.35    
    Test::More          1.001014
    YAML                1.15    
    YAML::Syck          n/a     
    version             0.9909  


--

Summary of my perl5 (revision 5 version 22 subversion 1) configuration:
   
  Platform:
    osname=cygwin, osvers=2.4.0(0.29253), archname=cygwin-thread-multi-64int
    uname='cygwin_nt-6.3-wow cygwin 2.4.0(0.29253) 2015-12-16 12:28 i686 cygwin '
    config_args='-d -e -Dprefix=/usr -Dmksymlinks -Darchname=i686-cygwin-threads-64int -Dlibperl=cygperl5_22.dll -Dcc=gcc -Dld=g++ -Accflags=-ggdb -O2 -pipe -Wimplicit-function-declaration -fdebug-prefix-map=/mnt/share/maint/perl.x86/build=/usr/src/debug/perl-5.22.1-1 -fdebug-prefix-map=/mnt/share/maint/perl.x86/src/perl-5.22.1=/usr/src/debug/perl-5.22.1-1 -fwrapv'
    hint=recommended, useposix=true, d_sigaction=define
    useithreads=define, usemultiplicity=define
    use64bitint=define, use64bitall=undef, uselongdouble=undef
    usemymalloc=n, bincompat5005=undef
  Compiler:
    cc='gcc', ccflags ='-DPERL_USE_SAFE_PUTENV -U__STRICT_ANSI__ -ggdb -O2 -pipe -Wimplicit-function-declaration -fdebug-prefix-map=/mnt/share/maint/perl.x86/build=/usr/src/debug/perl-5.22.1-1 -fdebug-prefix-map=/mnt/share/maint/perl.x86/src/perl-5.22.1=/usr/src/debug/perl-5.22.1-1 -fwrapv -fno-strict-aliasing -fstack-protector-strong -D_FORTIFY_SOURCE=2',
    optimize='-O3',
    cppflags='-DPERL_USE_SAFE_PUTENV -U__STRICT_ANSI__ -ggdb -O2 -pipe -Wimplicit-function-declaration -fdebug-prefix-map=/mnt/share/maint/perl.x86/build=/usr/src/debug/perl-5.22.1-1 -fdebug-prefix-map=/mnt/share/maint/perl.x86/src/perl-5.22.1=/usr/src/debug/perl-5.22.1-1 -fwrapv -fno-strict-aliasing -fstack-protector-strong'
    ccversion='', gccversion='4.9.3', gccosandvers=''
    intsize=4, longsize=4, ptrsize=4, doublesize=8, byteorder=12345678, doublekind=3
    d_longlong=define, longlongsize=8, d_longdbl=define, longdblsize=12, longdblkind=3
    ivtype='long long', ivsize=8, nvtype='double', nvsize=8, Off_t='off_t', lseeksize=8
    alignbytes=8, prototype=define
  Linker and Libraries:
    ld='g++', ldflags =' -Wl,--enable-auto-import -Wl,--export-all-symbols -Wl,--enable-auto-image-base -fstack-protector-strong -L/usr/local/lib'
    libpth=/usr/lib/gcc/i686-pc-cygwin/4.9.3/include-fixed /usr/lib /usr/lib/gcc/i686-pc-cygwin/4.9.3/../../../../include/w32api /usr/local/lib /lib
    libs=-lpthread -lgdbm -ldb -ldl -lcrypt -lgdbm_compat
    perllibs=-lpthread -ldl -lcrypt
    libc=/usr/lib/libc.a, so=dll, useshrplib=true, libperl=cygperl5_22.dll
    gnulibc_version=''
  Dynamic Linking:
    dlsrc=dl_dlopen.xs, dlext=dll, d_dlsymun=undef, ccdlflags=' '
    cccdlflags=' ', lddlflags=' --shared  -Wl,--enable-auto-import -Wl,--export-all-symbols -Wl,--enable-auto-image-base -L/usr/local/lib -fstack-protector-strong'


Characteristics of this binary (from libperl): 
  Compile-time options: HAS_TIMES MULTIPLICITY PERLIO_LAYERS
                        PERL_DONT_CREATE_GVSV
                        PERL_HASH_FUNC_ONE_AT_A_TIME_HARD
                        PERL_IMPLICIT_CONTEXT PERL_NEW_COPY_ON_WRITE
                        PERL_PRESERVE_IVUV PERL_USE_SAFE_PUTENV
                        USE_64_BIT_INT USE_ITHREADS USE_LARGE_FILES
                        USE_LOCALE USE_LOCALE_COLLATE USE_LOCALE_CTYPE
                        USE_LOCALE_NUMERIC USE_LOCALE_TIME USE_PERLIO
                        USE_PERL_ATOF USE_REENTRANT_API
  Built under cygwin
  Compiled at Dec 17 2015 11:38:57
  %ENV:
    PERL5LIB=""
    PERL5OPT=""
    PERL5_CPANPLUS_IS_RUNNING="10084"
    PERL5_CPAN_IS_RUNNING="10084"
    PERL_MM_USE_DEFAULT="1"
  @INC:
    /usr/lib/perl5/site_perl/5.22/i686-cygwin-threads-64int
    /usr/lib/perl5/site_perl/5.22
    /usr/lib/perl5/vendor_perl/5.22/i686-cygwin-threads-64int
    /usr/lib/perl5/vendor_perl/5.22
    /usr/lib/perl5/5.22/i686-cygwin-threads-64int
    /usr/lib/perl5/5.22
    .