MooseX-ConfigFromFile v0.14 Perl 5 v5.31.0 i86pc-solaris-thread-multi-64

Status
Pass
From
Carlos Guevara
Dist
MooseX-ConfigFromFile v0.14
Platform
Perl 5 v5.31.0 i86pc-solaris-thread-multi-64
Date
2019-05-24 16:01:44
ID
3a19ad30-7e3d-11e9-a4d0-e030beb34083
This distribution has been tested as part of the CPAN Testers
project, supporting the Perl programming language.  See
http://wiki.cpantesters.org/ for more information or email
questions to cpan-testers-discuss@perl.org


--
Dear Karen Etheridge,

This is a computer-generated report for MooseX-ConfigFromFile-0.14
on perl 5.31.0, created by CPAN-Reporter-1.2018.

Thank you for uploading your work to CPAN.  Congratulations!
All tests were successful.

Sections of this report:

    * Tester comments
    * Program output
    * Prerequisites
    * Environment and other context

------------------------------
TESTER COMMENTS
------------------------------

Additional comments from tester:

none provided

------------------------------
PROGRAM OUTPUT
------------------------------

Output from './Build test':

# 
# Versions for all modules listed in MYMETA.json (including optional ones):
# 
# === Configure Requires ===
# 
#     Module               Want  Have
#     ------------------- ----- -----
#     Module::Build::Tiny 0.007 0.039
# 
# === Test Requires ===
# 
#     Module                Want     Have
#     --------------------- ---- --------
#     ExtUtils::MakeMaker    any     7.36
#     File::Spec             any     3.78
#     Moose                  any   2.2011
#     Scalar::Util           any     1.50
#     Test::Deep             any    1.128
#     Test::Fatal            any    0.014
#     Test::More            0.88 1.302164
#     Test::Requires         any     0.10
#     Test::Without::Module  any     0.20
#     if                     any   0.0608
#     strict                 any     1.11
# 
# === Test Recommends ===
# 
#     Module             Want     Have
#     -------------- -------- --------
#     CPAN::Meta     2.120900 2.150010
#     MooseX::Getopt      any     0.74
# 
# === Runtime Requires ===
# 
#     Module                     Want   Have
#     ------------------------- ----- ------
#     Carp                        any   1.50
#     Moose::Role                 any 2.2011
#     MooseX::Types::Moose        any   0.50
#     MooseX::Types::Path::Tiny 0.005  0.012
#     namespace::autoclean        any   0.28
#     warnings                    any   1.44
# 
# === Other Modules ===
# 
#     Module        Have
#     ------------- ----
#     Pod::Coverage 0.23
# 
t/00-report-prereqs.t .... ok
t/01use.t ................ ok
t/02subclass.t ........... ok
t/03configfile_method.t .. ok
t/04a_getopt.t ........... ok
t/04b_getopt.t ........... ok
t/05_default_sub.t ....... ok
t/zzz-check-breaks.t ..... ok
All tests successful.
Files=8, Tests=63,  6 wallclock secs ( 0.08 usr  0.05 sys +  5.14 cusr  0.92 csys =  6.19 CPU)
Result: PASS

------------------------------
PREREQUISITES
------------------------------

Prerequisite modules loaded:

requires:

    Module                    Need  Have    
    ------------------------- ----- --------
    Carp                      0     1.50    
    Moose::Role               0     2.2011  
    MooseX::Types::Moose      0     0.50    
    MooseX::Types::Path::Tiny 0.005 0.012   
    namespace::autoclean      0     0.28    
    perl                      5.006 5.031000
    warnings                  0     1.44    

build_requires:

    Module                    Need  Have    
    ------------------------- ----- --------
    ExtUtils::MakeMaker       0     7.36    
    File::Spec                0     3.78    
    if                        0     0.0608  
    Moose                     0     2.2011  
    perl                      5.006 5.031000
    Scalar::Util              0     1.50    
    strict                    0     1.11    
    Test::Deep                0     1.128   
    Test::Fatal               0     0.014   
    Test::More                0.88  1.302164
    Test::Requires            0     0.10    
    Test::Without::Module     0     0.20    

configure_requires:

    Module                    Need  Have    
    ------------------------- ----- --------
    Module::Build::Tiny       0.007 0.039   
    perl                      5.006 5.031000


------------------------------
ENVIRONMENT AND OTHER CONTEXT
------------------------------

Environment variables:

    LANG = en_US.UTF-8
    LC_ALL = C
    NONINTERACTIVE_TESTING = 1
    PATH = /export/home/cpan/bin/perl-blead/bin:/export/home/cpan/bin/perl-blead/bin:/export/home/cpan/bin:/usr/bin:/usr/sbin:/sbin:/usr/gnu/bin
    PERL5LIB = 
    PERL5OPT = 
    PERL5_CPANPLUS_IS_RUNNING = 15598
    PERL5_CPAN_IS_RUNNING = 15598
    PERL_MM_USE_DEFAULT = 1
    PERL_USE_UNSAFE_INC = 1
    PERL_VERSION = blead
    SHELL = /usr/bin/bash
    TERM = screen
    TMPDIR = /export/home/cpan/tmp

Perl special variables (and OS-specific diagnostics, for MSWin32):

    $^X = /export/home/cpan/bin/perl-blead/bin/perl5.31.0
    $UID/$EUID = 101 / 101
    $GID = 1 1
    $EGID = 1 1

Perl module toolchain versions installed:

    Module              Have    
    ------------------- --------
    CPAN                2.22    
    CPAN::Meta          2.150010
    Cwd                 3.78    
    ExtUtils::CBuilder  0.280231
    ExtUtils::Command   7.36    
    ExtUtils::Install   2.14    
    ExtUtils::MakeMaker 7.36    
    ExtUtils::Manifest  1.72    
    ExtUtils::ParseXS   3.40    
    File::Spec          3.78    
    JSON                4.02    
    JSON::PP            4.02    
    Module::Build       0.4229  
    Module::Signature   n/a     
    Parse::CPAN::Meta   2.150010
    Test::Harness       3.42    
    Test::More          1.302164
    YAML                1.29    
    YAML::Syck          n/a     
    version             0.9924  


--

Summary of my perl5 (revision 5 version 31 subversion 0) configuration:
  Commit id: 58f4626762668e1c1948832073998af84b2c85d0
  Platform:
    osname=solaris
    osvers=2.11
    archname=i86pc-solaris-thread-multi-64
    uname='sunos cjg-hipster 5.11 illumos-9a1bf7f043 i86pc i386 i86pc '
    config_args='-des -Dprefix=~/bin/perl-blead -Dscriptdir=~/bin/perl-blead/bin -Dusedevel -Duse64bitall -Dcc=gcc -Duseithreads'
    hint=recommended
    useposix=true
    d_sigaction=define
    useithreads=define
    usemultiplicity=define
    use64bitint=define
    use64bitall=define
    uselongdouble=undef
    usemymalloc=n
    default_inc_excludes_dot=define
    bincompat5005=undef
  Compiler:
    cc='gcc'
    ccflags ='-D_REENTRANT -m64 -fwrapv -fno-strict-aliasing -pipe -fstack-protector-strong -I/usr/gnu/include -D_LARGEFILE_SOURCE -D_FILE_OFFSET_BITS=64 -D_FORTIFY_SOURCE=2 -DPERL_USE_SAFE_PUTENV'
    optimize='-O'
    cppflags='-D_REENTRANT -m64 -fwrapv -fno-strict-aliasing -pipe -fstack-protector-strong -I/usr/gnu/include'
    ccversion=''
    gccversion='6.5.0'
    gccosandvers=''
    intsize=4
    longsize=8
    ptrsize=8
    doublesize=8
    byteorder=12345678
    doublekind=3
    d_longlong=define
    longlongsize=8
    d_longdbl=define
    longdblsize=16
    longdblkind=3
    ivtype='long'
    ivsize=8
    nvtype='double'
    nvsize=8
    Off_t='off_t'
    lseeksize=8
    alignbytes=8
    prototype=define
  Linker and Libraries:
    ld='gcc'
    ldflags =' -m64 -fstack-protector-strong -L/usr/gnu/lib '
    libpth=/usr/gcc/6/lib /usr/lib /usr/gnu/lib /usr/ccs/lib
    libs=-lpthread -lsocket -lnsl -lgdbm -ldb -ldl -lm -lc
    perllibs=-lpthread -lsocket -lnsl -ldl -lm -lc
    libc=/lib/libc.so
    so=so
    useshrplib=true
    libperl=libperl.so
    gnulibc_version=''
  Dynamic Linking:
    dlsrc=dl_dlopen.xs
    dlext=so
    d_dlsymun=undef
    ccdlflags='  -R /export/home/cpan/bin/perl-blead/lib/5.31.0/i86pc-solaris-thread-multi-64/CORE'
    cccdlflags='-fPIC'
    lddlflags=' -shared -m64 -L/usr/gnu/lib -fstack-protector-strong'


Characteristics of this binary (from libperl): 
  Compile-time options:
    HAS_TIMES
    MULTIPLICITY
    PERLIO_LAYERS
    PERL_COPY_ON_WRITE
    PERL_DONT_CREATE_GVSV
    PERL_IMPLICIT_CONTEXT
    PERL_MALLOC_WRAP
    PERL_OP_PARENT
    PERL_PRESERVE_IVUV
    PERL_USE_DEVEL
    PERL_USE_SAFE_PUTENV
    USE_64_BIT_ALL
    USE_64_BIT_INT
    USE_ITHREADS
    USE_LARGE_FILES
    USE_LOCALE
    USE_LOCALE_COLLATE
    USE_LOCALE_CTYPE
    USE_LOCALE_NUMERIC
    USE_LOCALE_TIME
    USE_PERLIO
    USE_PERL_ATOF
    USE_REENTRANT_API
    USE_THREAD_SAFE_LOCALE
  Built under solaris
  Compiled at May 24 2019 07:08:32
  %ENV:
    PERL5LIB=""
    PERL5OPT=""
    PERL5_CPANPLUS_IS_RUNNING="15598"
    PERL5_CPAN_IS_RUNNING="15598"
    PERL_MM_USE_DEFAULT="1"
    PERL_USE_UNSAFE_INC="1"
    PERL_VERSION="blead"
  @INC:
    /export/home/cpan/bin/perl-blead/lib/site_perl/5.31.0/i86pc-solaris-thread-multi-64
    /export/home/cpan/bin/perl-blead/lib/site_perl/5.31.0
    /export/home/cpan/bin/perl-blead/lib/5.31.0/i86pc-solaris-thread-multi-64
    /export/home/cpan/bin/perl-blead/lib/5.31.0
    .