Async-Simple-Pool v0.18 Perl 5 v5.20.2 x86_64-linux-thread-multi

Status
Pass
From
Nigel Horne
Dist
Async-Simple-Pool v0.18
Platform
Perl 5 v5.20.2 x86_64-linux-thread-multi
Date
2017-09-30 10:50:51
ID
39d85c9e-a5cd-11e7-9be1-bbe64cf6c7cd
This distribution has been tested as part of the CPAN Testers
project, supporting the Perl programming language.  See
http://wiki.cpantesters.org/ for more information or email
questions to cpan-testers-discuss@perl.org


--
Dear Anton Chuvashev,

This is a computer-generated report for Async-Simple-Pool-0.18
on perl 5.20.2, created by CPAN-Reporter-1.2018.

Thank you for uploading your work to CPAN.  Congratulations!
All tests were successful.

Sections of this report:

    * Tester comments
    * Program output
    * Prerequisites
    * Environment and other context

------------------------------
TESTER COMMENTS
------------------------------

Additional comments from tester:

this report is from an automated smoke testing program
and was not reviewed by a human for accuracy

------------------------------
PROGRAM OUTPUT
------------------------------

Output from '/usr/bin/make test':

PERL_DL_NONLAZY=1 "/home/njh/perl5/perlbrew/perls/perl-5.20.2/bin/perl" "-MExtUtils::Command::MM" "-MTest::Harness" "-e" "undef *Test::Harness::Switches; test_harness(0, 'blib/lib', 'blib/arch')" t/*.t
t/01-manifest.t ...................... skipped: Author tests not required for installation
t/03-pod.t ........................... skipped: Author tests not required for installation
t/02-pod-coverage.t .................. skipped: Author tests not required for installation
t/04-task.t .......................... ok
# Testing Async::Simple::Pool 0.18, Perl 5.020002, /home/njh/perl5/perlbrew/perls/perl-5.20.2/bin/perl
t/00-load.t .......................... ok
t/07-pool-inits.t .................... ok
t/08-pool-full-results.t ............. ok
t/06-task-forktmpfile.t .............. ok
t/11-boilerplate.t ................... ok
t/05-task-fork.t ..................... ok
t/09-pool-partial-results-collect.t .. ok
t/10-pool-partial-results-flush.t .... ok
All tests successful.

Test Summary Report
-------------------
t/11-boilerplate.t                 (Wstat: 0 Tests: 5 Failed: 0)
  TODO passed:   1-5
Files=12, Tests=129, 136 wallclock secs ( 0.04 usr  0.02 sys +  2.59 cusr  0.42 csys =  3.07 CPU)
Result: PASS

------------------------------
PREREQUISITES
------------------------------

Prerequisite modules loaded:

requires:

    Module               Need     Have      
    -------------------- -------- ----------
    Class::Load          0        0.22      
    Clone                0        0.38      
    Data::Dumper         0        2.154     
    Data::Serializer     0        0.60      
    File::Spec           0        3.48_01   
    JSON::XS             0        3.04      
    Modern::Perl         0        1.20170117
    Moose                0        2.1403    
    namespace::autoclean 0        0.24      
    perl                 5.014000 5.020002  
    Time::HiRes          0        1.9726    

build_requires:

    Module               Need     Have      
    -------------------- -------- ----------
    File::Spec           0        3.48_01   
    JSON::XS             0        3.04      
    Modern::Perl         0        1.20170117
    Module::Metadata     1.000009 1.000026  
    Pod::Coverage        0        0.23      
    POSIX                0        1.38_03   
    Test::CheckManifest  0        1.31      
    Test::Exception      0        0.40      
    Test::More           0        1.302083  
    Test::Pod            0        1.50      
    Test::Pod::Coverage  0        1.10      
    Test::Spec           0        0.53      
    Time::HiRes          0        1.9726    

configure_requires:

    Module               Need     Have      
    -------------------- -------- ----------
    ExtUtils::MakeMaker  0        7.24      
    Modern::Perl         0        1.20170117


------------------------------
ENVIRONMENT AND OTHER CONTEXT
------------------------------

Environment variables:

    AUTOMATED_TESTING = 1
    HARNESS_OPTIONS = j4
    LANG = en_GB.UTF-8
    LANGUAGE = en_GB:en
    PATH = /home/njh/perl5/perlbrew/bin:/home/njh/perl5/perlbrew/perls/perl-5.20.2/bin:/home/njh/perl5/perlbrew/bin:/usr/bin:/bin
    PERL5LIB = /home/njh/.cpan/build/Test-Spec-0.53-0/blib/arch:/home/njh/.cpan/build/Test-Spec-0.53-0/blib/lib:/home/njh/.cpan/build/Tie-IxHash-1.23-0/blib/arch:/home/njh/.cpan/build/Tie-IxHash-1.23-0/blib/lib:/home/njh/.cpan/build/Test-Trap-v0.3.3-11/blib/arch:/home/njh/.cpan/build/Test-Trap-v0.3.3-11/blib/lib:/home/njh/.cpan/build/Data-Dump-1.23-11/blib/arch:/home/njh/.cpan/build/Data-Dump-1.23-11/blib/lib:/home/njh/.cpan/build/Test-CheckManifest-1.31-0/blib/arch:/home/njh/.cpan/build/Test-CheckManifest-1.31-0/blib/lib:/home/njh/.cpan/build/JSON-XS-3.04-7/blib/arch:/home/njh/.cpan/build/JSON-XS-3.04-7/blib/lib:/home/njh/.cpan/build/Types-Serialiser-1.0-7/blib/arch:/home/njh/.cpan/build/Types-Serialiser-1.0-7/blib/lib:/home/njh/.cpan/build/Data-Serializer-0.60-5/blib/arch:/home/njh/.cpan/build/Data-Serializer-0.60-5/blib/lib:/home/njh/.cpan/build/Modern-Perl-1.20170117-22/blib/arch:/home/njh/.cpan/build/Modern-Perl-1.20170117-22/blib/lib
    PERL5OPT = 
    PERL5_CPANPLUS_IS_RUNNING = 4986
    PERL5_CPAN_IS_RUNNING = 4986
    PERLBREW_BASHRC_VERSION = 0.80
    PERLBREW_HOME = /home/njh/.perlbrew
    PERLBREW_LIB = 
    PERLBREW_MANPATH = /home/njh/perl5/perlbrew/perls/perl-5.20.2/man
    PERLBREW_PATH = /home/njh/perl5/perlbrew/bin:/home/njh/perl5/perlbrew/perls/perl-5.20.2/bin
    PERLBREW_PERL = perl-5.20.2
    PERLBREW_ROOT = /home/njh/perl5/perlbrew
    PERLBREW_VERSION = 0.80
    PERL_LOCAL_LIB_ROOT = 
    SHELL = /bin/sh

Perl special variables (and OS-specific diagnostics, for MSWin32):

    $^X = /home/njh/perl5/perlbrew/perls/perl-5.20.2/bin/perl
    $UID/$EUID = 1000 / 1000
    $GID = 1000 4 24 25 29 30 44 46 108 112 1000
    $EGID = 1000 4 24 25 29 30 44 46 108 112 1000

Perl module toolchain versions installed:

    Module              Have    
    ------------------- --------
    CPAN                2.16    
    CPAN::Meta          2.150005
    Cwd                 3.48_01 
    ExtUtils::CBuilder  0.280223
    ExtUtils::Command   7.24    
    ExtUtils::Install   2.04    
    ExtUtils::MakeMaker 7.24    
    ExtUtils::Manifest  1.70    
    ExtUtils::ParseXS   3.30    
    File::Spec          3.48_01 
    JSON                2.93    
    JSON::PP            2.27400 
    Module::Build       0.4214  
    Module::Signature   n/a     
    Parse::CPAN::Meta   1.4422  
    Test::Harness       3.36    
    Test::More          1.302083
    YAML                1.15    
    YAML::Syck          1.30    
    version             0.9912  


--

Summary of my perl5 (revision 5 version 20 subversion 2) configuration:
   
  Platform:
    osname=linux, osvers=3.16.0-4-amd64, archname=x86_64-linux-thread-multi
    uname='linux nigelhorne.force9.co.uk 3.16.0-4-amd64 #1 smp debian 3.16.7-ckt4-3 (2015-02-03) x86_64 gnulinux '
    config_args='-de -Dprefix=/home/njh/perl5/perlbrew/perls/perl-5.20.2 -Duseithreads -Dusemultiplicity -Dusedevel -Accflags= -Aeval:scriptdir=/home/njh/perl5/perlbrew/perls/perl-5.20.2/bin'
    hint=recommended, useposix=true, d_sigaction=define
    useithreads=define, usemultiplicity=define
    use64bitint=define, use64bitall=define, uselongdouble=undef
    usemymalloc=n, bincompat5005=undef
  Compiler:
    cc='cc', ccflags ='-D_REENTRANT -D_GNU_SOURCE -fwrapv -fno-strict-aliasing -pipe -fstack-protector -I/usr/local/include -D_LARGEFILE_SOURCE -D_FILE_OFFSET_BITS=64',
    optimize='-O2',
    cppflags='-D_REENTRANT -D_GNU_SOURCE -fwrapv -fno-strict-aliasing -pipe -fstack-protector -I/usr/local/include'
    ccversion='', gccversion='4.9.2', gccosandvers=''
    intsize=4, longsize=8, ptrsize=8, doublesize=8, byteorder=12345678
    d_longlong=define, longlongsize=8, d_longdbl=define, longdblsize=16
    ivtype='long', ivsize=8, nvtype='double', nvsize=8, Off_t='off_t', lseeksize=8
    alignbytes=8, prototype=define
  Linker and Libraries:
    ld='cc', ldflags =' -fstack-protector -L/usr/local/lib'
    libpth=/usr/local/lib /usr/lib/gcc/x86_64-linux-gnu/4.9/include-fixed /usr/include/x86_64-linux-gnu /usr/lib /lib/x86_64-linux-gnu /lib/../lib /usr/lib/x86_64-linux-gnu /usr/lib/../lib /lib
    libs=-lnsl -lgdbm -ldb -ldl -lm -lcrypt -lutil -lpthread -lc -lgdbm_compat
    perllibs=-lnsl -ldl -lm -lcrypt -lutil -lpthread -lc
    libc=libc-2.19.so, so=so, useshrplib=false, libperl=libperl.a
    gnulibc_version='2.19'
  Dynamic Linking:
    dlsrc=dl_dlopen.xs, dlext=so, d_dlsymun=undef, ccdlflags='-Wl,-E'
    cccdlflags='-fPIC', lddlflags='-shared -O2 -L/usr/local/lib -fstack-protector'


Characteristics of this binary (from libperl): 
  Compile-time options: HAS_TIMES MULTIPLICITY PERLIO_LAYERS
                        PERL_DONT_CREATE_GVSV
                        PERL_HASH_FUNC_ONE_AT_A_TIME_HARD
                        PERL_IMPLICIT_CONTEXT PERL_MALLOC_WRAP
                        PERL_NEW_COPY_ON_WRITE PERL_PRESERVE_IVUV
                        PERL_USE_DEVEL USE_64_BIT_ALL USE_64_BIT_INT
                        USE_ITHREADS USE_LARGE_FILES USE_LOCALE
                        USE_LOCALE_COLLATE USE_LOCALE_CTYPE
                        USE_LOCALE_NUMERIC USE_PERLIO USE_PERL_ATOF
                        USE_REENTRANT_API
  Built under linux
  Compiled at Mar  1 2015 00:32:04
  %ENV:
    PERL5LIB="/home/njh/.cpan/build/Test-Spec-0.53-0/blib/arch:/home/njh/.cpan/build/Test-Spec-0.53-0/blib/lib:/home/njh/.cpan/build/Tie-IxHash-1.23-0/blib/arch:/home/njh/.cpan/build/Tie-IxHash-1.23-0/blib/lib:/home/njh/.cpan/build/Test-Trap-v0.3.3-11/blib/arch:/home/njh/.cpan/build/Test-Trap-v0.3.3-11/blib/lib:/home/njh/.cpan/build/Data-Dump-1.23-11/blib/arch:/home/njh/.cpan/build/Data-Dump-1.23-11/blib/lib:/home/njh/.cpan/build/Test-CheckManifest-1.31-0/blib/arch:/home/njh/.cpan/build/Test-CheckManifest-1.31-0/blib/lib:/home/njh/.cpan/build/JSON-XS-3.04-7/blib/arch:/home/njh/.cpan/build/JSON-XS-3.04-7/blib/lib:/home/njh/.cpan/build/Types-Serialiser-1.0-7/blib/arch:/home/njh/.cpan/build/Types-Serialiser-1.0-7/blib/lib:/home/njh/.cpan/build/Data-Serializer-0.60-5/blib/arch:/home/njh/.cpan/build/Data-Serializer-0.60-5/blib/lib:/home/njh/.cpan/build/Modern-Perl-1.20170117-22/blib/arch:/home/njh/.cpan/build/Modern-Perl-1.20170117-22/blib/lib"
    PERL5OPT=""
    PERL5_CPANPLUS_IS_RUNNING="4986"
    PERL5_CPAN_IS_RUNNING="4986"
    PERLBREW_BASHRC_VERSION="0.80"
    PERLBREW_HOME="/home/njh/.perlbrew"
    PERLBREW_LIB=""
    PERLBREW_MANPATH="/home/njh/perl5/perlbrew/perls/perl-5.20.2/man"
    PERLBREW_PATH="/home/njh/perl5/perlbrew/bin:/home/njh/perl5/perlbrew/perls/perl-5.20.2/bin"
    PERLBREW_PERL="perl-5.20.2"
    PERLBREW_ROOT="/home/njh/perl5/perlbrew"
    PERLBREW_VERSION="0.80"
    PERL_LOCAL_LIB_ROOT=""
  @INC:
    /home/njh/.cpan/build/Test-Spec-0.53-0/blib/arch
    /home/njh/.cpan/build/Test-Spec-0.53-0/blib/lib
    /home/njh/.cpan/build/Tie-IxHash-1.23-0/blib/arch
    /home/njh/.cpan/build/Tie-IxHash-1.23-0/blib/lib
    /home/njh/.cpan/build/Test-Trap-v0.3.3-11/blib/arch
    /home/njh/.cpan/build/Test-Trap-v0.3.3-11/blib/lib
    /home/njh/.cpan/build/Data-Dump-1.23-11/blib/arch
    /home/njh/.cpan/build/Data-Dump-1.23-11/blib/lib
    /home/njh/.cpan/build/Test-CheckManifest-1.31-0/blib/arch
    /home/njh/.cpan/build/Test-CheckManifest-1.31-0/blib/lib
    /home/njh/.cpan/build/JSON-XS-3.04-7/blib/arch
    /home/njh/.cpan/build/JSON-XS-3.04-7/blib/lib
    /home/njh/.cpan/build/Types-Serialiser-1.0-7/blib/arch
    /home/njh/.cpan/build/Types-Serialiser-1.0-7/blib/lib
    /home/njh/.cpan/build/Data-Serializer-0.60-5/blib/arch
    /home/njh/.cpan/build/Data-Serializer-0.60-5/blib/lib
    /home/njh/.cpan/build/Modern-Perl-1.20170117-22/blib/arch
    /home/njh/.cpan/build/Modern-Perl-1.20170117-22/blib/lib
    /home/njh/perl5/perlbrew/perls/perl-5.20.2/lib/site_perl/5.20.2/x86_64-linux-thread-multi
    /home/njh/perl5/perlbrew/perls/perl-5.20.2/lib/site_perl/5.20.2
    /home/njh/perl5/perlbrew/perls/perl-5.20.2/lib/5.20.2/x86_64-linux-thread-multi
    /home/njh/perl5/perlbrew/perls/perl-5.20.2/lib/5.20.2
    .