Back
From: metabase:user:320bfe00-2aae-11df-837a-5e0a49663a4f
Subject: PASS CatalystX-CMS-0.011 v5.8.7 GNU/Linux
Date: 2011-07-14T02:59:00Z
This distribution has been tested as part of the CPAN Testers
project, supporting the Perl programming language.  See
http://wiki.cpantesters.org/ for more information or email
questions to cpan-testers-discuss@perl.org
--
Dear Peter Karman,
This is a computer-generated report for CatalystX-CMS-0.011
on perl 5.8.7, created by CPAN-Reporter-1.19_04.
Thank you for uploading your work to CPAN.  Congratulations!
All tests were successful.
Sections of this report:
    * Tester comments
    * Program output
    * Prerequisites
    * Environment and other context
------------------------------
TESTER COMMENTS
------------------------------
Additional comments from tester:
this report is from an automated smoke testing program
and was not reviewed by a human for accuracy
------------------------------
PROGRAM OUTPUT
------------------------------
Output from '/usr/bin/make test':
PERL_DL_NONLAZY=1 /home/sand/src/perl/repoperls/installed-perls/perl/perl-5.8.7/2a56/bin/perl "-MExtUtils::Command::MM" "-e" "test_harness(0, 'blib/lib', 'blib/arch')" t/*.t
# Testing CatalystX::CMS 0.011
# Testing using Catalyst 5.89002
t/00-load.t ....... ok
t/01-cms.t ........ ok
t/pod-coverage.t .. ok
t/pod.t ........... ok
All tests successful.
Files=4, Tests=37, 13 wallclock secs ( 0.03 usr  0.01 sys +  5.30 cusr  0.56 csys =  5.90 CPU)
Result: PASS
------------------------------
PREREQUISITES
------------------------------
Prerequisite modules loaded:
requires:
    Module                                    Need Have 
    ----------------------------------------- ---- -----
    Catalyst::Action::RenderView              0    0.16 
    Catalyst::Plugin::ConfigLoader            0    0.30 
    Catalyst::Plugin::Static::Simple::ByClass 0    0.004
    Catalyst::View::TT                        0    0.36 
    CatalystX::CRUD                           0.32 0.52 
    DateTime::Format::ISO8601                 0    0.07 
    MRO::Compat                               0    0.11 
    Path::Class::File::Lockable               0    0.02 
    SVN::Class                                0.15 0.16 
    Template::Plugin::Handy                   0    0.003
    Template::Provider::Encoding              0    0.10 
    Test::More                                0    0.98 
    XML::LibXML                               0    1.80 
    XML::Simple                               0    2.18 
    YAML                                      0    0.73 
build_requires:
    Module                                    Need Have 
    ----------------------------------------- ---- -----
    ExtUtils::MakeMaker                       0    6.58 
configure_requires:
    Module                                    Need Have 
    ----------------------------------------- ---- -----
    ExtUtils::MakeMaker                       0    6.58 
------------------------------
ENVIRONMENT AND OTHER CONTEXT
------------------------------
Environment variables:
    AUTOMATED_TESTING = 1
    LANG = en_US.UTF-8
    LANGUAGE = en_US:en
    PATH = /usr/lib/ccache:/home/sand/bin:/usr/local/bin:/usr/bin:/bin:/usr/bin/X11:/usr/games:/usr/local/perl/bin:/usr/X11/bin:/sbin:/usr/sbin
    PERL5LIB = 
    PERL5OPT = 
    PERL5_CPANPLUS_IS_RUNNING = 25030
    PERL5_CPAN_IS_RUNNING = 25030
    PERL_MM_USE_DEFAULT = 1
    SHELL = /usr/bin/zsh
    TERM = screen
Perl special variables (and OS-specific diagnostics, for MSWin32):
    $^X = /home/sand/src/perl/repoperls/installed-perls/perl/perl-5.8.7/2a56/bin/perl
    $UID/$EUID = 1001 / 1001
    $GID = 1001 1001
    $EGID = 1001 1001
Perl module toolchain versions installed:
    Module              Have       
    ------------------- -----------
    CPAN                1.97_51    
    CPAN::Meta          2.110930001
    Cwd                 3.33       
    ExtUtils::CBuilder  0.280202   
    ExtUtils::Command   1.17       
    ExtUtils::Install   1.52       
    ExtUtils::MakeMaker 6.58       
    ExtUtils::Manifest  1.58       
    ExtUtils::ParseXS   2.2206     
    File::Spec          3.33       
    JSON                2.53       
    JSON::PP            2.27105    
    Module::Build       0.3800     
    Module::Signature   0.68       
    Parse::CPAN::Meta   1.4401     
    Test::Harness       3.23       
    Test::More          0.98       
    YAML                0.73       
    YAML::Syck          1.17       
    version             0.91       
--
Summary of my perl5 (revision 5 version 8 subversion 7) configuration:
  Platform:
    osname=linux, osvers=2.6.32-5-amd64, archname=x86_64-linux-thread-multi-ld
    uname='linux k81 2.6.32-5-amd64 #1 smp mon mar 7 21:35:22 utc 2011 x86_64 gnulinux '
    config_args='-Dprefix=/home/src/perl/repoperls/installed-perls/perl/perl-5.8.7/2a56 -Dinstallusrbinperl=n -Uversiononly -Dusedevel -des -Ui_db -Duseithreads -Duselongdouble -DDEBUGGING=-g'
    hint=recommended, useposix=true, d_sigaction=define
    usethreads=define use5005threads=undef useithreads=define usemultiplicity=define
    useperlio=define d_sfio=undef uselargefiles=define usesocks=undef
    use64bitint=define use64bitall=define uselongdouble=define
    usemymalloc=n, bincompat5005=undef
  Compiler:
    cc='cc', ccflags ='-D_REENTRANT -D_GNU_SOURCE -DTHREADS_HAVE_PIDS -fno-strict-aliasing -pipe -I/usr/local/include -D_LARGEFILE_SOURCE -D_FILE_OFFSET_BITS=64',
    optimize='-O2',
    cppflags='-D_REENTRANT -D_GNU_SOURCE -DTHREADS_HAVE_PIDS -fno-strict-aliasing -pipe -I/usr/local/include'
    ccversion='', gccversion='4.4.5', gccosandvers=''
    intsize=4, longsize=8, ptrsize=8, doublesize=8, byteorder=12345678
    d_longlong=define, longlongsize=8, d_longdbl=define, longdblsize=16
    ivtype='long', ivsize=8, nvtype='long double', nvsize=16, Off_t='off_t', lseeksize=8
    alignbytes=16, prototype=define
  Linker and Libraries:
    ld='cc', ldflags =' -L/usr/local/lib'
    libpth=/usr/local/lib /lib /usr/lib
    libs=-lnsl -ldl -lm -lcrypt -lutil -lpthread -lc
    perllibs=-lnsl -ldl -lm -lcrypt -lutil -lpthread -lc
    libc=/lib/libc-2.11.2.so, so=so, useshrplib=false, libperl=libperl.a
    gnulibc_version='2.11.2'
  Dynamic Linking:
    dlsrc=dl_dlopen.xs, dlext=so, d_dlsymun=undef, ccdlflags='-Wl,-E'
    cccdlflags='-fpic', lddlflags='-shared -L/usr/local/lib'
Characteristics of this binary (from libperl): 
  Compile-time options: MULTIPLICITY USE_ITHREADS USE_64_BIT_INT
                        USE_64_BIT_ALL USE_LONG_DOUBLE USE_LARGE_FILES
                        PERL_IMPLICIT_CONTEXT
  Built under linux
  Compiled at May  7 2011 10:57:49
  %ENV:
    PERL5LIB=""
    PERL5OPT=""
    PERL5_CPANPLUS_IS_RUNNING="25030"
    PERL5_CPAN_IS_RUNNING="25030"
    PERL_MM_USE_DEFAULT="1"
  @INC:
    /home/src/perl/repoperls/installed-perls/perl/perl-5.8.7/2a56/lib/5.8.7/x86_64-linux-thread-multi-ld
    /home/src/perl/repoperls/installed-perls/perl/perl-5.8.7/2a56/lib/5.8.7
    /home/src/perl/repoperls/installed-perls/perl/perl-5.8.7/2a56/lib/site_perl/5.8.7/x86_64-linux-thread-multi-ld
    /home/src/perl/repoperls/installed-perls/perl/perl-5.8.7/2a56/lib/site_perl/5.8.7
    /home/src/perl/repoperls/installed-perls/perl/perl-5.8.7/2a56/lib/site_perl
    .