Catalyst-Authentication-Credential-Twitter v2.0.5 Perl 5 v5.32.0 x86_64-linux

Status
Pass
From
Slaven Rezić
Dist
Catalyst-Authentication-Credential-Twitter v2.0.5
Platform
Perl 5 v5.32.0 x86_64-linux
Date
2021-03-27 23:29:06
ID
39617cae-8f54-11eb-a00b-068c1f24ea8f
This distribution has been tested as part of the CPAN Testers
project, supporting the Perl programming language.  See
http://wiki.cpantesters.org/ for more information or email
questions to cpan-testers-discuss@perl.org


--
Dear Yanick Champoux,

This is a computer-generated report for Catalyst-Authentication-Credential-Twitter-2.0.5
on perl 5.32.0, created by CPAN-Reporter-1.2018.

Thank you for uploading your work to CPAN.  Congratulations!
All tests were successful.

Sections of this report:

    * Tester comments
    * Program output
    * Prerequisites
    * Environment and other context

------------------------------
TESTER COMMENTS
------------------------------

Additional comments from tester:

none provided

------------------------------
PROGRAM OUTPUT
------------------------------

Output from '/usr/bin/make test':

PERL_DL_NONLAZY=1 "/opt/perl-5.32.0/bin/perl" "-MExtUtils::Command::MM" "-MTest::Harness" "-e" "undef *Test::Harness::Switches; test_harness(0, 'blib/lib', 'blib/arch')" t/*.t
t/00-compile.t ......... ok
# 
# Versions for all modules listed in MYMETA.json (including optional ones):
# 
# === Configure Requires ===
# 
#     Module              Want Have
#     ------------------- ---- ----
#     ExtUtils::MakeMaker  any 7.52
# 
# === Build Requires ===
# 
#     Module              Want Have
#     ------------------- ---- ----
#     ExtUtils::MakeMaker  any 7.52
# 
# === Test Requires ===
# 
#     Module               Want     Have
#     -------------------- ---- --------
#     Catalyst              any  5.90128
#     Catalyst::Controller  any    undef
#     ExtUtils::MakeMaker   any     7.52
#     File::Spec            any     3.78
#     IO::Handle            any     1.42
#     IPC::Open3            any     1.21
#     Test::More            any 1.302183
#     lib                   any     0.65
#     parent                any    0.238
# 
# === Test Recommends ===
# 
#     Module                                         Want     Have
#     ------------------------------------------ -------- --------
#     CPAN::Meta                                 2.120900 2.150010
#     Catalyst::Plugin::Session::Store::FastMmap      any  missing
#     Test::WWW::Mechanize::Catalyst                  any  missing
# 
# === Runtime Requires ===
# 
#     Module                                Want    Have
#     ---------------------------------- ------- -------
#     Catalyst::Exception                    any   undef
#     Catalyst::Plugin::Session::PerUser     any    0.05
#     Class::Accessor::Fast                  any    0.51
#     Data::Dumper                           any   2.174
#     Net::Twitter                       4.00001 4.01043
#     base                                   any    2.27
#     strict                                 any    1.11
#     warnings                               any    1.47
# 
t/00-report-prereqs.t .. ok
t/basic_app.t .......... skipped: test requires Test::WWW::Mechanize::Catalyst
t/fail_callback.t ...... skipped: test requires Test::WWW::Mechanize::Catalyst
t/no_per_user.t ........ skipped: test requires Test::WWW::Mechanize::Catalyst
All tests successful.
Files=5, Tests=2,  1 wallclock secs ( 0.03 usr  0.01 sys +  0.84 cusr  0.07 csys =  0.95 CPU)
Result: PASS

------------------------------
PREREQUISITES
------------------------------

Prerequisite modules loaded:

requires:

    Module                             Need    Have    
    ---------------------------------- ------- --------
    base                               0       2.27    
    Catalyst::Exception                0       0       
    Catalyst::Plugin::Session::PerUser 0       0.05    
    Class::Accessor::Fast              0       0.51    
    Data::Dumper                       0       2.174   
    Net::Twitter                       4.00001 4.01043 
    perl                               5.006   5.032000
    strict                             0       1.11    
    warnings                           0       1.47    

build_requires:

    Module                             Need    Have    
    ---------------------------------- ------- --------
    Catalyst                           0       5.90128 
    Catalyst::Controller               0       0       
    ExtUtils::MakeMaker                0       7.52    
    File::Spec                         0       3.78    
    IO::Handle                         0       1.42    
    IPC::Open3                         0       1.21    
    lib                                0       0.65    
    parent                             0       0.238   
    Test::More                         0       1.302183

configure_requires:

    Module                             Need    Have    
    ---------------------------------- ------- --------
    ExtUtils::MakeMaker                0       7.52    


------------------------------
ENVIRONMENT AND OTHER CONTEXT
------------------------------

Environment variables:

    LANG = en_US.UTF-8
    PATH = /usr/local/bin:/usr/bin:/bin:/usr/local/sbin:/usr/sbin:/sbin:/home/cpansand/bin/linux-gnu:/home/cpansand/bin/sh:/home/cpansand/bin:/usr/games:/home/cpansand/devel:/home/eserte/src/srezic-misc/scripts
    PERL5LIB = /home/cpansand/.local/share/.cpan/build/2021032800/Net-Twitter-4.01043-3/blib/arch:/home/cpansand/.local/share/.cpan/build/2021032800/Net-Twitter-4.01043-3/blib/lib:/home/cpansand/.local/share/.cpan/build/2021032800/Catalyst-Plugin-Session-PerUser-0.05-0/blib/arch:/home/cpansand/.local/share/.cpan/build/2021032800/Catalyst-Plugin-Session-PerUser-0.05-0/blib/lib:/home/cpansand/.local/share/.cpan/build/2021032800/App-bmkpasswd-2.012002-0/blib/arch:/home/cpansand/.local/share/.cpan/build/2021032800/App-bmkpasswd-2.012002-0/blib/lib
    PERL5OPT = 
    PERL5_CPANPLUS_IS_RUNNING = 371014
    PERL5_CPAN_IS_RUNNING = 371014
    PERL5_CPAN_IS_RUNNING_IN_RECURSION = 64789,371014
    PERLDOC = -MPod::Perldoc::ToTextOverstrike
    PERL_BATCH = yes
    PERL_CANARY_STABILITY_NOPROMPT = 1
    PERL_CPAN_REPORTER_CONFIG = /var/tmp/cpansmoker-1023/2021032719/cpanreporter_000_config.ini
    PERL_EXTUTILS_AUTOINSTALL = --defaultdeps
    PERL_USE_UNSAFE_INC = 1
    SHELL = /usr/bin/zsh
    TERM = screen
    TMPDIR = /var/tmp/cpansmoker-1023/2021032719

Perl special variables (and OS-specific diagnostics, for MSWin32):

    $^X = /opt/perl-5.32.0/bin/perl
    $UID/$EUID = 1023 / 1023
    $GID = 1023 1023
    $EGID = 1023 1023

Perl module toolchain versions installed:

    Module              Have    
    ------------------- --------
    CPAN                2.27    
    CPAN::Meta          2.150010
    Cwd                 3.78    
    ExtUtils::CBuilder  0.280234
    ExtUtils::Command   7.52    
    ExtUtils::Install   2.18    
    ExtUtils::MakeMaker 7.52    
    ExtUtils::Manifest  1.73    
    ExtUtils::ParseXS   3.40    
    File::Spec          3.78    
    JSON                4.03    
    JSON::PP            4.05    
    Module::Build       0.4231  
    Module::Signature   0.87    
    Parse::CPAN::Meta   2.150010
    Test::Harness       3.42    
    Test::More          1.302183
    YAML                1.30    
    YAML::Syck          1.33    
    version             0.9924  


--

Summary of my perl5 (revision 5 version 32 subversion 0) configuration:
   
  Platform:
    osname=linux
    osvers=5.4.0-37-generic
    archname=x86_64-linux
    uname='linux cloud8.bbbike.org 5.4.0-37-generic #41-ubuntu smp wed jun 3 18:57:02 utc 2020 x86_64 x86_64 x86_64 gnulinux '
    config_args='-ds -e -Dprefix=/opt/perl-5.32.0 -Dcf_email=srezic@cpan.org'
    hint=recommended
    useposix=true
    d_sigaction=define
    useithreads=undef
    usemultiplicity=undef
    use64bitint=define
    use64bitall=define
    uselongdouble=undef
    usemymalloc=n
    default_inc_excludes_dot=define
    bincompat5005=undef
  Compiler:
    cc='cc'
    ccflags ='-fwrapv -fno-strict-aliasing -pipe -fstack-protector-strong -I/usr/local/include -D_LARGEFILE_SOURCE -D_FILE_OFFSET_BITS=64'
    optimize='-O2'
    cppflags='-fwrapv -fno-strict-aliasing -pipe -fstack-protector-strong -I/usr/local/include'
    ccversion=''
    gccversion='9.3.0'
    gccosandvers=''
    intsize=4
    longsize=8
    ptrsize=8
    doublesize=8
    byteorder=12345678
    doublekind=3
    d_longlong=define
    longlongsize=8
    d_longdbl=define
    longdblsize=16
    longdblkind=3
    ivtype='long'
    ivsize=8
    nvtype='double'
    nvsize=8
    Off_t='off_t'
    lseeksize=8
    alignbytes=8
    prototype=define
  Linker and Libraries:
    ld='cc'
    ldflags =' -fstack-protector-strong -L/usr/local/lib'
    libpth=/usr/local/lib /usr/include/x86_64-linux-gnu /usr/lib /lib/x86_64-linux-gnu /lib/../lib /usr/lib/x86_64-linux-gnu /usr/lib/../lib /lib
    libs=-lpthread -lnsl -lgdbm -ldb -ldl -lm -lcrypt -lutil -lc
    perllibs=-lpthread -lnsl -ldl -lm -lcrypt -lutil -lc
    libc=libc-2.31.so
    so=so
    useshrplib=false
    libperl=libperl.a
    gnulibc_version='2.31'
  Dynamic Linking:
    dlsrc=dl_dlopen.xs
    dlext=so
    d_dlsymun=undef
    ccdlflags='-Wl,-E'
    cccdlflags='-fPIC'
    lddlflags='-shared -O2 -L/usr/local/lib -fstack-protector-strong'


Characteristics of this binary (from libperl): 
  Compile-time options:
    HAS_TIMES
    PERLIO_LAYERS
    PERL_COPY_ON_WRITE
    PERL_DONT_CREATE_GVSV
    PERL_MALLOC_WRAP
    PERL_OP_PARENT
    PERL_PRESERVE_IVUV
    USE_64_BIT_ALL
    USE_64_BIT_INT
    USE_LARGE_FILES
    USE_LOCALE
    USE_LOCALE_COLLATE
    USE_LOCALE_CTYPE
    USE_LOCALE_NUMERIC
    USE_LOCALE_TIME
    USE_PERLIO
    USE_PERL_ATOF
  Built under linux
  Compiled at Jun 21 2020 09:14:58
  %ENV:
    PERL5LIB="/home/cpansand/.local/share/.cpan/build/2021032800/Net-Twitter-4.01043-3/blib/arch:/home/cpansand/.local/share/.cpan/build/2021032800/Net-Twitter-4.01043-3/blib/lib:/home/cpansand/.local/share/.cpan/build/2021032800/Catalyst-Plugin-Session-PerUser-0.05-0/blib/arch:/home/cpansand/.local/share/.cpan/build/2021032800/Catalyst-Plugin-Session-PerUser-0.05-0/blib/lib:/home/cpansand/.local/share/.cpan/build/2021032800/App-bmkpasswd-2.012002-0/blib/arch:/home/cpansand/.local/share/.cpan/build/2021032800/App-bmkpasswd-2.012002-0/blib/lib"
    PERL5OPT=""
    PERL5_CPANPLUS_IS_RUNNING="371014"
    PERL5_CPAN_IS_RUNNING="371014"
    PERL5_CPAN_IS_RUNNING_IN_RECURSION="64789,371014"
    PERLDOC="-MPod::Perldoc::ToTextOverstrike"
    PERL_BATCH="yes"
    PERL_CANARY_STABILITY_NOPROMPT="1"
    PERL_CPAN_REPORTER_CONFIG="/var/tmp/cpansmoker-1023/2021032719/cpanreporter_000_config.ini"
    PERL_EXTUTILS_AUTOINSTALL="--defaultdeps"
    PERL_USE_UNSAFE_INC="1"
  @INC:
    /home/cpansand/.local/share/.cpan/build/2021032800/Net-Twitter-4.01043-3/blib/arch
    /home/cpansand/.local/share/.cpan/build/2021032800/Net-Twitter-4.01043-3/blib/lib
    /home/cpansand/.local/share/.cpan/build/2021032800/Catalyst-Plugin-Session-PerUser-0.05-0/blib/arch
    /home/cpansand/.local/share/.cpan/build/2021032800/Catalyst-Plugin-Session-PerUser-0.05-0/blib/lib
    /home/cpansand/.local/share/.cpan/build/2021032800/App-bmkpasswd-2.012002-0/blib/arch
    /home/cpansand/.local/share/.cpan/build/2021032800/App-bmkpasswd-2.012002-0/blib/lib
    /opt/perl-5.32.0/lib/site_perl/5.32.0/x86_64-linux
    /opt/perl-5.32.0/lib/site_perl/5.32.0
    /opt/perl-5.32.0/lib/5.32.0/x86_64-linux
    /opt/perl-5.32.0/lib/5.32.0
    .