Mail-Mbox-MessageParser v1.5111 Perl 5 v5.41.3 x86_64-linux-thread-multi

Status
Pass
From
Andreas J. König (ANDK)
Dist
Mail-Mbox-MessageParser v1.5111
Platform
Perl 5 v5.41.3 x86_64-linux-thread-multi
Date
2024-09-16 23:56:00
ID
395f37de-7487-11ef-b200-7ee89ddb564d
This distribution has been tested as part of the CPAN Testers
project, supporting the Perl programming language.  See
http://wiki.cpantesters.org/ for more information or email
questions to cpan-testers-discuss@perl.org


--
Dear David Coppit,

This is a computer-generated report for Mail-Mbox-MessageParser-1.5111
on perl 5.41.3, created by CPAN-Reporter-1.2020.

Thank you for uploading your work to CPAN.  Congratulations!
All tests were successful.

Sections of this report:

    * Tester comments
    * Program output
    * Prerequisites
    * Environment and other context

------------------------------
TESTER COMMENTS
------------------------------

Additional comments from tester:

this report is from an automated smoke testing program
and was not reviewed by a human for accuracy

------------------------------
PROGRAM OUTPUT
------------------------------

Output from '/usr/bin/make test':

PERL_DL_NONLAZY=1 "/tmp/basesmoker-reloperl-IIrw/bin/perl" "-MExtUtils::Command::MM" "-MTest::Harness" "-e" "undef *Test::Harness::Switches; test_harness(1, 'blib/lib', 'blib/arch')" t/*.t
t/000_standard__compile.t ....... 
1..6
ok 1 - blib/lib/Mail/Mbox/MessageParser.pm compiles
ok 2 - blib/lib/Mail/Mbox/MessageParser/Cache.pm compiles
ok 3 - blib/lib/Mail/Mbox/MessageParser/Config.pm compiles
ok 4 - blib/lib/Mail/Mbox/MessageParser/Grep.pm compiles
ok 5 - blib/lib/Mail/Mbox/MessageParser/MetaInfo.pm compiles
ok 6 - blib/lib/Mail/Mbox/MessageParser/Perl.pm compiles
ok
t/000_standard__perl_critic.t ... skipped: Author test. Set $ENV{TEST_AUTHOR} to a true value to run.
t/000_standard__pod.t ........... 
1..6
ok 1 - POD test for blib/lib/Mail/Mbox/MessageParser.pm
ok 2 - POD test for blib/lib/Mail/Mbox/MessageParser/Grep.pm
ok 3 - POD test for blib/lib/Mail/Mbox/MessageParser/MetaInfo.pm
ok 4 - POD test for blib/lib/Mail/Mbox/MessageParser/Cache.pm
ok 5 - POD test for blib/lib/Mail/Mbox/MessageParser/Config.pm
ok 6 - POD test for blib/lib/Mail/Mbox/MessageParser/Perl.pm
ok
t/000_standard__pod_coverage.t .. 
1..6
ok 1 - Pod coverage on Mail::Mbox::MessageParser
ok 2 - Pod coverage on Mail::Mbox::MessageParser::Grep
ok 3 - Pod coverage on Mail::Mbox::MessageParser::MetaInfo
ok 4 - Pod coverage on Mail::Mbox::MessageParser::Cache
ok 5 - Pod coverage on Mail::Mbox::MessageParser::Config
ok 6 - Pod coverage on Mail::Mbox::MessageParser::Perl
ok
t/appended_mailbox.t ............ 
1..6
Testing modified mailbox with Perl implementation
Comparing /tmp/zsBUbyV3hm to t/mailboxes/mailarc-1.txt
Output /tmp/zsBUbyV3hm looks good.
ok 1 - Computing differences
Testing modified mailbox with Cache implementation
Comparing /tmp/gFg1eqLqYW to t/mailboxes/mailarc-1.txt
Output /tmp/gFg1eqLqYW looks good.
ok 2 - Computing differences
Testing modified mailbox with Grep implementation
ok 3 # skip GNU grep not available
Testing modified mailbox with Perl implementation
Comparing /tmp/WmPuSbEaDY to t/mailboxes/mailarc-1.txt
Output /tmp/WmPuSbEaDY looks good.
ok 4 - Computing differences
Testing modified mailbox with Cache implementation
Comparing /tmp/_KIigvKcrC to t/mailboxes/mailarc-1.txt
Output /tmp/_KIigvKcrC looks good.
ok 5 - Computing differences
Testing modified mailbox with Grep implementation
ok 6 # skip GNU grep not available
ok
t/bzip2.t ....................... 
1..1
Running test:
  "/usr/bin/cat" "t/mailboxes/mailarc-2.txt.bz2" | "/usr/bin/bzip2" -cd
Comparing /tmp/gWWv5Z2oxI to t/results/mailarc-2.txt
Output /tmp/gWWv5Z2oxI looks good.
Comparing /tmp/pwhpZ2YzaH to t/results/none
Output /tmp/pwhpZ2YzaH looks good.
ok 1 - Computing differences
ok
t/endline.t ..................... 
1..8
Testing filename: t/mailboxes/mailarc-1-dos.txt
ok 1 - Dos endline expected
ok 2 - Dos endline expected
ok 3 - Dos endline expected
ok 4 # skip GNU grep not available
Testing filename: t/mailboxes/mailarc-1.txt
ok 5 - Unix endline expected
ok 6 - Unix endline expected
ok 7 - Unix endline expected
ok 8 # skip GNU grep not available
ok
t/filehandle_compressed.t ....... 
1..16
Testing filename: t/mailboxes/mailarc-2.txt.bz2
Comparing /tmp/10J2OvuYb1 to t/mailboxes/mailarc-2.txt
Output /tmp/10J2OvuYb1 looks good.
ok 1 - Computing differences
Comparing /tmp/GP92t8CiQC to t/mailboxes/mailarc-2.txt
Output /tmp/GP92t8CiQC looks good.
ok 2 - Computing differences
Comparing /tmp/PRGeLYcI1h to t/mailboxes/mailarc-2.txt
Output /tmp/PRGeLYcI1h looks good.
ok 3 - Computing differences
ok 4 # skip GNU grep not available
Testing filename: t/mailboxes/mailarc-2.txt.gz
Comparing /tmp/cTAaNG8jRt to t/mailboxes/mailarc-2.txt
Output /tmp/cTAaNG8jRt looks good.
ok 5 - Computing differences
Comparing /tmp/oygfBIpUvV to t/mailboxes/mailarc-2.txt
Output /tmp/oygfBIpUvV looks good.
ok 6 - Computing differences
Comparing /tmp/dRCWvQC7c7 to t/mailboxes/mailarc-2.txt
Output /tmp/dRCWvQC7c7 looks good.
ok 7 - Computing differences
ok 8 # skip GNU grep not available
Testing filename: t/mailboxes/mailarc-2.txt.lz
ok 9 # skip lzip not available
ok 10 # skip lzip not available
ok 11 # skip lzip not available
ok 12 # skip lzip not available
Testing filename: t/mailboxes/mailarc-2.txt.xz
Comparing /tmp/9JgmA7fs8B to t/mailboxes/mailarc-2.txt
Output /tmp/9JgmA7fs8B looks good.
ok 13 - Computing differences
Comparing /tmp/V0PD_T61D5 to t/mailboxes/mailarc-2.txt
Output /tmp/V0PD_T61D5 looks good.
ok 14 - Computing differences
Comparing /tmp/ztZXF5lUco to t/mailboxes/mailarc-2.txt
Output /tmp/ztZXF5lUco looks good.
ok 15 - Computing differences
ok 16 # skip GNU grep not available
ok
t/filehandle_noncompressed.t .... 
1..44
Testing filename: t/mailboxes/binary_body.txt
Comparing /tmp/_LWUhXGnj0 to t/mailboxes/binary_body.txt
Output /tmp/_LWUhXGnj0 looks good.
ok 1 - Computing differences
Comparing /tmp/RHWZQgZoGb to t/mailboxes/binary_body.txt
Output /tmp/RHWZQgZoGb looks good.
ok 2 - Computing differences
Comparing /tmp/xA7GzgWJgu to t/mailboxes/binary_body.txt
Output /tmp/xA7GzgWJgu looks good.
ok 3 - Computing differences
ok 4 # skip GNU grep not available
Testing filename: t/mailboxes/hessbug.txt
Comparing /tmp/e8yXvqyUBy to t/mailboxes/hessbug.txt
Output /tmp/e8yXvqyUBy looks good.
ok 5 - Computing differences
Comparing /tmp/VJVtM0cNLV to t/mailboxes/hessbug.txt
Output /tmp/VJVtM0cNLV looks good.
ok 6 - Computing differences
Comparing /tmp/qwHykMFPvc to t/mailboxes/hessbug.txt
Output /tmp/qwHykMFPvc looks good.
ok 7 - Computing differences
ok 8 # skip GNU grep not available
Testing filename: t/mailboxes/invalid-boundaries.txt
Comparing /tmp/zQlvddq1fx to t/mailboxes/invalid-boundaries.txt
Output /tmp/zQlvddq1fx looks good.
ok 9 - Computing differences
Comparing /tmp/W3DyaZ87dh to t/mailboxes/invalid-boundaries.txt
Output /tmp/W3DyaZ87dh looks good.
ok 10 - Computing differences
Comparing /tmp/cr8zhyJn_X to t/mailboxes/invalid-boundaries.txt
Output /tmp/cr8zhyJn_X looks good.
ok 11 - Computing differences
ok 12 # skip GNU grep not available
Testing filename: t/mailboxes/mailarc-1-dos.txt
Comparing /tmp/RQ97BC1vnj to t/mailboxes/mailarc-1-dos.txt
Output /tmp/RQ97BC1vnj looks good.
ok 13 - Computing differences
Comparing /tmp/nFWsYzDcgm to t/mailboxes/mailarc-1-dos.txt
Output /tmp/nFWsYzDcgm looks good.
ok 14 - Computing differences
Comparing /tmp/C8ID8q9OUn to t/mailboxes/mailarc-1-dos.txt
Output /tmp/C8ID8q9OUn looks good.
ok 15 - Computing differences
ok 16 # skip GNU grep not available
Testing filename: t/mailboxes/mailarc-1.txt
Comparing /tmp/llkIiEbKNB to t/mailboxes/mailarc-1.txt
Output /tmp/llkIiEbKNB looks good.
ok 17 - Computing differences
Comparing /tmp/zucL1v88T2 to t/mailboxes/mailarc-1.txt
Output /tmp/zucL1v88T2 looks good.
ok 18 - Computing differences
Comparing /tmp/gZ1mAg9XPv to t/mailboxes/mailarc-1.txt
Output /tmp/gZ1mAg9XPv looks good.
ok 19 - Computing differences
ok 20 # skip GNU grep not available
Testing filename: t/mailboxes/mailarc-2.txt
Comparing /tmp/5ddd9BUb22 to t/mailboxes/mailarc-2.txt
Output /tmp/5ddd9BUb22 looks good.
ok 21 - Computing differences
Comparing /tmp/xPtfbk_DYm to t/mailboxes/mailarc-2.txt
Output /tmp/xPtfbk_DYm looks good.
ok 22 - Computing differences
Comparing /tmp/sEgnDVqSV2 to t/mailboxes/mailarc-2.txt
Output /tmp/sEgnDVqSV2 looks good.
ok 23 - Computing differences
ok 24 # skip GNU grep not available
Testing filename: t/mailboxes/mailarc-3.txt
Comparing /tmp/377m3NRPqH to t/mailboxes/mailarc-3.txt
Output /tmp/377m3NRPqH looks good.
ok 25 - Computing differences
Comparing /tmp/UVraWLqfyq to t/mailboxes/mailarc-3.txt
Output /tmp/UVraWLqfyq looks good.
ok 26 - Computing differences
Comparing /tmp/B3bFO9fU9K to t/mailboxes/mailarc-3.txt
Output /tmp/B3bFO9fU9K looks good.
ok 27 - Computing differences
ok 28 # skip GNU grep not available
Testing filename: t/mailboxes/mailseparators.txt
Comparing /tmp/B219HCd7vn to t/mailboxes/mailseparators.txt
Output /tmp/B219HCd7vn looks good.
ok 29 - Computing differences
Comparing /tmp/EhshvuikHL to t/mailboxes/mailseparators.txt
Output /tmp/EhshvuikHL looks good.
ok 30 - Computing differences
Comparing /tmp/BpN_yXRQmL to t/mailboxes/mailseparators.txt
Output /tmp/BpN_yXRQmL looks good.
ok 31 - Computing differences
ok 32 # skip GNU grep not available
Testing filename: t/mailboxes/malformed.txt
Comparing /tmp/7L_Wnnz676 to t/mailboxes/malformed.txt
Output /tmp/7L_Wnnz676 looks good.
ok 33 - Computing differences
Comparing /tmp/MN_GB8ujnE to t/mailboxes/malformed.txt
Output /tmp/MN_GB8ujnE looks good.
ok 34 - Computing differences
Comparing /tmp/JNBlFIixHu to t/mailboxes/malformed.txt
Output /tmp/JNBlFIixHu looks good.
ok 35 - Computing differences
ok 36 # skip GNU grep not available
Testing filename: t/mailboxes/newlines_at_beginning.txt
Comparing /tmp/iRC5tZkbun to t/mailboxes/newlines_at_beginning.txt
Output /tmp/iRC5tZkbun looks good.
ok 37 - Computing differences
Comparing /tmp/qCPGBB89de to t/mailboxes/newlines_at_beginning.txt
Output /tmp/qCPGBB89de looks good.
ok 38 - Computing differences
Comparing /tmp/u7F3LAW1N_ to t/mailboxes/newlines_at_beginning.txt
Output /tmp/u7F3LAW1N_ looks good.
ok 39 - Computing differences
ok 40 # skip GNU grep not available
Testing filename: t/mailboxes/vm-emacs.txt
Comparing /tmp/Qe8ItQBSju to t/mailboxes/vm-emacs.txt
Output /tmp/Qe8ItQBSju looks good.
ok 41 - Computing differences
Comparing /tmp/69DkLQvssh to t/mailboxes/vm-emacs.txt
Output /tmp/69DkLQvssh looks good.
ok 42 - Computing differences
Comparing /tmp/dn6wqJbcbC to t/mailboxes/vm-emacs.txt
Output /tmp/dn6wqJbcbC looks good.
ok 43 - Computing differences
ok 44 # skip GNU grep not available
ok
t/filename_compressed.t ......... 
1..4
Testing filename: t/mailboxes/mailarc-2.txt.bz2
Comparing /tmp/w4spZRswfl to t/mailboxes/mailarc-2.txt
Output /tmp/w4spZRswfl looks good.
ok 1 - Computing differences
Testing filename: t/mailboxes/mailarc-2.txt.gz
Comparing /tmp/gOgCgaMp6P to t/mailboxes/mailarc-2.txt
Output /tmp/gOgCgaMp6P looks good.
ok 2 - Computing differences
Testing filename: t/mailboxes/mailarc-2.txt.lz
ok 3 # skip lzip not available
Testing filename: t/mailboxes/mailarc-2.txt.xz
Comparing /tmp/byPe6QVqNx to t/mailboxes/mailarc-2.txt
Output /tmp/byPe6QVqNx looks good.
ok 4 - Computing differences
ok
t/filename_noncompressed.t ...... 
1..11
Testing filename: t/mailboxes/binary_body.txt
Comparing /tmp/30Ds0W_FRG to t/mailboxes/binary_body.txt
Output /tmp/30Ds0W_FRG looks good.
ok 1 - Computing differences
Testing filename: t/mailboxes/hessbug.txt
Comparing /tmp/Adkmc4rKFS to t/mailboxes/hessbug.txt
Output /tmp/Adkmc4rKFS looks good.
ok 2 - Computing differences
Testing filename: t/mailboxes/invalid-boundaries.txt
Comparing /tmp/yZeo9R67II to t/mailboxes/invalid-boundaries.txt
Output /tmp/yZeo9R67II looks good.
ok 3 - Computing differences
Testing filename: t/mailboxes/mailarc-1-dos.txt
Comparing /tmp/VtUrZBUchS to t/mailboxes/mailarc-1-dos.txt
Output /tmp/VtUrZBUchS looks good.
ok 4 - Computing differences
Testing filename: t/mailboxes/mailarc-1.txt
Comparing /tmp/1WHhqu9JOI to t/mailboxes/mailarc-1.txt
Output /tmp/1WHhqu9JOI looks good.
ok 5 - Computing differences
Testing filename: t/mailboxes/mailarc-2.txt
Comparing /tmp/qf64fEgUHM to t/mailboxes/mailarc-2.txt
Output /tmp/qf64fEgUHM looks good.
ok 6 - Computing differences
Testing filename: t/mailboxes/mailarc-3.txt
Comparing /tmp/d0dF6SzweF to t/mailboxes/mailarc-3.txt
Output /tmp/d0dF6SzweF looks good.
ok 7 - Computing differences
Testing filename: t/mailboxes/mailseparators.txt
Comparing /tmp/iCikXaVEO5 to t/mailboxes/mailseparators.txt
Output /tmp/iCikXaVEO5 looks good.
ok 8 - Computing differences
Testing filename: t/mailboxes/malformed.txt
Comparing /tmp/1BEycHtuuR to t/mailboxes/malformed.txt
Output /tmp/1BEycHtuuR looks good.
ok 9 - Computing differences
Testing filename: t/mailboxes/newlines_at_beginning.txt
Comparing /tmp/Hb4S4GNuLd to t/mailboxes/newlines_at_beginning.txt
Output /tmp/Hb4S4GNuLd looks good.
ok 10 - Computing differences
Testing filename: t/mailboxes/vm-emacs.txt
Comparing /tmp/Kb01foGu5U to t/mailboxes/vm-emacs.txt
Output /tmp/Kb01foGu5U looks good.
ok 11 - Computing differences
ok
t/grep.t ........................ 
1..4
Running test:
  unset LC_ALL LC_COLLATE LANG LC_CTYPE LC_MESSAGES; grep --extended-regexp --line-number --byte-offset --binary-files=text "^From [^:]+(:[0-9][0-9]){1,2}(  *([A-Z]{2,6}|[+-]?[0-9]{4})){1,3}( remote from .*)?
?$" t/mailboxes/mailarc-1.txt
ok 1 # skip 1
Running test:
  unset LC_ALL LC_COLLATE LANG LC_CTYPE LC_MESSAGES; grep --extended-regexp --line-number --byte-offset --binary-files=text "^From [^:]+(:[0-9][0-9]){1,2}(  *([A-Z]{2,6}|[+-]?[0-9]{4})){1,3}( remote from .*)?
?$" t/mailboxes/mailarc-2.txt
ok 2 # skip 1
Running test:
  unset LC_ALL LC_COLLATE LANG LC_CTYPE LC_MESSAGES; grep --extended-regexp --line-number --byte-offset --binary-files=text "^From [^:]+(:[0-9][0-9]){1,2}(  *([A-Z]{2,6}|[+-]?[0-9]{4})){1,3}( remote from .*)?
?$" t/mailboxes/mailarc-3.txt
ok 3 # skip 1
Running test:
  unset LC_ALL LC_COLLATE LANG LC_CTYPE LC_MESSAGES; grep --extended-regexp --line-number --byte-offset --binary-files=text "^From [^:]+(:[0-9][0-9]){1,2}(  *([A-Z]{2,6}|[+-]?[0-9]{4})){1,3}( remote from .*)?
?$" t/mailboxes/mailseparators.txt
ok 4 # skip 1
ok
t/gzip.t ........................ 
1..1
Running test:
  "/usr/bin/cat" "t/mailboxes/mailarc-2.txt.gz" | "/usr/bin/gzip" -cd
Comparing /tmp/8rsbJRhpWH to t/results/mailarc-2.txt
Output /tmp/8rsbJRhpWH looks good.
Comparing /tmp/E6rfAu3_fP to t/results/none
Output /tmp/E6rfAu3_fP looks good.
ok 1 - Computing differences
ok
t/length.t ...................... 
1..30
Testing filename: t/mailboxes/binary_body.txt
Comparing /tmp/Ra3cL_bXig to t/results/length_binary_body.stdout
Output /tmp/Ra3cL_bXig looks good.
ok 1 - Computing differences
Comparing /tmp/FSWtFEE4GC to t/results/length_binary_body.stdout
Output /tmp/FSWtFEE4GC looks good.
ok 2 - Computing differences
ok 3 # skip GNU grep not available
Testing filename: t/mailboxes/hessbug.txt
Comparing /tmp/MLI_4ylO48 to t/results/length_hessbug.stdout
Output /tmp/MLI_4ylO48 looks good.
ok 4 - Computing differences
Comparing /tmp/4hjYKsuKkb to t/results/length_hessbug.stdout
Output /tmp/4hjYKsuKkb looks good.
ok 5 - Computing differences
ok 6 # skip GNU grep not available
Testing filename: t/mailboxes/invalid-boundaries.txt
Comparing /tmp/v5nXQGl0eF to t/results/length_invalid-boundaries.stdout
Output /tmp/v5nXQGl0eF looks good.
ok 7 - Computing differences
Comparing /tmp/NwQLaIBPDO to t/results/length_invalid-boundaries.stdout
Output /tmp/NwQLaIBPDO looks good.
ok 8 - Computing differences
ok 9 # skip GNU grep not available
Testing filename: t/mailboxes/mailarc-1-dos.txt
Comparing /tmp/loOwQajvIU to t/results/length_mailarc-1-dos.stdout
Output /tmp/loOwQajvIU looks good.
ok 10 - Computing differences
Comparing /tmp/KcT1wdvi2p to t/results/length_mailarc-1-dos.stdout
Output /tmp/KcT1wdvi2p looks good.
ok 11 - Computing differences
ok 12 # skip GNU grep not available
Testing filename: t/mailboxes/mailarc-1.txt
Comparing /tmp/Hl5p4u8ak7 to t/results/length_mailarc-1.stdout
Output /tmp/Hl5p4u8ak7 looks good.
ok 13 - Computing differences
Comparing /tmp/tmAzS9t6bk to t/results/length_mailarc-1.stdout
Output /tmp/tmAzS9t6bk looks good.
ok 14 - Computing differences
ok 15 # skip GNU grep not available
Testing filename: t/mailboxes/mailarc-2.txt
Comparing /tmp/_DJlMIYdpl to t/results/length_mailarc-2.stdout
Output /tmp/_DJlMIYdpl looks good.
ok 16 - Computing differences
Comparing /tmp/wUaKQkdmU2 to t/results/length_mailarc-2.stdout
Output /tmp/wUaKQkdmU2 looks good.
ok 17 - Computing differences
ok 18 # skip GNU grep not available
Testing filename: t/mailboxes/mailarc-3.txt
Comparing /tmp/VNNy4oQjV_ to t/results/length_mailarc-3.stdout
Output /tmp/VNNy4oQjV_ looks good.
ok 19 - Computing differences
Comparing /tmp/lZYKhG1hSY to t/results/length_mailarc-3.stdout
Output /tmp/lZYKhG1hSY looks good.
ok 20 - Computing differences
ok 21 # skip GNU grep not available
Testing filename: t/mailboxes/mailseparators.txt
Comparing /tmp/uZOQ13dUVh to t/results/length_mailseparators.stdout
Output /tmp/uZOQ13dUVh looks good.
ok 22 - Computing differences
Comparing /tmp/XZF32ajHRA to t/results/length_mailseparators.stdout
Output /tmp/XZF32ajHRA looks good.
ok 23 - Computing differences
ok 24 # skip GNU grep not available
Testing filename: t/mailboxes/malformed.txt
Comparing /tmp/nypF6VxfSt to t/results/length_malformed.stdout
Output /tmp/nypF6VxfSt looks good.
ok 25 - Computing differences
Comparing /tmp/WK4nk76rkx to t/results/length_malformed.stdout
Output /tmp/WK4nk76rkx looks good.
ok 26 - Computing differences
ok 27 # skip GNU grep not available
Testing filename: t/mailboxes/newlines_at_beginning.txt
Comparing /tmp/cOIxv8Lawv to t/results/length_newlines_at_beginning.stdout
Output /tmp/cOIxv8Lawv looks good.
ok 28 - Computing differences
Comparing /tmp/ElhxpSW_DI to t/results/length_newlines_at_beginning.stdout
Output /tmp/ElhxpSW_DI looks good.
ok 29 - Computing differences
ok 30 # skip GNU grep not available
ok
t/line_number.t ................. 
1..30
Testing filename: t/mailboxes/binary_body.txt
Comparing /tmp/RgXYhk1Ujh to t/results/line_number_binary_body.stdout
Output /tmp/RgXYhk1Ujh looks good.
ok 1 - Computing differences
Comparing /tmp/RROcIhM8ea to t/results/line_number_binary_body.stdout
Output /tmp/RROcIhM8ea looks good.
ok 2 - Computing differences
ok 3 # skip GNU grep not available
Testing filename: t/mailboxes/hessbug.txt
Comparing /tmp/EgMaSyK6Jv to t/results/line_number_hessbug.stdout
Output /tmp/EgMaSyK6Jv looks good.
ok 4 - Computing differences
Comparing /tmp/jGsRQi38c9 to t/results/line_number_hessbug.stdout
Output /tmp/jGsRQi38c9 looks good.
ok 5 - Computing differences
ok 6 # skip GNU grep not available
Testing filename: t/mailboxes/invalid-boundaries.txt
Comparing /tmp/xwS_CtNUYg to t/results/line_number_invalid-boundaries.stdout
Output /tmp/xwS_CtNUYg looks good.
ok 7 - Computing differences
Comparing /tmp/YDjq1vsIvX to t/results/line_number_invalid-boundaries.stdout
Output /tmp/YDjq1vsIvX looks good.
ok 8 - Computing differences
ok 9 # skip GNU grep not available
Testing filename: t/mailboxes/mailarc-1-dos.txt
Comparing /tmp/RQD9WH2EfW to t/results/line_number_mailarc-1-dos.stdout
Output /tmp/RQD9WH2EfW looks good.
ok 10 - Computing differences
Comparing /tmp/uGTkXDHEOl to t/results/line_number_mailarc-1-dos.stdout
Output /tmp/uGTkXDHEOl looks good.
ok 11 - Computing differences
ok 12 # skip GNU grep not available
Testing filename: t/mailboxes/mailarc-1.txt
Comparing /tmp/4w7RLfzzfb to t/results/line_number_mailarc-1.stdout
Output /tmp/4w7RLfzzfb looks good.
ok 13 - Computing differences
Comparing /tmp/kN3ImsvcwE to t/results/line_number_mailarc-1.stdout
Output /tmp/kN3ImsvcwE looks good.
ok 14 - Computing differences
ok 15 # skip GNU grep not available
Testing filename: t/mailboxes/mailarc-2.txt
Comparing /tmp/co0B289KPd to t/results/line_number_mailarc-2.stdout
Output /tmp/co0B289KPd looks good.
ok 16 - Computing differences
Comparing /tmp/pYCfth_3P3 to t/results/line_number_mailarc-2.stdout
Output /tmp/pYCfth_3P3 looks good.
ok 17 - Computing differences
ok 18 # skip GNU grep not available
Testing filename: t/mailboxes/mailarc-3.txt
Comparing /tmp/M4sfNO_FQq to t/results/line_number_mailarc-3.stdout
Output /tmp/M4sfNO_FQq looks good.
ok 19 - Computing differences
Comparing /tmp/sK0mUIjkrz to t/results/line_number_mailarc-3.stdout
Output /tmp/sK0mUIjkrz looks good.
ok 20 - Computing differences
ok 21 # skip GNU grep not available
Testing filename: t/mailboxes/mailseparators.txt
Comparing /tmp/p5MIe4OqtR to t/results/line_number_mailseparators.stdout
Output /tmp/p5MIe4OqtR looks good.
ok 22 - Computing differences
Comparing /tmp/IqzFXLZmpu to t/results/line_number_mailseparators.stdout
Output /tmp/IqzFXLZmpu looks good.
ok 23 - Computing differences
ok 24 # skip GNU grep not available
Testing filename: t/mailboxes/malformed.txt
Comparing /tmp/bt4vLmbkAo to t/results/line_number_malformed.stdout
Output /tmp/bt4vLmbkAo looks good.
ok 25 - Computing differences
Comparing /tmp/dj1Y1Y4I8P to t/results/line_number_malformed.stdout
Output /tmp/dj1Y1Y4I8P looks good.
ok 26 - Computing differences
ok 27 # skip GNU grep not available
Testing filename: t/mailboxes/newlines_at_beginning.txt
Comparing /tmp/r2KO0j0uiU to t/results/line_number_newlines_at_beginning.stdout
Output /tmp/r2KO0j0uiU looks good.
ok 28 - Computing differences
Comparing /tmp/OSXbI5Mysy to t/results/line_number_newlines_at_beginning.stdout
Output /tmp/OSXbI5Mysy looks good.
ok 29 - Computing differences
ok 30 # skip GNU grep not available
ok
t/lzip.t ........................ 
1..1
Running test:
  "/usr/bin/cat" "t/mailboxes/mailarc-2.txt.lz" | "lzip" -cd
ok 1 # skip lzip not available
ok
t/number.t ...................... 
1..30
Testing filename: t/mailboxes/binary_body.txt
Comparing /tmp/3irtpCCd3V to t/results/number_binary_body.stdout
Output /tmp/3irtpCCd3V looks good.
ok 1 - Computing differences
Comparing /tmp/A159nlrz2G to t/results/number_binary_body.stdout
Output /tmp/A159nlrz2G looks good.
ok 2 - Computing differences
ok 3 # skip GNU grep not available
Testing filename: t/mailboxes/hessbug.txt
Comparing /tmp/t5bmaPqeKE to t/results/number_hessbug.stdout
Output /tmp/t5bmaPqeKE looks good.
ok 4 - Computing differences
Comparing /tmp/z8UaBycMfs to t/results/number_hessbug.stdout
Output /tmp/z8UaBycMfs looks good.
ok 5 - Computing differences
ok 6 # skip GNU grep not available
Testing filename: t/mailboxes/invalid-boundaries.txt
Comparing /tmp/EpeMLF_nuO to t/results/number_invalid-boundaries.stdout
Output /tmp/EpeMLF_nuO looks good.
ok 7 - Computing differences
Comparing /tmp/2xr6VHaQ26 to t/results/number_invalid-boundaries.stdout
Output /tmp/2xr6VHaQ26 looks good.
ok 8 - Computing differences
ok 9 # skip GNU grep not available
Testing filename: t/mailboxes/mailarc-1-dos.txt
Comparing /tmp/PL_t7jD9Bv to t/results/number_mailarc-1-dos.stdout
Output /tmp/PL_t7jD9Bv looks good.
ok 10 - Computing differences
Comparing /tmp/0hBlJyOArr to t/results/number_mailarc-1-dos.stdout
Output /tmp/0hBlJyOArr looks good.
ok 11 - Computing differences
ok 12 # skip GNU grep not available
Testing filename: t/mailboxes/mailarc-1.txt
Comparing /tmp/ruRQ9fh4GE to t/results/number_mailarc-1.stdout
Output /tmp/ruRQ9fh4GE looks good.
ok 13 - Computing differences
Comparing /tmp/Jkn1nFAHCH to t/results/number_mailarc-1.stdout
Output /tmp/Jkn1nFAHCH looks good.
ok 14 - Computing differences
ok 15 # skip GNU grep not available
Testing filename: t/mailboxes/mailarc-2.txt
Comparing /tmp/GkPMjnfZaE to t/results/number_mailarc-2.stdout
Output /tmp/GkPMjnfZaE looks good.
ok 16 - Computing differences
Comparing /tmp/qMcJ88Il8S to t/results/number_mailarc-2.stdout
Output /tmp/qMcJ88Il8S looks good.
ok 17 - Computing differences
ok 18 # skip GNU grep not available
Testing filename: t/mailboxes/mailarc-3.txt
Comparing /tmp/LGusAnDhX8 to t/results/number_mailarc-3.stdout
Output /tmp/LGusAnDhX8 looks good.
ok 19 - Computing differences
Comparing /tmp/sjJccz24Ag to t/results/number_mailarc-3.stdout
Output /tmp/sjJccz24Ag looks good.
ok 20 - Computing differences
ok 21 # skip GNU grep not available
Testing filename: t/mailboxes/mailseparators.txt
Comparing /tmp/GgunwGTSiW to t/results/number_mailseparators.stdout
Output /tmp/GgunwGTSiW looks good.
ok 22 - Computing differences
Comparing /tmp/GFvjS1Fm2q to t/results/number_mailseparators.stdout
Output /tmp/GFvjS1Fm2q looks good.
ok 23 - Computing differences
ok 24 # skip GNU grep not available
Testing filename: t/mailboxes/malformed.txt
Comparing /tmp/nqzm5TljX1 to t/results/number_malformed.stdout
Output /tmp/nqzm5TljX1 looks good.
ok 25 - Computing differences
Comparing /tmp/5Qia013lHo to t/results/number_malformed.stdout
Output /tmp/5Qia013lHo looks good.
ok 26 - Computing differences
ok 27 # skip GNU grep not available
Testing filename: t/mailboxes/newlines_at_beginning.txt
Comparing /tmp/sWDSUy9WvD to t/results/number_newlines_at_beginning.stdout
Output /tmp/sWDSUy9WvD looks good.
ok 28 - Computing differences
Comparing /tmp/PuTpQQWY42 to t/results/number_newlines_at_beginning.stdout
Output /tmp/PuTpQQWY42 looks good.
ok 29 - Computing differences
ok 30 # skip GNU grep not available
ok
t/offset.t ...................... 
1..30
Testing filename: t/mailboxes/binary_body.txt
Comparing /tmp/7sT0N4llj_ to t/results/offset_binary_body.stdout
Output /tmp/7sT0N4llj_ looks good.
ok 1 - Computing differences
Comparing /tmp/yeRB6wCz8f to t/results/offset_binary_body.stdout
Output /tmp/yeRB6wCz8f looks good.
ok 2 - Computing differences
ok 3 # skip GNU grep not available
Testing filename: t/mailboxes/hessbug.txt
Comparing /tmp/zh2QOywnaG to t/results/offset_hessbug.stdout
Output /tmp/zh2QOywnaG looks good.
ok 4 - Computing differences
Comparing /tmp/I_OOjD6v7j to t/results/offset_hessbug.stdout
Output /tmp/I_OOjD6v7j looks good.
ok 5 - Computing differences
ok 6 # skip GNU grep not available
Testing filename: t/mailboxes/invalid-boundaries.txt
Comparing /tmp/m4FUyFBrO5 to t/results/offset_invalid-boundaries.stdout
Output /tmp/m4FUyFBrO5 looks good.
ok 7 - Computing differences
Comparing /tmp/Nu4SOtsNU0 to t/results/offset_invalid-boundaries.stdout
Output /tmp/Nu4SOtsNU0 looks good.
ok 8 - Computing differences
ok 9 # skip GNU grep not available
Testing filename: t/mailboxes/mailarc-1-dos.txt
Comparing /tmp/FgLzr_kaSA to t/results/offset_mailarc-1-dos.stdout
Output /tmp/FgLzr_kaSA looks good.
ok 10 - Computing differences
Comparing /tmp/ocLlGl_onw to t/results/offset_mailarc-1-dos.stdout
Output /tmp/ocLlGl_onw looks good.
ok 11 - Computing differences
ok 12 # skip GNU grep not available
Testing filename: t/mailboxes/mailarc-1.txt
Comparing /tmp/XF4NH8E0V1 to t/results/offset_mailarc-1.stdout
Output /tmp/XF4NH8E0V1 looks good.
ok 13 - Computing differences
Comparing /tmp/VCBCLovWcD to t/results/offset_mailarc-1.stdout
Output /tmp/VCBCLovWcD looks good.
ok 14 - Computing differences
ok 15 # skip GNU grep not available
Testing filename: t/mailboxes/mailarc-2.txt
Comparing /tmp/gGYxi9HoDk to t/results/offset_mailarc-2.stdout
Output /tmp/gGYxi9HoDk looks good.
ok 16 - Computing differences
Comparing /tmp/Xri5ceZoTZ to t/results/offset_mailarc-2.stdout
Output /tmp/Xri5ceZoTZ looks good.
ok 17 - Computing differences
ok 18 # skip GNU grep not available
Testing filename: t/mailboxes/mailarc-3.txt
Comparing /tmp/A14Z018rDk to t/results/offset_mailarc-3.stdout
Output /tmp/A14Z018rDk looks good.
ok 19 - Computing differences
Comparing /tmp/DDEKht1bNN to t/results/offset_mailarc-3.stdout
Output /tmp/DDEKht1bNN looks good.
ok 20 - Computing differences
ok 21 # skip GNU grep not available
Testing filename: t/mailboxes/mailseparators.txt
Comparing /tmp/upP9ZbFu5Q to t/results/offset_mailseparators.stdout
Output /tmp/upP9ZbFu5Q looks good.
ok 22 - Computing differences
Comparing /tmp/BwhzBDXZbD to t/results/offset_mailseparators.stdout
Output /tmp/BwhzBDXZbD looks good.
ok 23 - Computing differences
ok 24 # skip GNU grep not available
Testing filename: t/mailboxes/malformed.txt
Comparing /tmp/ufrAzddbNX to t/results/offset_malformed.stdout
Output /tmp/ufrAzddbNX looks good.
ok 25 - Computing differences
Comparing /tmp/MiPMZ2ylSV to t/results/offset_malformed.stdout
Output /tmp/MiPMZ2ylSV looks good.
ok 26 - Computing differences
ok 27 # skip GNU grep not available
Testing filename: t/mailboxes/newlines_at_beginning.txt
Comparing /tmp/WAJSGkwe7r to t/results/offset_newlines_at_beginning.stdout
Output /tmp/WAJSGkwe7r looks good.
ok 28 - Computing differences
Comparing /tmp/kd8dN3eR7E to t/results/offset_newlines_at_beginning.stdout
Output /tmp/kd8dN3eR7E looks good.
ok 29 - Computing differences
ok 30 # skip GNU grep not available
ok
t/prologue.t .................... 
1..33
Testing filename: t/mailboxes/binary_body.txt
Comparing /tmp/VJnTSx76iE to t/mailboxes/binary_body.txt
Output /tmp/VJnTSx76iE looks good.
ok 1 - Computing differences
Comparing /tmp/bP9MsVMvtN to t/mailboxes/binary_body.txt
Output /tmp/bP9MsVMvtN looks good.
ok 2 - Computing differences
ok 3 # skip GNU grep not available
Testing filename: t/mailboxes/hessbug.txt
Comparing /tmp/2_vYzWLgEW to t/mailboxes/hessbug.txt
Output /tmp/2_vYzWLgEW looks good.
ok 4 - Computing differences
Comparing /tmp/8giIF3uxyg to t/mailboxes/hessbug.txt
Output /tmp/8giIF3uxyg looks good.
ok 5 - Computing differences
ok 6 # skip GNU grep not available
Testing filename: t/mailboxes/invalid-boundaries.txt
Comparing /tmp/h9CEf2Iqxv to t/mailboxes/invalid-boundaries.txt
Output /tmp/h9CEf2Iqxv looks good.
ok 7 - Computing differences
Comparing /tmp/CMhjKdObLQ to t/mailboxes/invalid-boundaries.txt
Output /tmp/CMhjKdObLQ looks good.
ok 8 - Computing differences
ok 9 # skip GNU grep not available
Testing filename: t/mailboxes/mailarc-1-dos.txt
Comparing /tmp/Vc5CTEsOEm to t/mailboxes/mailarc-1-dos.txt
Output /tmp/Vc5CTEsOEm looks good.
ok 10 - Computing differences
Comparing /tmp/cTSnsjHYoG to t/mailboxes/mailarc-1-dos.txt
Output /tmp/cTSnsjHYoG looks good.
ok 11 - Computing differences
ok 12 # skip GNU grep not available
Testing filename: t/mailboxes/mailarc-1.txt
Comparing /tmp/U_x2EeMMlt to t/mailboxes/mailarc-1.txt
Output /tmp/U_x2EeMMlt looks good.
ok 13 - Computing differences
Comparing /tmp/5G81SxISPo to t/mailboxes/mailarc-1.txt
Output /tmp/5G81SxISPo looks good.
ok 14 - Computing differences
ok 15 # skip GNU grep not available
Testing filename: t/mailboxes/mailarc-2.txt
Comparing /tmp/rdL7JVrbPK to t/mailboxes/mailarc-2.txt
Output /tmp/rdL7JVrbPK looks good.
ok 16 - Computing differences
Comparing /tmp/ymQJ8aquD1 to t/mailboxes/mailarc-2.txt
Output /tmp/ymQJ8aquD1 looks good.
ok 17 - Computing differences
ok 18 # skip GNU grep not available
Testing filename: t/mailboxes/mailarc-3.txt
Comparing /tmp/o9lMtYPbl9 to t/mailboxes/mailarc-3.txt
Output /tmp/o9lMtYPbl9 looks good.
ok 19 - Computing differences
Comparing /tmp/NjNmS7DwzN to t/mailboxes/mailarc-3.txt
Output /tmp/NjNmS7DwzN looks good.
ok 20 - Computing differences
ok 21 # skip GNU grep not available
Testing filename: t/mailboxes/mailseparators.txt
Comparing /tmp/9OMStuYfWB to t/mailboxes/mailseparators.txt
Output /tmp/9OMStuYfWB looks good.
ok 22 - Computing differences
Comparing /tmp/JYTKRJmyg4 to t/mailboxes/mailseparators.txt
Output /tmp/JYTKRJmyg4 looks good.
ok 23 - Computing differences
ok 24 # skip GNU grep not available
Testing filename: t/mailboxes/malformed.txt
Comparing /tmp/KW6IjU969b to t/mailboxes/malformed.txt
Output /tmp/KW6IjU969b looks good.
ok 25 - Computing differences
Comparing /tmp/Q9AKm1FHR_ to t/mailboxes/malformed.txt
Output /tmp/Q9AKm1FHR_ looks good.
ok 26 - Computing differences
ok 27 # skip GNU grep not available
Testing filename: t/mailboxes/newlines_at_beginning.txt
Comparing /tmp/H2_SSeKtbY to t/mailboxes/newlines_at_beginning.txt
Output /tmp/H2_SSeKtbY looks good.
ok 28 - Computing differences
Comparing /tmp/rgdTepzjF1 to t/mailboxes/newlines_at_beginning.txt
Output /tmp/rgdTepzjF1 looks good.
ok 29 - Computing differences
ok 30 # skip GNU grep not available
Testing filename: t/mailboxes/vm-emacs.txt
Comparing /tmp/FwhwA2X3Yp to t/mailboxes/vm-emacs.txt
Output /tmp/FwhwA2X3Yp looks good.
ok 31 - Computing differences
Comparing /tmp/u0Xg8xs3Vg to t/mailboxes/vm-emacs.txt
Output /tmp/u0Xg8xs3Vg looks good.
ok 32 - Computing differences
ok 33 # skip GNU grep not available
ok
t/reset.t ....................... 
1..60
Testing filename: t/mailboxes/binary_body.txt
Testing partial mailbox reset with Perl implementation
Comparing /tmp/DaGTL54gx8 to t/results/reset_binary_body.stdout
Output /tmp/DaGTL54gx8 looks good.
ok 1 - Computing differences
Testing partial mailbox reset with Cache implementation
Comparing /tmp/nEUyQeksM9 to t/results/reset_binary_body.stdout
Output /tmp/nEUyQeksM9 looks good.
ok 2 - Computing differences
Testing partial mailbox reset with Grep implementation
ok 3 # skip GNU grep not available
Testing full mailbox reset with Perl implementation
Comparing /tmp/NkGBfHSIIF to t/results/reset_binary_body.stdout
Output /tmp/NkGBfHSIIF looks good.
ok 4 - Computing differences
Testing full mailbox reset with Cache implementation
Comparing /tmp/n_GrBXC3Na to t/results/reset_binary_body.stdout
Output /tmp/n_GrBXC3Na looks good.
ok 5 - Computing differences
Testing full mailbox reset with Grep implementation
ok 6 # skip GNU grep not available
Testing filename: t/mailboxes/hessbug.txt
Testing partial mailbox reset with Perl implementation
Comparing /tmp/hOGSZsCt2R to t/results/reset_hessbug.stdout
Output /tmp/hOGSZsCt2R looks good.
ok 7 - Computing differences
Testing partial mailbox reset with Cache implementation
Comparing /tmp/PXNENu7kvF to t/results/reset_hessbug.stdout
Output /tmp/PXNENu7kvF looks good.
ok 8 - Computing differences
Testing partial mailbox reset with Grep implementation
ok 9 # skip GNU grep not available
Testing full mailbox reset with Perl implementation
Comparing /tmp/CuZi993eHI to t/results/reset_hessbug.stdout
Output /tmp/CuZi993eHI looks good.
ok 10 - Computing differences
Testing full mailbox reset with Cache implementation
Comparing /tmp/_CqX7pOJr9 to t/results/reset_hessbug.stdout
Output /tmp/_CqX7pOJr9 looks good.
ok 11 - Computing differences
Testing full mailbox reset with Grep implementation
ok 12 # skip GNU grep not available
Testing filename: t/mailboxes/invalid-boundaries.txt
Testing partial mailbox reset with Perl implementation
Comparing /tmp/im2xQ3CCn9 to t/results/reset_invalid-boundaries.stdout
Output /tmp/im2xQ3CCn9 looks good.
ok 13 - Computing differences
Testing partial mailbox reset with Cache implementation
Comparing /tmp/muPES8IBwx to t/results/reset_invalid-boundaries.stdout
Output /tmp/muPES8IBwx looks good.
ok 14 - Computing differences
Testing partial mailbox reset with Grep implementation
ok 15 # skip GNU grep not available
Testing full mailbox reset with Perl implementation
Comparing /tmp/th1ArxRJLR to t/results/reset_invalid-boundaries.stdout
Output /tmp/th1ArxRJLR looks good.
ok 16 - Computing differences
Testing full mailbox reset with Cache implementation
Comparing /tmp/mmFFSW9kv4 to t/results/reset_invalid-boundaries.stdout
Output /tmp/mmFFSW9kv4 looks good.
ok 17 - Computing differences
Testing full mailbox reset with Grep implementation
ok 18 # skip GNU grep not available
Testing filename: t/mailboxes/mailarc-1-dos.txt
Testing partial mailbox reset with Perl implementation
Comparing /tmp/n_l3oqOZOZ to t/results/reset_mailarc-1-dos.stdout
Output /tmp/n_l3oqOZOZ looks good.
ok 19 - Computing differences
Testing partial mailbox reset with Cache implementation
Comparing /tmp/lWgIJEPOsT to t/results/reset_mailarc-1-dos.stdout
Output /tmp/lWgIJEPOsT looks good.
ok 20 - Computing differences
Testing partial mailbox reset with Grep implementation
ok 21 # skip GNU grep not available
Testing full mailbox reset with Perl implementation
Comparing /tmp/LzxdR0pctM to t/results/reset_mailarc-1-dos.stdout
Output /tmp/LzxdR0pctM looks good.
ok 22 - Computing differences
Testing full mailbox reset with Cache implementation
Comparing /tmp/NM3wrjQOFG to t/results/reset_mailarc-1-dos.stdout
Output /tmp/NM3wrjQOFG looks good.
ok 23 - Computing differences
Testing full mailbox reset with Grep implementation
ok 24 # skip GNU grep not available
Testing filename: t/mailboxes/mailarc-1.txt
Testing partial mailbox reset with Perl implementation
Comparing /tmp/4bIpaoVF4b to t/results/reset_mailarc-1.stdout
Output /tmp/4bIpaoVF4b looks good.
ok 25 - Computing differences
Testing partial mailbox reset with Cache implementation
Comparing /tmp/T7OjpYZxSn to t/results/reset_mailarc-1.stdout
Output /tmp/T7OjpYZxSn looks good.
ok 26 - Computing differences
Testing partial mailbox reset with Grep implementation
ok 27 # skip GNU grep not available
Testing full mailbox reset with Perl implementation
Comparing /tmp/pEqFpE2FkO to t/results/reset_mailarc-1.stdout
Output /tmp/pEqFpE2FkO looks good.
ok 28 - Computing differences
Testing full mailbox reset with Cache implementation
Comparing /tmp/btvZBftiqK to t/results/reset_mailarc-1.stdout
Output /tmp/btvZBftiqK looks good.
ok 29 - Computing differences
Testing full mailbox reset with Grep implementation
ok 30 # skip GNU grep not available
Testing filename: t/mailboxes/mailarc-2.txt
Testing partial mailbox reset with Perl implementation
Comparing /tmp/JeC965oPTu to t/results/reset_mailarc-2.stdout
Output /tmp/JeC965oPTu looks good.
ok 31 - Computing differences
Testing partial mailbox reset with Cache implementation
Comparing /tmp/3msAcP2nAN to t/results/reset_mailarc-2.stdout
Output /tmp/3msAcP2nAN looks good.
ok 32 - Computing differences
Testing partial mailbox reset with Grep implementation
ok 33 # skip GNU grep not available
Testing full mailbox reset with Perl implementation
Comparing /tmp/UeuA6bfpxL to t/results/reset_mailarc-2.stdout
Output /tmp/UeuA6bfpxL looks good.
ok 34 - Computing differences
Testing full mailbox reset with Cache implementation
Comparing /tmp/7t_Xck0SyW to t/results/reset_mailarc-2.stdout
Output /tmp/7t_Xck0SyW looks good.
ok 35 - Computing differences
Testing full mailbox reset with Grep implementation
ok 36 # skip GNU grep not available
Testing filename: t/mailboxes/mailarc-3.txt
Testing partial mailbox reset with Perl implementation
Comparing /tmp/FjFIYAGw1E to t/results/reset_mailarc-3.stdout
Output /tmp/FjFIYAGw1E looks good.
ok 37 - Computing differences
Testing partial mailbox reset with Cache implementation
Comparing /tmp/wZQ7pcUdTN to t/results/reset_mailarc-3.stdout
Output /tmp/wZQ7pcUdTN looks good.
ok 38 - Computing differences
Testing partial mailbox reset with Grep implementation
ok 39 # skip GNU grep not available
Testing full mailbox reset with Perl implementation
Comparing /tmp/zrXuhlGXM4 to t/results/reset_mailarc-3.stdout
Output /tmp/zrXuhlGXM4 looks good.
ok 40 - Computing differences
Testing full mailbox reset with Cache implementation
Comparing /tmp/r2_QWMJO9m to t/results/reset_mailarc-3.stdout
Output /tmp/r2_QWMJO9m looks good.
ok 41 - Computing differences
Testing full mailbox reset with Grep implementation
ok 42 # skip GNU grep not available
Testing filename: t/mailboxes/mailseparators.txt
Testing partial mailbox reset with Perl implementation
Comparing /tmp/FiVr145XIB to t/results/reset_mailseparators.stdout
Output /tmp/FiVr145XIB looks good.
ok 43 - Computing differences
Testing partial mailbox reset with Cache implementation
Comparing /tmp/ZJuMi4XBeH to t/results/reset_mailseparators.stdout
Output /tmp/ZJuMi4XBeH looks good.
ok 44 - Computing differences
Testing partial mailbox reset with Grep implementation
ok 45 # skip GNU grep not available
Testing full mailbox reset with Perl implementation
Comparing /tmp/Z8PwuOv8cx to t/results/reset_mailseparators.stdout
Output /tmp/Z8PwuOv8cx looks good.
ok 46 - Computing differences
Testing full mailbox reset with Cache implementation
Comparing /tmp/QqUczNyE7o to t/results/reset_mailseparators.stdout
Output /tmp/QqUczNyE7o looks good.
ok 47 - Computing differences
Testing full mailbox reset with Grep implementation
ok 48 # skip GNU grep not available
Testing filename: t/mailboxes/malformed.txt
Testing partial mailbox reset with Perl implementation
Comparing /tmp/iiLg9Qs8ML to t/results/reset_malformed.stdout
Output /tmp/iiLg9Qs8ML looks good.
ok 49 - Computing differences
Testing partial mailbox reset with Cache implementation
Comparing /tmp/gRxCpxgM3P to t/results/reset_malformed.stdout
Output /tmp/gRxCpxgM3P looks good.
ok 50 - Computing differences
Testing partial mailbox reset with Grep implementation
ok 51 # skip GNU grep not available
Testing full mailbox reset with Perl implementation
Comparing /tmp/zF0UZ0eK_d to t/results/reset_malformed.stdout
Output /tmp/zF0UZ0eK_d looks good.
ok 52 - Computing differences
Testing full mailbox reset with Cache implementation
Comparing /tmp/q9HJh8RpLk to t/results/reset_malformed.stdout
Output /tmp/q9HJh8RpLk looks good.
ok 53 - Computing differences
Testing full mailbox reset with Grep implementation
ok 54 # skip GNU grep not available
Testing filename: t/mailboxes/newlines_at_beginning.txt
Testing partial mailbox reset with Perl implementation
Comparing /tmp/3fyNZAQ4Zd to t/results/reset_newlines_at_beginning.stdout
Output /tmp/3fyNZAQ4Zd looks good.
ok 55 - Computing differences
Testing partial mailbox reset with Cache implementation
Comparing /tmp/rfZjzQu1rp to t/results/reset_newlines_at_beginning.stdout
Output /tmp/rfZjzQu1rp looks good.
ok 56 - Computing differences
Testing partial mailbox reset with Grep implementation
ok 57 # skip GNU grep not available
Testing full mailbox reset with Perl implementation
Comparing /tmp/UZ1xgGhe7b to t/results/reset_newlines_at_beginning.stdout
Output /tmp/UZ1xgGhe7b looks good.
ok 58 - Computing differences
Testing full mailbox reset with Cache implementation
Comparing /tmp/cg5ujgcg13 to t/results/reset_newlines_at_beginning.stdout
Output /tmp/cg5ujgcg13 looks good.
ok 59 - Computing differences
Testing full mailbox reset with Grep implementation
ok 60 # skip GNU grep not available
ok
t/separators.t .................. 
1..6
Testing filename: t/mailboxes/separators1.sep
ok 1 - Number of emails in t/mailboxes/separators1.sep
ok 2 - Number of emails in t/mailboxes/separators1.sep
ok 3 # skip GNU grep not available
Testing filename: t/mailboxes/separators2.sep
ok 4 - Number of emails in t/mailboxes/separators2.sep
ok 5 - Number of emails in t/mailboxes/separators2.sep
ok 6 # skip GNU grep not available
ok
t/stdin_compressed.t ............ 
1..4
Testing filename: t/mailboxes/mailarc-2.txt.bz2
Comparing /tmp/WCTeFuF_aA to t/mailboxes/mailarc-2.txt
Output /tmp/WCTeFuF_aA looks good.
ok 1 - Computing differences
Testing filename: t/mailboxes/mailarc-2.txt.gz
Comparing /tmp/bMjbbeEqdo to t/mailboxes/mailarc-2.txt
Output /tmp/bMjbbeEqdo looks good.
ok 2 - Computing differences
Testing filename: t/mailboxes/mailarc-2.txt.lz
ok 3 # skip lzip not available
Testing filename: t/mailboxes/mailarc-2.txt.xz
Comparing /tmp/zqkFbJktak to t/mailboxes/mailarc-2.txt
Output /tmp/zqkFbJktak looks good.
ok 4 - Computing differences
ok
t/stdin_uncompressed.t .......... 
1..11
Testing filename: t/mailboxes/binary_body.txt
Comparing /tmp/wRWFipHJt0 to t/mailboxes/binary_body.txt
Output /tmp/wRWFipHJt0 looks good.
ok 1 - Computing differences
Testing filename: t/mailboxes/hessbug.txt
Comparing /tmp/YtGY9zm4G2 to t/mailboxes/hessbug.txt
Output /tmp/YtGY9zm4G2 looks good.
ok 2 - Computing differences
Testing filename: t/mailboxes/invalid-boundaries.txt
Comparing /tmp/6e4Su20IuL to t/mailboxes/invalid-boundaries.txt
Output /tmp/6e4Su20IuL looks good.
ok 3 - Computing differences
Testing filename: t/mailboxes/mailarc-1-dos.txt
Comparing /tmp/DlC3FpIzAf to t/mailboxes/mailarc-1-dos.txt
Output /tmp/DlC3FpIzAf looks good.
ok 4 - Computing differences
Testing filename: t/mailboxes/mailarc-1.txt
Comparing /tmp/yizpOrpixm to t/mailboxes/mailarc-1.txt
Output /tmp/yizpOrpixm looks good.
ok 5 - Computing differences
Testing filename: t/mailboxes/mailarc-2.txt
Comparing /tmp/_fvKIBJSj9 to t/mailboxes/mailarc-2.txt
Output /tmp/_fvKIBJSj9 looks good.
ok 6 - Computing differences
Testing filename: t/mailboxes/mailarc-3.txt
Comparing /tmp/PvP3yaZIiw to t/mailboxes/mailarc-3.txt
Output /tmp/PvP3yaZIiw looks good.
ok 7 - Computing differences
Testing filename: t/mailboxes/mailseparators.txt
Comparing /tmp/8xGB5P77C3 to t/mailboxes/mailseparators.txt
Output /tmp/8xGB5P77C3 looks good.
ok 8 - Computing differences
Testing filename: t/mailboxes/malformed.txt
Comparing /tmp/liOvdfwUU6 to t/mailboxes/malformed.txt
Output /tmp/liOvdfwUU6 looks good.
ok 9 - Computing differences
Testing filename: t/mailboxes/newlines_at_beginning.txt
Comparing /tmp/cr5Io2BlIe to t/mailboxes/newlines_at_beginning.txt
Output /tmp/cr5Io2BlIe looks good.
ok 10 - Computing differences
Testing filename: t/mailboxes/vm-emacs.txt
Comparing /tmp/3nS9wlml1z to t/mailboxes/vm-emacs.txt
Output /tmp/3nS9wlml1z looks good.
ok 11 - Computing differences
ok
t/undef_return_value.t .......... 
1..33
Testing Perl 
Comparing /tmp/twh3FRzHOB to t/mailboxes/binary_body.txt
Output /tmp/twh3FRzHOB looks good.
ok 1 - Computing differences
Testing Cache implementation
Comparing /tmp/xN8cN2rIiW to t/mailboxes/binary_body.txt
Output /tmp/xN8cN2rIiW looks good.
ok 2 - Computing differences
ok 3 # skip GNU grep not available
Testing Perl 
Comparing /tmp/1eQ7vJXqUj to t/mailboxes/hessbug.txt
Output /tmp/1eQ7vJXqUj looks good.
ok 4 - Computing differences
Testing Cache implementation
Comparing /tmp/yrx2cF2FNb to t/mailboxes/hessbug.txt
Output /tmp/yrx2cF2FNb looks good.
ok 5 - Computing differences
ok 6 # skip GNU grep not available
Testing Perl 
Comparing /tmp/Kk0yx5UrJF to t/mailboxes/invalid-boundaries.txt
Output /tmp/Kk0yx5UrJF looks good.
ok 7 - Computing differences
Testing Cache implementation
Comparing /tmp/AAUpd3XO0X to t/mailboxes/invalid-boundaries.txt
Output /tmp/AAUpd3XO0X looks good.
ok 8 - Computing differences
ok 9 # skip GNU grep not available
Testing Perl 
Comparing /tmp/7FfetWlK5y to t/mailboxes/mailarc-1-dos.txt
Output /tmp/7FfetWlK5y looks good.
ok 10 - Computing differences
Testing Cache implementation
Comparing /tmp/p4ErxsYiDT to t/mailboxes/mailarc-1-dos.txt
Output /tmp/p4ErxsYiDT looks good.
ok 11 - Computing differences
ok 12 # skip GNU grep not available
Testing Perl 
Comparing /tmp/3ZCFUut21J to t/mailboxes/mailarc-1.txt
Output /tmp/3ZCFUut21J looks good.
ok 13 - Computing differences
Testing Cache implementation
Comparing /tmp/IWUGnQszkB to t/mailboxes/mailarc-1.txt
Output /tmp/IWUGnQszkB looks good.
ok 14 - Computing differences
ok 15 # skip GNU grep not available
Testing Perl 
Comparing /tmp/atbqbGy0fC to t/mailboxes/mailarc-2.txt
Output /tmp/atbqbGy0fC looks good.
ok 16 - Computing differences
Testing Cache implementation
Comparing /tmp/7ouPcgvX7y to t/mailboxes/mailarc-2.txt
Output /tmp/7ouPcgvX7y looks good.
ok 17 - Computing differences
ok 18 # skip GNU grep not available
Testing Perl 
Comparing /tmp/0Xc0ckhJU8 to t/mailboxes/mailarc-3.txt
Output /tmp/0Xc0ckhJU8 looks good.
ok 19 - Computing differences
Testing Cache implementation
Comparing /tmp/8opZXmbpZE to t/mailboxes/mailarc-3.txt
Output /tmp/8opZXmbpZE looks good.
ok 20 - Computing differences
ok 21 # skip GNU grep not available
Testing Perl 
Comparing /tmp/5vE9gmP_QT to t/mailboxes/mailseparators.txt
Output /tmp/5vE9gmP_QT looks good.
ok 22 - Computing differences
Testing Cache implementation
Comparing /tmp/sPCaRcEAw9 to t/mailboxes/mailseparators.txt
Output /tmp/sPCaRcEAw9 looks good.
ok 23 - Computing differences
ok 24 # skip GNU grep not available
Testing Perl 
Comparing /tmp/SYPlT4k5nO to t/mailboxes/malformed.txt
Output /tmp/SYPlT4k5nO looks good.
ok 25 - Computing differences
Testing Cache implementation
Comparing /tmp/aphNI1WKVD to t/mailboxes/malformed.txt
Output /tmp/aphNI1WKVD looks good.
ok 26 - Computing differences
ok 27 # skip GNU grep not available
Testing Perl 
Comparing /tmp/XgCueVCRB4 to t/mailboxes/newlines_at_beginning.txt
Output /tmp/XgCueVCRB4 looks good.
ok 28 - Computing differences
Testing Cache implementation
Comparing /tmp/9jDlEuUz8C to t/mailboxes/newlines_at_beginning.txt
Output /tmp/9jDlEuUz8C looks good.
ok 29 - Computing differences
ok 30 # skip GNU grep not available
Testing Perl 
Comparing /tmp/bjGtQgsnsZ to t/mailboxes/vm-emacs.txt
Output /tmp/bjGtQgsnsZ looks good.
ok 31 - Computing differences
Testing Cache implementation
Comparing /tmp/w6KM_X74so to t/mailboxes/vm-emacs.txt
Output /tmp/w6KM_X74so looks good.
ok 32 - Computing differences
ok 33 # skip GNU grep not available
ok
t/xz.t .......................... 
1..1
Running test:
  "/usr/bin/cat" "t/mailboxes/mailarc-2.txt.xz" | "/usr/bin/xz" -cd
Comparing /tmp/5N76P9His4 to t/results/mailarc-2.txt
Output /tmp/5N76P9His4 looks good.
Comparing /tmp/bIjjJnyKR0 to t/results/none
Output /tmp/bIjjJnyKR0 looks good.
ok 1 - Computing differences
ok
All tests successful.
Files=25, Tests=382,  5 wallclock secs ( 0.16 usr  0.03 sys +  4.68 cusr  0.81 csys =  5.68 CPU)
Result: PASS

------------------------------
PREREQUISITES
------------------------------

Prerequisite modules loaded:

requires:

    Module              Need  Have    
    ------------------- ----- --------
    FileHandle::Unget   0     0.1634  
    perl                5.005 5.041003
    Storable            0     3.34    

build_requires:

    Module              Need  Have    
    ------------------- ----- --------
    ExtUtils::MakeMaker 6.36  7.70    
    File::Path          2.08  2.18    
    File::Slurper       0     0.014   
    Test::Compile       0     v3.3.3  
    Test::More          0     1.302203
    Text::Diff          0     1.45    
    UNIVERSAL::require  0     0.19    
    URI::Escape         0     5.28    

configure_requires:

    Module              Need  Have    
    ------------------- ----- --------
    ExtUtils::MakeMaker 6.36  7.70    
    URI::Escape         0     5.28    


------------------------------
ENVIRONMENT AND OTHER CONTEXT
------------------------------

Environment variables:

    AUTOMATED_TESTING = 1
    LANG = en_US.UTF-8
    PATH = /home/sand/bin:/usr/local/bin:/usr/local/sbin:/usr/sbin:/usr/bin:/sbin:/bin:/usr/games:/usr/local/games:/snap/bin:/usr/local/perl/bin:/usr/X11/bin
    PERL = /tmp/basesmoker-reloperl-IIrw/bin/perl
    PERL5LIB = /tmp/loop_over_bdir-3247146-5YbB1Z/shishi-0.0.1-0/blib/arch:/tmp/loop_over_bdir-3247146-5YbB1Z/shishi-0.0.1-0/blib/lib:/tmp/loop_over_bdir-3247146-5YbB1Z/Devel-Required-0.16-0/blib/arch:/tmp/loop_over_bdir-3247146-5YbB1Z/Devel-Required-0.16-0/blib/lib:/tmp/loop_over_bdir-3247146-5YbB1Z/DBIx-Migration-Directories-0.12-0/blib/arch:/tmp/loop_over_bdir-3247146-5YbB1Z/DBIx-Migration-Directories-0.12-0/blib/lib:/tmp/loop_over_bdir-3247146-5YbB1Z/CORBA-Python-2.66-0/blib/arch:/tmp/loop_over_bdir-3247146-5YbB1Z/CORBA-Python-2.66-0/blib/lib:/tmp/loop_over_bdir-3247146-5YbB1Z/Business-Shipping-DataFiles-1.02-0/blib/arch:/tmp/loop_over_bdir-3247146-5YbB1Z/Business-Shipping-DataFiles-1.02-0/blib/lib:/tmp/loop_over_bdir-3247146-5YbB1Z/Lingua-YaTeA-0.626-0/blib/arch:/tmp/loop_over_bdir-3247146-5YbB1Z/Lingua-YaTeA-0.626-0/blib/lib
    PERL5OPT = 
    PERL5_CPANPLUS_IS_RUNNING = 3247154
    PERL5_CPAN_IS_RUNNING = 3247154
    PERL_CANARY_STABILITY_NOPROMPT = 1
    PERL_MM_USE_DEFAULT = 1
    PERL_USE_UNSAFE_INC = 1
    SHELL = /usr/bin/zsh
    TERM = screen

Perl special variables (and OS-specific diagnostics, for MSWin32):

    $^X = /tmp/basesmoker-reloperl-IIrw/bin/perl
    $UID/$EUID = 1005 / 1005
    $GID = 1005 1005
    $EGID = 1005 1005

Perl module toolchain versions installed:

    Module              Have    
    ------------------- --------
    CPAN                2.37    
    CPAN::Meta          2.150010
    Cwd                 3.92    
    ExtUtils::CBuilder  0.280240
    ExtUtils::Command   7.70    
    ExtUtils::Install   2.22    
    ExtUtils::MakeMaker 7.70    
    ExtUtils::Manifest  1.75    
    ExtUtils::ParseXS   3.53    
    File::Spec          3.92    
    JSON                4.10    
    JSON::PP            4.16    
    Module::Build       0.4234  
    Module::Signature   0.88    
    Parse::CPAN::Meta   2.150010
    Test2               1.302203
    Test::Harness       3.50    
    Test::More          1.302203
    YAML                1.31    
    YAML::Syck          1.34    
    version             0.9933  


--

Summary of my perl5 (revision 5 version 41 subversion 3) configuration:
  Commit id: 7561aa27084e94eb0f399e9e8ee576069d40a706
  Platform:
    osname=linux
    osvers=5.4.0-189-generic
    archname=x86_64-linux-thread-multi
    uname='linux k93focal 5.4.0-189-generic #209-ubuntu smp fri jun 7 14:05:13 utc 2024 x86_64 x86_64 x86_64 gnulinux '
    config_args='-Dprefix=/home/sand/src/perl/repoperls/installed-perls/host/k93focal/v5.41.3/d119 -Dmyhostname=k93focal -Dinstallusrbinperl=n -Uversiononly -Dusedevel -des -Ui_db -Dlibswanted=cl pthread socket inet nsl gdbm dbm malloc dl ld sun m crypt sec util c cposix posix ucb BSD gdbm_compat -Duseithreads -Uuselongdouble -DEBUGGING=both'
    hint=recommended
    useposix=true
    d_sigaction=define
    useithreads=define
    usemultiplicity=define
    use64bitint=define
    use64bitall=define
    uselongdouble=undef
    usemymalloc=n
    default_inc_excludes_dot=define
  Compiler:
    cc='cc'
    ccflags ='-D_REENTRANT -D_GNU_SOURCE -fwrapv -DDEBUGGING -fno-strict-aliasing -pipe -fstack-protector-strong -I/usr/local/include -D_LARGEFILE_SOURCE -D_FILE_OFFSET_BITS=64'
    optimize='-O2 -g'
    cppflags='-D_REENTRANT -D_GNU_SOURCE -fwrapv -DDEBUGGING -fno-strict-aliasing -pipe -fstack-protector-strong -I/usr/local/include'
    ccversion=''
    gccversion='9.4.0'
    gccosandvers=''
    intsize=4
    longsize=8
    ptrsize=8
    doublesize=8
    byteorder=12345678
    doublekind=3
    d_longlong=define
    longlongsize=8
    d_longdbl=define
    longdblsize=16
    longdblkind=3
    ivtype='long'
    ivsize=8
    nvtype='double'
    nvsize=8
    Off_t='off_t'
    lseeksize=8
    alignbytes=8
    prototype=define
  Linker and Libraries:
    ld='cc'
    ldflags =' -fstack-protector-strong -L/usr/local/lib'
    libpth=/usr/local/lib /usr/lib/x86_64-linux-gnu /usr/lib /usr/lib64
    libs=-lpthread -lnsl -ldl -lm -lcrypt -lutil -lc
    perllibs=-lpthread -lnsl -ldl -lm -lcrypt -lutil -lc
    libc=libc-2.31.so
    so=so
    useshrplib=false
    libperl=libperl.a
    gnulibc_version='2.31'
  Dynamic Linking:
    dlsrc=dl_dlopen.xs
    dlext=so
    d_dlsymun=undef
    ccdlflags='-Wl,-E'
    cccdlflags='-fPIC'
    lddlflags='-shared -O2 -g -L/usr/local/lib -fstack-protector-strong'


Characteristics of this binary (from libperl): 
  Compile-time options:
    DEBUGGING
    HAS_LONG_DOUBLE
    HAS_STRTOLD
    HAS_TIMES
    MULTIPLICITY
    PERLIO_LAYERS
    PERL_COPY_ON_WRITE
    PERL_DONT_CREATE_GVSV
    PERL_HASH_FUNC_SIPHASH13
    PERL_HASH_USE_SBOX32
    PERL_MALLOC_WRAP
    PERL_OP_PARENT
    PERL_PRESERVE_IVUV
    PERL_TRACK_MEMPOOL
    PERL_USE_DEVEL
    PERL_USE_SAFE_PUTENV
    USE_64_BIT_ALL
    USE_64_BIT_INT
    USE_ITHREADS
    USE_LARGE_FILES
    USE_LOCALE
    USE_LOCALE_COLLATE
    USE_LOCALE_CTYPE
    USE_LOCALE_NUMERIC
    USE_LOCALE_TIME
    USE_PERLIO
    USE_PERL_ATOF
    USE_REENTRANT_API
    USE_THREAD_SAFE_LOCALE
  Built under linux
  Compiled at Sep  4 2024 04:04:46
  %ENV:
    PERL="/tmp/basesmoker-reloperl-IIrw/bin/perl"
    PERL5LIB="/tmp/loop_over_bdir-3247146-5YbB1Z/shishi-0.0.1-0/blib/arch:/tmp/loop_over_bdir-3247146-5YbB1Z/shishi-0.0.1-0/blib/lib:/tmp/loop_over_bdir-3247146-5YbB1Z/Devel-Required-0.16-0/blib/arch:/tmp/loop_over_bdir-3247146-5YbB1Z/Devel-Required-0.16-0/blib/lib:/tmp/loop_over_bdir-3247146-5YbB1Z/DBIx-Migration-Directories-0.12-0/blib/arch:/tmp/loop_over_bdir-3247146-5YbB1Z/DBIx-Migration-Directories-0.12-0/blib/lib:/tmp/loop_over_bdir-3247146-5YbB1Z/CORBA-Python-2.66-0/blib/arch:/tmp/loop_over_bdir-3247146-5YbB1Z/CORBA-Python-2.66-0/blib/lib:/tmp/loop_over_bdir-3247146-5YbB1Z/Business-Shipping-DataFiles-1.02-0/blib/arch:/tmp/loop_over_bdir-3247146-5YbB1Z/Business-Shipping-DataFiles-1.02-0/blib/lib:/tmp/loop_over_bdir-3247146-5YbB1Z/Lingua-YaTeA-0.626-0/blib/arch:/tmp/loop_over_bdir-3247146-5YbB1Z/Lingua-YaTeA-0.626-0/blib/lib"
    PERL5OPT=""
    PERL5_CPANPLUS_IS_RUNNING="3247154"
    PERL5_CPAN_IS_RUNNING="3247154"
    PERL_CANARY_STABILITY_NOPROMPT="1"
    PERL_MM_USE_DEFAULT="1"
    PERL_USE_UNSAFE_INC="1"
  @INC:
    /tmp/loop_over_bdir-3247146-5YbB1Z/shishi-0.0.1-0/blib/arch
    /tmp/loop_over_bdir-3247146-5YbB1Z/shishi-0.0.1-0/blib/lib
    /tmp/loop_over_bdir-3247146-5YbB1Z/Devel-Required-0.16-0/blib/arch
    /tmp/loop_over_bdir-3247146-5YbB1Z/Devel-Required-0.16-0/blib/lib
    /tmp/loop_over_bdir-3247146-5YbB1Z/DBIx-Migration-Directories-0.12-0/blib/arch
    /tmp/loop_over_bdir-3247146-5YbB1Z/DBIx-Migration-Directories-0.12-0/blib/lib
    /tmp/loop_over_bdir-3247146-5YbB1Z/CORBA-Python-2.66-0/blib/arch
    /tmp/loop_over_bdir-3247146-5YbB1Z/CORBA-Python-2.66-0/blib/lib
    /tmp/loop_over_bdir-3247146-5YbB1Z/Business-Shipping-DataFiles-1.02-0/blib/arch
    /tmp/loop_over_bdir-3247146-5YbB1Z/Business-Shipping-DataFiles-1.02-0/blib/lib
    /tmp/loop_over_bdir-3247146-5YbB1Z/Lingua-YaTeA-0.626-0/blib/arch
    /tmp/loop_over_bdir-3247146-5YbB1Z/Lingua-YaTeA-0.626-0/blib/lib
    /home/sand/src/perl/repoperls/installed-perls/host/k93focal/v5.41.3/d119/lib/site_perl/5.41.3/x86_64-linux-thread-multi
    /home/sand/src/perl/repoperls/installed-perls/host/k93focal/v5.41.3/d119/lib/site_perl/5.41.3
    /home/sand/src/perl/repoperls/installed-perls/host/k93focal/v5.41.3/d119/lib/5.41.3/x86_64-linux-thread-multi
    /home/sand/src/perl/repoperls/installed-perls/host/k93focal/v5.41.3/d119/lib/5.41.3
    .