Report for Shell-Command-0.06

Back
From: metabase:user:322078bc-2aae-11df-837a-5e0a49663a4f
Subject: PASS Shell-Command-0.06 v5.12.3 GNU/Linux
Date: 2011-03-01T21:09:41Z

This distribution has been tested as part of the CPAN Testers
project, supporting the Perl programming language.  See
http://wiki.cpantesters.org/ for more information or email
questions to cpan-testers-discuss@perl.org


--

Dear Florian Ragwitz,
    
This is a computer-generated error report created automatically by
CPANPLUS, version 0.9101. Testers personal comments may appear 
at the end of this report.

MAKE TEST passed: PERL_DL_NONLAZY=1 /home/perl-5.12.3/bin/perl "-MExtUtils::Command::MM" "-e" "test_harness(0, 'blib/lib', 'blib/arch')" t/*.t
t/release-eol.t ......... skipped: these tests are for release candidate testing
t/release-no-tabs.t ..... skipped: these tests are for release candidate testing
t/release-pod-syntax.t .. skipped: these tests are for release candidate testing
t/shell_command.t ....... ok
t/shell_exit.t .......... ok
All tests successful.
Files=5, Tests=7,  0 wallclock secs ( 0.07 usr  0.01 sys +  0.36 cusr  0.04 csys =  0.48 CPU)
Result: PASS

[MSG] [Tue Mar  1 21:09:35 2011] Sending test report for 'Shell-Command-0.06'

This report was machine-generated by CPANPLUS::Dist::YACSmoke 0.62.

------------------------------
ENVIRONMENT AND OTHER CONTEXT
------------------------------

Environment variables:

    AUTOMATED_TESTING = 1
    LANG = en_GB.UTF-8
    PATH = /usr/local/sbin:/usr/local/bin:/usr/sbin:/usr/bin:/sbin:/bin
    PERL5LIB = :/opt/perl-5.12.3/.cpanplus/5.12.3/build/Shell-Command-0.06/blib/lib:/opt/perl-5.12.3/.cpanplus/5.12.3/build/Shell-Command-0.06/blib/arch
    PERL5_CPANIDX_URL = http://conker.bingosnet.co.uk/cpanidx/
    PERL5_CPANPLUS_IS_RUNNING = 21823
    PERL5_CPANPLUS_IS_VERSION = 0.9101
    PERL_EXTUTILS_AUTOINSTALL = --defaultdeps
    PERL_MM_USE_DEFAULT = 1
    SHELL = /bin/bash
    TERM = xterm

Perl special variables (and OS-specific diagnostics, for MSWin32):

    Perl: $^X = /home/perl-5.12.3/bin/perl
    UID:  $<  = 0
    EUID: $>  = 0
    GID:  $(  = 0 0
    EGID: $)  = 0 0


-------------------------------


--

Summary of my perl5 (revision 5 version 12 subversion 3) configuration:
   
  Platform:
    osname=linux, osvers=2.6.28-19-generic, archname=i686-linux
    uname='linux harlequin 2.6.28-19-generic #66-ubuntu smp sat oct 16 17:39:04 utc 2010 i686 gnulinux '
    config_args='-des -Dprefix=/opt/perl-5.12.3'
    hint=recommended, useposix=true, d_sigaction=define
    useithreads=undef, usemultiplicity=undef
    useperlio=define, d_sfio=undef, uselargefiles=define, usesocks=undef
    use64bitint=undef, use64bitall=undef, uselongdouble=undef
    usemymalloc=n, bincompat5005=undef
  Compiler:
    cc='cc', ccflags ='-fno-strict-aliasing -pipe -fstack-protector -I/usr/local/include -D_LARGEFILE_SOURCE -D_FILE_OFFSET_BITS=64',
    optimize='-O2',
    cppflags='-fno-strict-aliasing -pipe -fstack-protector -I/usr/local/include'
    ccversion='', gccversion='4.3.3', gccosandvers=''
    intsize=4, longsize=4, ptrsize=4, doublesize=8, byteorder=1234
    d_longlong=define, longlongsize=8, d_longdbl=define, longdblsize=12
    ivtype='long', ivsize=4, nvtype='double', nvsize=8, Off_t='off_t', lseeksize=8
    alignbytes=4, prototype=define
  Linker and Libraries:
    ld='cc', ldflags =' -fstack-protector -L/usr/local/lib'
    libpth=/usr/local/lib /lib /usr/lib
    libs=-lnsl -ldl -lm -lcrypt -lutil -lc
    perllibs=-lnsl -ldl -lm -lcrypt -lutil -lc
    libc=/lib/libc-2.9.so, so=so, useshrplib=false, libperl=libperl.a
    gnulibc_version='2.9'
  Dynamic Linking:
    dlsrc=dl_dlopen.xs, dlext=so, d_dlsymun=undef, ccdlflags='-Wl,-E'
    cccdlflags='-fPIC', lddlflags='-shared -O2 -L/usr/local/lib -fstack-protector'


Characteristics of this binary (from libperl): 
  Compile-time options: PERL_DONT_CREATE_GVSV PERL_MALLOC_WRAP
                        USE_LARGE_FILES USE_PERLIO USE_PERL_ATOF
  Built under linux
  Compiled at Feb 10 2011 22:37:25
  %ENV:
    PERL5LIB=":/opt/perl-5.12.3/.cpanplus/5.12.3/build/Shell-Command-0.06/blib/lib:/opt/perl-5.12.3/.cpanplus/5.12.3/build/Shell-Command-0.06/blib/arch"
    PERL5_CPANIDX_URL="http://conker.bingosnet.co.uk/cpanidx/"
    PERL5_CPANPLUS_IS_RUNNING="21823"
    PERL5_CPANPLUS_IS_VERSION="0.9101"
    PERL_EXTUTILS_AUTOINSTALL="--defaultdeps"
    PERL_MM_USE_DEFAULT="1"
  @INC:
    /opt/perl-5.12.3/.cpanplus/5.12.3/build/Shell-Command-0.06/blib/lib
    /opt/perl-5.12.3/.cpanplus/5.12.3/build/Shell-Command-0.06/blib/arch
    /opt/perl-5.12.3/lib/site_perl/5.12.3/i686-linux
    /opt/perl-5.12.3/lib/site_perl/5.12.3
    /opt/perl-5.12.3/lib/5.12.3/i686-linux
    /opt/perl-5.12.3/lib/5.12.3
    .