IO-Iron v0.13 Perl 5 v5.30.0 RC1 amd64-freebsd
- Status
- Pass
- From
- Slaven Rezić (SREZIC)
- Dist
-
IO-Iron v0.13
- Platform
- Perl 5 v5.30.0 RC1 amd64-freebsd
- Date
- 2019-05-14 04:46:23
- ID
- 39599cc6-7603-11e9-82f8-128b1f24ea8f
This distribution has been tested as part of the CPAN Testers
project, supporting the Perl programming language. See
http://wiki.cpantesters.org/ for more information or email
questions to cpan-testers-discuss@perl.org
--
Dear Mikko Koivunalho,
This is a computer-generated report for IO-Iron-0.13
on perl 5.30.0, created by CPAN-Reporter-1.2018.
Thank you for uploading your work to CPAN. Congratulations!
All tests were successful.
Sections of this report:
* Tester comments
* Program output
* Prerequisites
* Environment and other context
------------------------------
TESTER COMMENTS
------------------------------
Additional comments from tester:
none provided
------------------------------
PROGRAM OUTPUT
------------------------------
Output from '/usr/bin/make test':
PERL_DL_NONLAZY=1 "/usr/perl5.30.0-RC1p/bin/perl5.30.0" "-MExtUtils::Command::MM" "-MTest::Harness" "-e" "undef *Test::Harness::Switches; test_harness(0, 'blib/lib', 'blib/arch')" t/*.t t/Iron/*.t t/IronCache/*.t t/IronMQ/*.t t/IronWorker/*.t
#
# Versions for all modules listed in MYMETA.json (including optional ones):
#
# === Configure Requires ===
#
# Module Want Have
# ------------------- ---- ----
# ExtUtils::MakeMaker any 7.36
#
# === Build Requires ===
#
# Module Want Have
# ------------------- ---- ----
# ExtUtils::MakeMaker any 7.36
#
# === Test Requires ===
#
# Module Want Have
# ------------------- ---- --------
# Data::Dumper any 2.174
# ExtUtils::MakeMaker any 7.36
# File::Copy any 2.34
# File::Remove any 1.58
# File::Spec any 3.78
# Log::Any::Test any 1.707
# Test::Exception any 0.43
# Test::More any 1.302164
# lib any 0.65
#
# === Test Recommends ===
#
# Module Want Have
# ---------- -------- --------
# CPAN::Meta 2.120900 2.150010
#
# === Runtime Requires ===
#
# Module Want Have
# ------------------ ---- --------
# Carp any 1.50
# Carp::Assert any 0.21
# Carp::Assert::More any 1.16
# Const::Fast any 0.014
# Data::UUID any 1.224
# English any 1.10
# Exception::Class any 1.44
# Exporter any 5.73
# File::HomeDir any 1.004
# File::Spec any 3.78
# Hash::Util 0.06 0.22
# JSON::MaybeXS any 1.004000
# Log::Any any 1.707
# Params::Validate any 1.29
# Path::Tiny any 0.108
# REST::Client any 273
# Scalar::Util any 1.50
# Try::Tiny any 0.30
# URI::Escape any 3.31
# parent any 0.237
# strict any 1.11
# warnings any 1.44
#
t/00-report-prereqs.t ........ ok
# Testing IO::Iron::IronWorker::Client (0.13), Perl 5.030000, /usr/perl5.30.0-RC1p/bin/perl5.30.0
# test ReadIronMQConfig
# Current dir config filename: ./iron.json
# Extra config filename: t/.IronMQTestConfig.json
t/Iron/client_readconfig.t ... ok
# Testing IO::Iron::Common (0.13), Perl 5.030000, /usr/perl5.30.0-RC1p/bin/perl5.30.0
t/Iron/common.t .............. ok
# Testing IO::Iron (0.13), Perl 5.030000, /usr/perl5.30.0-RC1p/bin/perl5.30.0
t/Iron/load.t ................ ok
# Testing IO::Iron::IronCache::Client (0.13) with policies, Perl 5.030000, /usr/perl5.30.0-RC1p/bin/perl5.30.0
t/IronCache/cache_policy.t ... ok
# Testing IO::Iron::IronCache::Client (0.13), Perl 5.030000, /usr/perl5.30.0-RC1p/bin/perl5.30.0
t/IronCache/cache_policy2.t .. ok
# Testing IO::Iron::IronCache::Client (0.13), Perl 5.030000, /usr/perl5.30.0-RC1p/bin/perl5.30.0
t/IronCache/load.t ........... ok
# Testing IO::Iron::IronMQ::Client (0.13), Perl 5.030000, /usr/perl5.30.0-RC1p/bin/perl5.30.0
t/IronMQ/load.t .............. ok
# Testing IO::Iron::IronCache::Client (0.13), Perl 5.030000, /usr/perl5.30.0-RC1p/bin/perl5.30.0
t/IronWorker/load.t .......... ok
All tests successful.
Files=9, Tests=104, 3 wallclock secs ( 0.05 usr 0.02 sys + 1.80 cusr 0.30 csys = 2.18 CPU)
Result: PASS
------------------------------
PREREQUISITES
------------------------------
Prerequisite modules loaded:
requires:
Module Need Have
------------------- --------- --------
Carp 0 1.50
Carp::Assert 0 0.21
Carp::Assert::More 0 1.16
Const::Fast 0 0.014
Data::UUID 0 1.224
English 0 1.10
Exception::Class 0 1.44
Exporter 0 5.73
File::HomeDir 0 1.004
File::Spec 0 3.78
Hash::Util 0.06 0.22
JSON::MaybeXS 0 1.004000
Log::Any 0 1.707
Params::Validate 0 1.29
parent 0 0.237
Path::Tiny 0 0.108
perl 5.010000 5.030000
REST::Client 0 273
Scalar::Util 0 1.50
strict 0 1.11
Try::Tiny 0 0.30
URI::Escape 0 3.31
warnings 0 1.44
build_requires:
Module Need Have
------------------- --------- --------
Data::Dumper 0 2.174
ExtUtils::MakeMaker 0 7.36
File::Copy 0 2.34
File::Remove 0 1.58
File::Spec 0 3.78
lib 0 0.65
Log::Any::Test 0 1.707
Test::Exception 0 0.43
Test::More 0 1.302164
configure_requires:
Module Need Have
------------------- --------- --------
ExtUtils::MakeMaker 0 7.36
perl 5.010_000 5.030000
------------------------------
ENVIRONMENT AND OTHER CONTEXT
------------------------------
Environment variables:
LC_ALL = de_DE.UTF-8
PATH = /usr/local/bin:/usr/bin:/bin:/usr/local/sbin:/usr/sbin:/sbin:/home/cpansand/bin/freebsd12.0:/home/cpansand/bin/sh:/home/cpansand/bin:/usr/games:/home/cpansand/devel:/usr/home/eserte/src/srezic-misc/scripts
PERL5LIB =
PERL5OPT =
PERL5_CPANPLUS_IS_RUNNING = 38029
PERL5_CPAN_IS_RUNNING = 38029
PERL5_CPAN_IS_RUNNING_IN_RECURSION = 11702,38029
PERLDOC = -MPod::Perldoc::ToTextOverstrike
PERL_BATCH = yes
PERL_CANARY_STABILITY_NOPROMPT = 1
PERL_CPAN_REPORTER_CONFIG = /var/tmp/cpansmoker-1023/2019051320/cpanreporter_002_config.ini
PERL_EXTUTILS_AUTOINSTALL = --defaultdeps
PERL_PARALLEL_SMOKER = yes
PERL_USE_UNSAFE_INC = 1
SHELL = /usr/local/bin/zsh
TERM = screen
TMPDIR = /var/tmp/cpansmoker-1023/2019051320
Perl special variables (and OS-specific diagnostics, for MSWin32):
$^X = /usr/perl5.30.0-RC1p/bin/perl5.30.0
$UID/$EUID = 1023 / 1023
$GID = 1023 1023
$EGID = 1023 1023
Perl module toolchain versions installed:
Module Have
------------------- --------
CPAN 2.26
CPAN::Meta 2.150010
Cwd 3.78
ExtUtils::CBuilder 0.280231
ExtUtils::Command 7.36
ExtUtils::Install 2.14
ExtUtils::MakeMaker 7.36
ExtUtils::Manifest 1.72
ExtUtils::ParseXS 3.40
File::Spec 3.78
JSON 4.02
JSON::PP 4.02
Module::Build 0.4229
Module::Signature 0.83
Parse::CPAN::Meta 2.150010
Test::Harness 3.42
Test::More 1.302164
YAML 1.29
YAML::Syck 1.31
version 0.9924
--
Summary of my perl5 (revision 5 version 30 subversion 0) configuration:
Platform:
osname=freebsd
osvers=12.0-stable
archname=amd64-freebsd
uname='freebsd cloud1.bbbike.org 12.0-stable freebsd 12.0-stable 8f4b036ab32(stable12) generic amd64 '
config_args='-ds -e -Dprefix=/usr/perl5.30.0-RC1p -Dcf_email=srezic@cpan.org -Doptimize=-O2 -pipe'
hint=recommended
useposix=true
d_sigaction=define
useithreads=undef
usemultiplicity=undef
use64bitint=define
use64bitall=define
uselongdouble=undef
usemymalloc=n
default_inc_excludes_dot=define
bincompat5005=undef
Compiler:
cc='cc'
ccflags ='-DHAS_FPSETMASK -DHAS_FLOATINGPOINT_H -fno-strict-aliasing -pipe -fstack-protector-strong -I/usr/local/include -D_FORTIFY_SOURCE=2'
optimize='-O2 -pipe'
cppflags='-DHAS_FPSETMASK -DHAS_FLOATINGPOINT_H -fno-strict-aliasing -pipe -fstack-protector-strong -I/usr/local/include'
ccversion=''
gccversion='4.2.1 Compatible FreeBSD Clang 8.0.0 (tags/RELEASE_800/final 356365)'
gccosandvers=''
intsize=4
longsize=8
ptrsize=8
doublesize=8
byteorder=12345678
doublekind=3
d_longlong=define
longlongsize=8
d_longdbl=define
longdblsize=16
longdblkind=3
ivtype='long'
ivsize=8
nvtype='double'
nvsize=8
Off_t='off_t'
lseeksize=8
alignbytes=8
prototype=define
Linker and Libraries:
ld='cc'
ldflags ='-pthread -Wl,-E -fstack-protector-strong -L/usr/local/lib'
libpth=/usr/lib /usr/local/lib /usr/lib/clang/8.0.0/lib /usr/lib
libs=-lpthread -lgdbm -ldl -lm -lcrypt -lutil -lc
perllibs=-lpthread -ldl -lm -lcrypt -lutil -lc
libc=
so=so
useshrplib=false
libperl=libperl.a
gnulibc_version=''
Dynamic Linking:
dlsrc=dl_dlopen.xs
dlext=so
d_dlsymun=undef
ccdlflags=' '
cccdlflags='-DPIC -fPIC'
lddlflags='-shared -L/usr/local/lib -fstack-protector-strong'
Characteristics of this binary (from libperl):
Compile-time options:
HAS_TIMES
PERLIO_LAYERS
PERL_COPY_ON_WRITE
PERL_DONT_CREATE_GVSV
PERL_MALLOC_WRAP
PERL_OP_PARENT
PERL_PRESERVE_IVUV
USE_64_BIT_ALL
USE_64_BIT_INT
USE_LARGE_FILES
USE_LOCALE
USE_LOCALE_COLLATE
USE_LOCALE_CTYPE
USE_LOCALE_NUMERIC
USE_LOCALE_TIME
USE_PERLIO
USE_PERL_ATOF
Locally applied patches:
RC1
Built under freebsd
Compiled at May 12 2019 16:15:23
%ENV:
PERL5LIB=""
PERL5OPT=""
PERL5_CPANPLUS_IS_RUNNING="38029"
PERL5_CPAN_IS_RUNNING="38029"
PERL5_CPAN_IS_RUNNING_IN_RECURSION="11702,38029"
PERLDOC="-MPod::Perldoc::ToTextOverstrike"
PERL_BATCH="yes"
PERL_CANARY_STABILITY_NOPROMPT="1"
PERL_CPAN_REPORTER_CONFIG="/var/tmp/cpansmoker-1023/2019051320/cpanreporter_002_config.ini"
PERL_EXTUTILS_AUTOINSTALL="--defaultdeps"
PERL_PARALLEL_SMOKER="yes"
PERL_USE_UNSAFE_INC="1"
@INC:
/usr/perl5.30.0-RC1p/lib/site_perl/5.30.0/amd64-freebsd
/usr/perl5.30.0-RC1p/lib/site_perl/5.30.0
/usr/perl5.30.0-RC1p/lib/5.30.0/amd64-freebsd
/usr/perl5.30.0-RC1p/lib/5.30.0
.