Report for MooseX-Meta-TypeConstraint-Mooish-0.001

Back
From: metabase:user:553c21ce-8d47-11df-9de5-e28c4c42590d
Subject: PASS MooseX-Meta-TypeConstraint-Mooish-0.001 v5.24.0 GNU/Linux
Date: 2016-09-25T00:30:13Z

This distribution has been tested as part of the CPAN Testers
project, supporting the Perl programming language.  See
http://wiki.cpantesters.org/ for more information or email
questions to cpan-testers-discuss@perl.org


--
Dear RSRCHBOY,

This is a computer-generated report for MooseX-Meta-TypeConstraint-Mooish-0.001
on perl 5.24.0, created by App::cpanminus::reporter 0.17 (1.7042).

Thank you for uploading your work to CPAN.  Congratulations!
All tests were successful.

Sections of this report:

    * Tester comments
    * Program output
    * Prerequisites
    * Environment and other context

------------------------------
TESTER COMMENTS
------------------------------

Additional comments from tester:

none provided

------------------------------
PROGRAM OUTPUT
------------------------------

Output from '':

Building and testing MooseX-Meta-TypeConstraint-Mooish-0.001
cp lib/MooseX/Meta/TypeConstraint/Mooish.pm blib/lib/MooseX/Meta/TypeConstraint/Mooish.pm
cp lib/MooseX/TraitFor/Meta/TypeConstraint/Mooish.pm blib/lib/MooseX/TraitFor/Meta/TypeConstraint/Mooish.pm
PERL_DL_NONLAZY=1 "/home/ioan/.plenv/versions/5.24.0/bin/perl5.24.0" "-MExtUtils::Command::MM" "-MTest::Harness" "-e" "undef *Test::Harness::Switches; test_harness(0, 'blib/lib', 'blib/arch')" t/*.t
# 
# 
# Generated by Dist::Zilla::Plugin::ReportVersions::Tiny v1.10
# perl: 5.024000 (wanted 5.006) on linux from /home/ioan/.plenv/versions/5.24.0/bin/perl5.24.0
# 
# ExtUtils::MakeMaker                           => 7.1001     (want any version)
# File::Spec                                    => 3.63       (want any version)
# IO::Handle                                    => 1.36       (want any version)
# IPC::Open3                                    => 1.20       (want any version)
# Moose                                         => 2.1805     (want any version)
# Moose::Meta::TypeConstraint                   => 2.1805     (want any version)
# Moose::Role                                   => 2.1805     (want any version)
# Test::CheckDeps                               => 0.010      (want 0.010)  
# Test::Fatal                                   => 0.014      (want any version)
# Test::Moose::More                             => 0.038      (want 0.028)  
# Test::More                                    => 1.302056   (want 0.94)   
# Try::Tiny                                     => 0.24       (want any version)
# aliased                                       => 0.34       (want any version)
# namespace::autoclean                          => 0.28       (want 0.24)   
# strict                                        => 1.11       (want any version)
# warnings                                      => 1.36       (want any version)
# 
# Thanks for using my code.  I hope it works for you.
# If not, please try and include this output in the bug report.
# That will help me reproduce the issue and solve your problem.
# 
t/isa-mooish.t ................ ok
t/00-check-deps.t ............. ok
t/000-report-versions-tiny.t .. ok
t/00-compile.t ................ ok
t/public-interface.t .......... ok
All tests successful.
Files=5, Tests=44,  1 wallclock secs ( 0.02 usr  0.01 sys +  1.69 cusr  0.12 csys =  1.84 CPU)
Result: PASS

------------------------------
PREREQUISITES
------------------------------

Prerequisite modules loaded:

    No requirements found

------------------------------
ENVIRONMENT AND OTHER CONTEXT
------------------------------

Environment variables:

    HARNESS_OPTIONS = j4
    LANG = en_GB.UTF-8
    PATH = /home/ioan/.plenv/versions/5.24.0/bin:/home/ioan/.plenv/libexec:/home/ioan/.plenv/plugins/perl-build/bin:/home/ioan/.perl6/bin:/home/ioan/.plenv/shims:~/.plenv/bin::/home/ioan/.local/bin:/usr/local/bin:/usr/bin:/bin:/usr/local/sbin:/sbin:/usr/sbin:/usr/games
    PERL_CPANM_OPT = --prompt --no-man-pages --verify --mirror https://cpan.metacpan.org
    SHELL = /bin/bash
    TERM = xterm-256color

Perl special variables (and OS-specific diagnostics, for MSWin32):

    EGID = 1089600001 975 1089600001 1089600004 1153800000
    EUID = 1089600001
    EXECUTABLE_NAME = /home/ioan/.plenv/versions/5.24.0/bin/perl5.24.0
    GID = 1089600001 975 1089600001 1089600004 1153800000
    UID = 1089600001

Perl module toolchain versions installed:

    Module              Have    
    ------------------- --------
    CPAN                2.11    
    CPAN::Meta          2.150005
    Cwd                 3.63    
    ExtUtils::CBuilder  0.280225
    ExtUtils::Command   7.10    
    ExtUtils::Install   2.04    
    ExtUtils::MakeMaker 7.10_01 
    ExtUtils::Manifest  1.70    
    ExtUtils::ParseXS   3.31    
    File::Spec          3.63    
    JSON                2.90    
    JSON::PP            2.27300 
    Module::Build       0.4220  
    Module::Signature   0.80    
    Parse::CPAN::Meta   1.4417  
    Test::Harness       3.36    
    Test::More          1.302056
    YAML                1.18    
    YAML::Syck          n/a     
    version             0.9916  


--

Summary of my perl5 (revision 5 version 24 subversion 0) configuration:
   
  Platform:
    osname=linux, osvers=4.6.3-300.fc24.x86_64, archname=x86_64-linux
    uname='linux despair.dirtysoft.ca 4.6.3-300.fc24.x86_64 #1 smp fri jun 24 20:52:41 utc 2016 x86_64 x86_64 x86_64 gnulinux '
    config_args='-Dprefix=/home/ioan/.plenv/versions/5.24.0 -de -Dusedevel -Dcc=clang -Doptimize=-O3 -Dccflags-march=native -flto -Dman1dir=none -Dman3dir=none -A'eval:scriptdir=/home/ioan/.plenv/versions/5.24.0/bin''
    hint=recommended, useposix=true, d_sigaction=define
    useithreads=undef, usemultiplicity=undef
    use64bitint=define, use64bitall=define, uselongdouble=undef
    usemymalloc=n, bincompat5005=undef
  Compiler:
    cc='clang', ccflags ='-fno-strict-aliasing -pipe -fstack-protector-strong -I/usr/local/include -D_LARGEFILE_SOURCE -D_FILE_OFFSET_BITS=64 -D_FORTIFY_SOURCE=2',
    optimize='-O3',
    cppflags='-fno-strict-aliasing -pipe -fstack-protector-strong -I/usr/local/include'
    ccversion='', gccversion='4.2.1 Compatible Clang 3.8.0 (tags/RELEASE_380/final)', gccosandvers=''
    intsize=4, longsize=8, ptrsize=8, doublesize=8, byteorder=12345678, doublekind=3
    d_longlong=define, longlongsize=8, d_longdbl=define, longdblsize=16, longdblkind=3
    ivtype='long', ivsize=8, nvtype='double', nvsize=8, Off_t='off_t', lseeksize=8
    alignbytes=8, prototype=define
  Linker and Libraries:
    ld='clang', ldflags =' -fstack-protector-strong -L/usr/local/lib'
    libpth=/usr/local/lib /usr/lib /lib/../lib64 /usr/lib/../lib64 /lib /lib64 /usr/lib64 /usr/local/lib64
    libs=-lpthread -lnsl -lgdbm -ldb -ldl -lm -lcrypt -lutil -lc -lgdbm_compat
    perllibs=-lpthread -lnsl -ldl -lm -lcrypt -lutil -lc
    libc=libc-2.23.so, so=so, useshrplib=false, libperl=libperl.a
    gnulibc_version='2.23'
  Dynamic Linking:
    dlsrc=dl_dlopen.xs, dlext=so, d_dlsymun=undef, ccdlflags='-Wl,-E'
    cccdlflags='-fPIC', lddlflags='-shared -O3 -L/usr/local/lib -fstack-protector-strong'


Characteristics of this binary (from libperl): 
  Compile-time options: HAS_TIMES PERLIO_LAYERS PERL_COPY_ON_WRITE
                        PERL_DONT_CREATE_GVSV
                        PERL_HASH_FUNC_ONE_AT_A_TIME_HARD PERL_MALLOC_WRAP
                        PERL_PRESERVE_IVUV PERL_USE_DEVEL USE_64_BIT_ALL
                        USE_64_BIT_INT USE_LARGE_FILES USE_LOCALE
                        USE_LOCALE_COLLATE USE_LOCALE_CTYPE
                        USE_LOCALE_NUMERIC USE_LOCALE_TIME USE_PERLIO
                        USE_PERL_ATOF
  Locally applied patches:
	Devel::PatchPerl 1.40
  Built under linux
  Compiled at Aug  7 2016 12:02:44
  %ENV:
    PERL_CPANM_OPT="--prompt --no-man-pages --verify --mirror https://cpan.metacpan.org"
  @INC:
    /home/ioan/.plenv/versions/5.24.0/lib/perl5/site_perl/5.24.0/x86_64-linux
    /home/ioan/.plenv/versions/5.24.0/lib/perl5/site_perl/5.24.0
    /home/ioan/.plenv/versions/5.24.0/lib/perl5/5.24.0/x86_64-linux
    /home/ioan/.plenv/versions/5.24.0/lib/perl5/5.24.0
    .