Dist-Zilla-Plugin-CheckIssues v0.011 Perl 5 v5.37.9 darwin-2level

Status
Pass
From
Dist
Dist-Zilla-Plugin-CheckIssues v0.011
Platform
Perl 5 v5.37.9 darwin-2level
Date
2023-03-01 18:38:13
ID
39178324-b860-11ed-8e15-4cbe45fb6cbd
This distribution has been tested as part of the CPAN Testers
project, supporting the Perl programming language.  See
http://wiki.cpantesters.org/ for more information or email
questions to cpan-testers-discuss@perl.org


--
Dear ETHER,

This is a computer-generated report for Dist-Zilla-Plugin-CheckIssues-0.011
on perl 5.37.9, created by App::cpanminus::reporter 0.18 (1.7046).

Thank you for uploading your work to CPAN.  Congratulations!
All tests were successful.

Sections of this report:

    * Tester comments
    * Program output
    * Prerequisites
    * Environment and other context

------------------------------
TESTER COMMENTS
------------------------------

Additional comments from tester:

none provided

------------------------------
PROGRAM OUTPUT
------------------------------

Output from '':

Building and testing Dist-Zilla-Plugin-CheckIssues-0.011
PERL_DL_NONLAZY=1 "/Users/ether/perl5/perlbrew/perls/37.9/bin/perl5.37.9" "-MExtUtils::Command::MM" "-MTest::Harness" "-e" "undef *Test::Harness::Switches; test_harness(0, 'blib/lib', 'blib/arch')" t/*.t
# 
# Versions for all modules listed in MYMETA.json (including optional ones):
# 
# === Configure Requires ===
# 
#     Module                       Want     Have
#     ------------------------ -------- --------
#     CPAN::Meta::Requirements 2.120620    2.140
#     ExtUtils::MakeMaker           any     7.66
#     Module::Metadata              any 1.000037
# 
# === Build Requires ===
# 
#     Module              Want Have
#     ------------------- ---- ----
#     ExtUtils::MakeMaker  any 7.66
# 
# === Test Requires ===
# 
#     Module                          Want     Have
#     ------------------------------- ---- --------
#     Dist::Zilla::App::Tester         any    6.030
#     Dist::Zilla::Role::MetaProvider  any    6.030
#     ExtUtils::MakeMaker              any     7.66
#     File::Spec                       any     3.88
#     File::pushd                      any    1.016
#     Moose::Util                      any   2.2203
#     Path::Tiny                       any    0.144
#     Test::DZil                       any    6.030
#     Test::Deep                       any    1.204
#     Test::Fatal                      any    0.017
#     Test::More                      0.88 1.302192
#     if                               any   0.0610
#     lib                              any     0.65
# 
# === Test Recommends ===
# 
#     Module         Want     Have
#     ---------- -------- --------
#     CPAN::Meta 2.120900 2.150010
# 
# === Runtime Requires ===
# 
#     Module                               Want     Have
#     -------------------------------- -------- --------
#     Dist::Zilla                      4.300039    6.030
#     Dist::Zilla::App                      any    6.030
#     Dist::Zilla::Role::BeforeRelease      any    6.030
#     Encode                                any     3.19
#     HTTP::Headers                         any     6.44
#     HTTP::Tiny                            any    0.082
#     JSON::MaybeXS                    1.001000 1.004004
#     List::Util                           1.33     1.63
#     Log::Dispatch                        2.49     2.70
#     Moose                                 any   2.2203
#     Term::ANSIColor                      3.00     5.01
#     namespace::autoclean                  any     0.29
#     strict                                any     1.12
#     warnings                              any     1.62
# 
# === Other Modules ===
# 
#     Module             Have
#     --------------- -------
#     App::Cmd          0.335
#     Encode             3.19
#     File::Temp       0.2311
#     JSON::PP           4.16
#     Log::Dispatch      2.70
#     Module::Runtime   0.016
#     Pod::Coverage   missing
#     Sub::Name          0.26
#     YAML            missing
#     autodie            2.36
# 
t/00-report-prereqs.t .. ok
t/zzz-check-breaks.t ... ok
t/02-no-rt.t ........... ok
t/01-basic.t ........... ok
t/04-command.t ......... ok
t/03-no-repo.t ......... ok
All tests successful.
Files=6, Tests=20,  7 wallclock secs ( 0.04 usr  0.03 sys +  5.88 cusr  1.06 csys =  7.01 CPU)
Result: PASS

------------------------------
PREREQUISITES
------------------------------

Prerequisite modules loaded:

runtime:

    Module                           Need     Have    
    -------------------------------- -------- --------
    Dist::Zilla                      4.300039 6.030   
    Dist::Zilla::App                 0        6.030   
    Dist::Zilla::Role::BeforeRelease 0        6.030   
    Encode                           0        3.19    
    HTTP::Headers                    0        6.44    
    HTTP::Tiny                       0        0.082   
    JSON::MaybeXS                    1.001000 1.004004
    List::Util                       1.33     1.63    
    Log::Dispatch                    2.49     2.70    
    Moose                            0        2.2203  
    namespace::autoclean             0        0.29    
    perl                             5.006    5.037009
    strict                           0        1.12    
    Term::ANSIColor                  3.00     5.01    
    warnings                         0        1.62    

build:

    Module                           Need     Have    
    -------------------------------- -------- --------
    ExtUtils::MakeMaker              0        7.66    

configure:

    Module                           Need     Have    
    -------------------------------- -------- --------
    CPAN::Meta::Requirements         2.120620 2.140   
    ExtUtils::MakeMaker              0        7.66    
    Module::Metadata                 0        1.000037


------------------------------
ENVIRONMENT AND OTHER CONTEXT
------------------------------

Environment variables:

    HARNESS_OPTIONS = j6:c
    LANG = en_CA.UTF-8
    LC_ALL = en_CA.UTF-8
    LC_CTYPE = en_CA.UTF-8
    LDFLAGS = -L/usr/local/opt/mysql@5.7/lib
    NO_NETWORK_TESTING = 1
    PATH = /Users/ether/.perlbrew/libs/37.9@std/bin:/Users/ether/perl5/perlbrew/bin:/Users/ether/perl5/perlbrew/perls/37.9/bin:/opt/chefdk/bin:/Users/ether/.chefdk/gem/ruby/2.6.0/bin:/opt/chefdk/embedded/bin:/Users/ether/bin:/Users/ether/git/misc/install/curacao/bin:/Users/ether/git/misc/install/generic/bin:/opt/local/bin:/opt/local/sbin:/Users/ether/bin/google-cloud-sdk/bin:/Users/ether/bin/google-cloud-sdk/bin:/usr/local/sessionmanagerplugin/bin:/Users/ether/.cargo/bin:/Users/ether/.pyenv/shims:/Users/ether/.krew/bin:/usr/local/opt/mysql@5.7/bin:/Users/ether/go/bin:/Users/ether/git/git-hub/lib:/usr/local/bin:/System/Cryptexes/App/usr/bin:/usr/bin:/bin:/usr/sbin:/sbin:/Library/Apple/usr/bin:/opt/local/share/git-core/contrib/workdir:/Users/ether/node_modules/.bin:/usr/local/google-cloud-sdk/bin:/usr/local/go/bin:/opt/chefdk/gitbin
    PERL5LIB = /Users/ether/.perlbrew/libs/37.9@std/lib/perl5
    PERLBREW_HOME = /Users/ether/.perlbrew
    PERLBREW_LIB = std
    PERLBREW_MANPATH = /Users/ether/.perlbrew/libs/37.9@std/man:/Users/ether/perl5/perlbrew/perls/37.9/man
    PERLBREW_PATH = /Users/ether/.perlbrew/libs/37.9@std/bin:/Users/ether/perl5/perlbrew/bin:/Users/ether/perl5/perlbrew/perls/37.9/bin
    PERLBREW_PERL = 37.9
    PERLBREW_ROOT = /Users/ether/perl5/perlbrew
    PERLBREW_SHELLRC_VERSION = 0.96
    PERLBREW_VERSION = 0.96
    PERLDOC = -oman
    PERLDOC_PAGER = less -sicMr
    PERL_AUTOINSTALL_PREFER_CPAN = 1
    PERL_INSTALL_QUIET = 1
    PERL_LOCAL_LIB_ROOT = /Users/ether/.perlbrew/libs/37.9@std
    PERL_MB_OPT = --install_base /Users/ether/.perlbrew/libs/37.9@std
    PERL_MM_OPT = INSTALL_BASE=/Users/ether/.perlbrew/libs/37.9@std
    PERL_TEST_HARNESS_ASAP = 1
    PERL_USE_UNSAFE_INC = 0
    SHELL = /bin/bash
    TERM = xterm-color
    TMPDIR = /var/folders/k0/tyl0f1_n25x23qdgmcqhds7m0000gn/T/

Perl special variables (and OS-specific diagnostics, for MSWin32):

    EGID = 20 20 12 61 79 80 81 98 701 33 100 204 250 395 398 399 400
    EUID = 501
    EXECUTABLE_NAME = /Users/ether/perl5/perlbrew/perls/37.9/bin/perl5.37.9
    GID = 20 20 12 61 79 80 81 98 701 33 100 204 250 395 398 399 400
    UID = 501

Perl module toolchain versions installed:

    Module              Have    
    ------------------- --------
    CPAN                2.34    
    CPAN::Meta          2.150010
    Cwd                 3.88    
    ExtUtils::CBuilder  0.280238
    ExtUtils::Command   7.66    
    ExtUtils::Install   2.22    
    ExtUtils::MakeMaker 7.66    
    ExtUtils::Manifest  1.73    
    ExtUtils::ParseXS   3.49    
    File::Spec          3.88    
    JSON                n/a     
    JSON::PP            4.16    
    Module::Build       0.4232  
    Module::Signature   n/a     
    Parse::CPAN::Meta   2.150010
    Test::Harness       3.44    
    Test::More          1.302192
    YAML                n/a     
    YAML::Syck          n/a     
    version             0.9929  


--

Summary of my perl5 (revision 5 version 37 subversion 9) configuration:
   
  Platform:
    osname=darwin
    osvers=22.3.0
    archname=darwin-2level
    uname='darwin curacao 22.3.0 darwin kernel version 22.3.0: mon jan 30 20:42:11 pst 2023; root:xnu-8792.81.3~2release_x86_64 x86_64 '
    config_args='-de -Dprefix=/Users/ether/perl5/perlbrew/perls/37.9 -Dman1dir=none -Dman3dir=none -Dusedevel -Aeval:scriptdir=/Users/ether/perl5/perlbrew/perls/37.9/bin'
    hint=recommended
    useposix=true
    d_sigaction=define
    useithreads=undef
    usemultiplicity=undef
    use64bitint=define
    use64bitall=define
    uselongdouble=undef
    usemymalloc=n
    default_inc_excludes_dot=define
  Compiler:
    cc='cc'
    ccflags ='-fno-common -DPERL_DARWIN -mmacosx-version-min=13.2 -fno-strict-aliasing -pipe -fstack-protector-strong -I/usr/local/include -I/opt/local/include'
    optimize='-O3'
    cppflags='-fno-common -DPERL_DARWIN -mmacosx-version-min=13.2 -fno-strict-aliasing -pipe -fstack-protector-strong -I/usr/local/include -I/opt/local/include'
    ccversion=''
    gccversion='Apple LLVM 14.0.0 (clang-1400.0.29.202)'
    gccosandvers=''
    intsize=4
    longsize=8
    ptrsize=8
    doublesize=8
    byteorder=12345678
    doublekind=3
    d_longlong=define
    longlongsize=8
    d_longdbl=define
    longdblsize=16
    longdblkind=3
    ivtype='long'
    ivsize=8
    nvtype='double'
    nvsize=8
    Off_t='off_t'
    lseeksize=8
    alignbytes=8
    prototype=define
  Linker and Libraries:
    ld='cc'
    ldflags =' -mmacosx-version-min=13.2 -fstack-protector-strong -L/usr/local/lib -L/opt/local/lib'
    libpth=/usr/local/lib /Applications/Xcode.app/Contents/Developer/Toolchains/XcodeDefault.xctoolchain/usr/lib/clang/14.0.0/lib /Applications/Xcode.app/Contents/Developer/Platforms/MacOSX.platform/Developer/SDKs/MacOSX.sdk/usr/lib /Applications/Xcode.app/Contents/Developer/Toolchains/XcodeDefault.xctoolchain/usr/lib /opt/local/lib /usr/lib
    libs=-lgdbm
    perllibs=
    libc=
    so=dylib
    useshrplib=false
    libperl=libperl.a
    gnulibc_version=''
  Dynamic Linking:
    dlsrc=dl_dlopen.xs
    dlext=bundle
    d_dlsymun=undef
    ccdlflags=' '
    cccdlflags=' '
    lddlflags=' -mmacosx-version-min=13.2 -bundle -undefined dynamic_lookup -L/usr/local/lib -L/opt/local/lib -fstack-protector-strong'


Characteristics of this binary (from libperl): 
  Compile-time options:
    HAS_TIMES
    PERLIO_LAYERS
    PERL_COPY_ON_WRITE
    PERL_DONT_CREATE_GVSV
    PERL_HASH_FUNC_SIPHASH13
    PERL_HASH_USE_SBOX32
    PERL_MALLOC_WRAP
    PERL_OP_PARENT
    PERL_PRESERVE_IVUV
    PERL_USE_DEVEL
    PERL_USE_SAFE_PUTENV
    USE_64_BIT_ALL
    USE_64_BIT_INT
    USE_LARGE_FILES
    USE_LOCALE
    USE_LOCALE_COLLATE
    USE_LOCALE_CTYPE
    USE_LOCALE_NUMERIC
    USE_LOCALE_TIME
    USE_PERLIO
    USE_PERL_ATOF
  Built under darwin
  Compiled at Feb 28 2023 16:03:40
  %ENV:
    PERL5LIB="/Users/ether/.perlbrew/libs/37.9@std/lib/perl5"
    PERLBREW_HOME="/Users/ether/.perlbrew"
    PERLBREW_LIB="std"
    PERLBREW_MANPATH="/Users/ether/.perlbrew/libs/37.9@std/man:/Users/ether/perl5/perlbrew/perls/37.9/man"
    PERLBREW_PATH="/Users/ether/.perlbrew/libs/37.9@std/bin:/Users/ether/perl5/perlbrew/bin:/Users/ether/perl5/perlbrew/perls/37.9/bin"
    PERLBREW_PERL="37.9"
    PERLBREW_ROOT="/Users/ether/perl5/perlbrew"
    PERLBREW_SHELLRC_VERSION="0.96"
    PERLBREW_VERSION="0.96"
    PERLDOC="-oman"
    PERLDOC_PAGER="less -sicMr"
    PERL_AUTOINSTALL_PREFER_CPAN="1"
    PERL_INSTALL_QUIET="1"
    PERL_LOCAL_LIB_ROOT="/Users/ether/.perlbrew/libs/37.9@std"
    PERL_MB_OPT="--install_base /Users/ether/.perlbrew/libs/37.9@std"
    PERL_MM_OPT="INSTALL_BASE=/Users/ether/.perlbrew/libs/37.9@std"
    PERL_TEST_HARNESS_ASAP="1"
    PERL_USE_UNSAFE_INC="0"
  @INC:
    /Users/ether/.perlbrew/libs/37.9@std/lib/perl5/darwin-2level
    /Users/ether/.perlbrew/libs/37.9@std/lib/perl5
    /Users/ether/perl5/perlbrew/perls/37.9/lib/site_perl/5.37.9/darwin-2level
    /Users/ether/perl5/perlbrew/perls/37.9/lib/site_perl/5.37.9
    /Users/ether/perl5/perlbrew/perls/37.9/lib/5.37.9/darwin-2level
    /Users/ether/perl5/perlbrew/perls/37.9/lib/5.37.9