Back
From: metabase:user:314402c4-2aae-11df-837a-5e0a49663a4f
Subject: PASS AnyEvent-Git-Wrapper-0.10 v5.8.9 GNU/Linux
Date: 2017-03-23T11:02:36Z
This distribution has been tested as part of the CPAN Testers
project, supporting the Perl programming language. See
http://wiki.cpantesters.org/ for more information or email
questions to cpan-testers-discuss@perl.org
--
Dear Graham Ollis,
This is a computer-generated report for AnyEvent-Git-Wrapper-0.10
on perl 5.8.9, created by CPAN-Reporter-1.2018.
Thank you for uploading your work to CPAN. Congratulations!
All tests were successful.
Sections of this report:
* Tester comments
* Program output
* Prerequisites
* Environment and other context
------------------------------
TESTER COMMENTS
------------------------------
Additional comments from tester:
none provided
------------------------------
PROGRAM OUTPUT
------------------------------
Output from '/usr/bin/make test':
PERL_DL_NONLAZY=1 "/bbbike/perl-5.8.9/bin/perl5.8.9" "-MExtUtils::Command::MM" "-MTest::Harness" "-e" "undef *Test::Harness::Switches; test_harness(0, 'blib/lib', 'blib/arch')" t/*.t
#
#
#
# HARNESS_ACTIVE=1
# HARNESS_VERSION=3.36
# LANG=C
# LC_ALL=de_DE.UTF-8
# PERL5LIB=/tmpfs/.cpan-build-cpansand/2017032309/AnyEvent-Git-Wrapper-0.10-14/blib/lib:/tmpfs/.cpan-build-cpansand/2017032309/AnyEvent-Git-Wrapper-0.10-14/blib/arch:/home/cpansand/.cpan/build/2017032309/FFI-1.10-15/blib/arch:/home/cpansand/.cpan/build/2017032309/FFI-1.10-15/blib/lib:/home/cpansand/.cpan/build/2017032309/FFI-1.10-15/blib/arch:/home/cpansand/.cpan/build/2017032309/FFI-1.10-15/blib/lib
# PERL5OPT=
# PERL5_CPANPLUS_IS_RUNNING=20837
# PERL5_CPAN_IS_RUNNING=20837
# PERL5_CPAN_IS_RUNNING_IN_RECURSION=20764,20837
# PERLDOC=-MPod::Perldoc::ToTextOverstrike
# PERL_BATCH=yes
# PERL_CANARY_STABILITY_NOPROMPT=1
# PERL_CPAN_REPORTER_CONFIG=/var/tmp/cpansmoker-1023/2017032309/cpanreporter_000_config.ini
# PERL_DL_NONLAZY=1
# PERL_EXTUTILS_AUTOINSTALL=--defaultdeps
# PERL_PARALLEL_SMOKER=yes
# PERL_USE_UNSAFE_INC=1
# SHELL=/bin/zsh
#
#
#
# PERL5LIB path
# /tmpfs/.cpan-build-cpansand/2017032309/AnyEvent-Git-Wrapper-0.10-14/blib/lib
# /tmpfs/.cpan-build-cpansand/2017032309/AnyEvent-Git-Wrapper-0.10-14/blib/arch
# /home/cpansand/.cpan/build/2017032309/FFI-1.10-15/blib/arch
# /home/cpansand/.cpan/build/2017032309/FFI-1.10-15/blib/lib
# /home/cpansand/.cpan/build/2017032309/FFI-1.10-15/blib/arch
# /home/cpansand/.cpan/build/2017032309/FFI-1.10-15/blib/lib
#
#
#
# perl 5.008009
# AnyEvent 7.12
# AnyEvent::Open3::Simple 0.86
# EV 4.22
# ExtUtils::MakeMaker 7.24
# File::pushd 1.014
# Git::Wrapper 0.046
# Scalar::Util 1.45
# Sort::Versions 1.62
# Test::Deep 1.120
# Test::Exception 0.43
#
#
#
# git 2.1.4
#
#
#
t/00_diag.t ........ ok
t/basic.t .......... ok
t/basic_nb.t ....... ok
t/git_binary.t ..... ok
t/log2.t ........... ok
t/new.t ............ ok
t/path_class.t ..... ok
t/path_class_nb.t .. ok
t/use.t ............ ok
t/version.t ........ ok
t/version_cache.t .. ok
All tests successful.
Files=11, Tests=79, 2 wallclock secs ( 0.02 usr 0.06 sys + 0.56 cusr 0.56 csys = 1.20 CPU)
Result: PASS
------------------------------
PREREQUISITES
------------------------------
Prerequisite modules loaded:
requires:
Module Need Have
----------------------- ----- --------
AnyEvent 0 7.12
AnyEvent::Open3::Simple 0.83 0.86
File::pushd 0 1.014
Git::Wrapper 0.045 0.046
perl 5.006 5.008009
Scalar::Util 0 1.45
build_requires:
Module Need Have
----------------------- ----- --------
ExtUtils::MakeMaker 0 7.24
Sort::Versions 0 1.62
Test::Deep 0 1.120
Test::Exception 0 0.43
configure_requires:
Module Need Have
----------------------- ----- --------
ExtUtils::MakeMaker 0 7.24
perl 5.006 5.008009
------------------------------
ENVIRONMENT AND OTHER CONTEXT
------------------------------
Environment variables:
LANG = C
LC_ALL = de_DE.UTF-8
PATH = /usr/local/bin:/usr/bin:/bin:/usr/local/sbin:/usr/sbin:/sbin:/home/cpansand/bin/linux-gnu:/home/cpansand/bin/sh:/home/cpansand/bin:/usr/games:/home/cpansand/devel:/home/eserte/src/srezic-misc/scripts
PERL5LIB = /home/cpansand/.cpan/build/2017032309/FFI-1.10-15/blib/arch:/home/cpansand/.cpan/build/2017032309/FFI-1.10-15/blib/lib
PERL5OPT =
PERL5_CPANPLUS_IS_RUNNING = 20837
PERL5_CPAN_IS_RUNNING = 20837
PERL5_CPAN_IS_RUNNING_IN_RECURSION = 20764,20837
PERLDOC = -MPod::Perldoc::ToTextOverstrike
PERL_BATCH = yes
PERL_CANARY_STABILITY_NOPROMPT = 1
PERL_CPAN_REPORTER_CONFIG = /var/tmp/cpansmoker-1023/2017032309/cpanreporter_000_config.ini
PERL_EXTUTILS_AUTOINSTALL = --defaultdeps
PERL_PARALLEL_SMOKER = yes
PERL_USE_UNSAFE_INC = 1
SHELL = /bin/zsh
TERM = screen
TMPDIR = /var/tmp/cpansmoker-1023/2017032309
Perl special variables (and OS-specific diagnostics, for MSWin32):
$^X = /bbbike/perl-5.8.9/bin/perl5.8.9
$UID/$EUID = 1023 / 1023
$GID = 1023 1023
$EGID = 1023 1023
Perl module toolchain versions installed:
Module Have
------------------- --------
CPAN 2.16
CPAN::Meta 2.150010
Cwd 3.62
ExtUtils::CBuilder 0.280224
ExtUtils::Command 7.24
ExtUtils::Install 1.54
ExtUtils::MakeMaker 7.24
ExtUtils::Manifest 1.70
ExtUtils::ParseXS 3.30
File::Spec 3.62
JSON 2.90
JSON::PP 2.27400
Module::Build 0.4220
Module::Signature 0.80
Parse::CPAN::Meta 2.150010
Test::Harness 3.36
Test::More 1.302078
YAML 1.20
YAML::Syck 1.29
version 0.9916
--
Summary of my perl5 (revision 5 version 8 subversion 9) configuration:
Platform:
osname=linux, osvers=3.16.0-4-amd64, archname=x86_64-linux
uname='linux eserte 3.16.0-4-amd64 #1 smp debian 3.16.7-ckt25-2 (2016-04-08) x86_64 gnulinux '
config_args='-ds -e -Dprefix=/opt/perl-5.8.9 -Dcf_email=srezic@cpan.org'
hint=recommended, useposix=true, d_sigaction=define
usethreads=undef use5005threads=undef useithreads=undef usemultiplicity=undef
useperlio=define d_sfio=undef uselargefiles=define usesocks=undef
use64bitint=define use64bitall=define uselongdouble=undef
usemymalloc=n, bincompat5005=undef
Compiler:
cc='cc', ccflags ='-fno-strict-aliasing -pipe -I/usr/local/include -D_LARGEFILE_SOURCE -D_FILE_OFFSET_BITS=64',
optimize='-O2',
cppflags='-fno-strict-aliasing -pipe -I/usr/local/include'
ccversion='', gccversion='4.9.2', gccosandvers=''
intsize=4, longsize=8, ptrsize=8, doublesize=8, byteorder=12345678
d_longlong=define, longlongsize=8, d_longdbl=define, longdblsize=16
ivtype='long', ivsize=8, nvtype='double', nvsize=8, Off_t='off_t', lseeksize=8
alignbytes=8, prototype=define
Linker and Libraries:
ld='cc', ldflags =' -L/usr/local/lib'
libpth=/usr/local/lib /lib/x86_64-linux-gnu /lib/../lib /usr/lib/x86_64-linux-gnu /usr/lib/../lib /lib /usr/lib
libs=-lnsl -ldl -lm -lcrypt -lutil -lc
perllibs=-lnsl -ldl -lm -lcrypt -lutil -lc
libc=libc-2.19.so, so=so, useshrplib=false, libperl=libperl.a
gnulibc_version='2.19'
Dynamic Linking:
dlsrc=dl_dlopen.xs, dlext=so, d_dlsymun=undef, ccdlflags='-Wl,-E'
cccdlflags='-fPIC', lddlflags='-shared -O2 -L/usr/local/lib'
Characteristics of this binary (from libperl):
Compile-time options: PERL_MALLOC_WRAP USE_64_BIT_ALL USE_64_BIT_INT
USE_FAST_STDIO USE_LARGE_FILES USE_PERLIO
Locally applied patches:
Devel::PatchPerl 1.42
Built under linux
Compiled at May 7 2016 09:05:30
%ENV:
PERL5LIB="/home/cpansand/.cpan/build/2017032309/FFI-1.10-15/blib/arch:/home/cpansand/.cpan/build/2017032309/FFI-1.10-15/blib/lib"
PERL5OPT=""
PERL5_CPANPLUS_IS_RUNNING="20837"
PERL5_CPAN_IS_RUNNING="20837"
PERL5_CPAN_IS_RUNNING_IN_RECURSION="20764,20837"
PERLDOC="-MPod::Perldoc::ToTextOverstrike"
PERL_BATCH="yes"
PERL_CANARY_STABILITY_NOPROMPT="1"
PERL_CPAN_REPORTER_CONFIG="/var/tmp/cpansmoker-1023/2017032309/cpanreporter_000_config.ini"
PERL_EXTUTILS_AUTOINSTALL="--defaultdeps"
PERL_PARALLEL_SMOKER="yes"
PERL_USE_UNSAFE_INC="1"
@INC:
/home/cpansand/.cpan/build/2017032309/FFI-1.10-15/blib/arch
/home/cpansand/.cpan/build/2017032309/FFI-1.10-15/blib/lib
/opt/perl-5.8.9/lib/5.8.9/x86_64-linux
/opt/perl-5.8.9/lib/5.8.9
/opt/perl-5.8.9/lib/site_perl/5.8.9/x86_64-linux
/opt/perl-5.8.9/lib/site_perl/5.8.9
.