Crypt-PKCS10 v2.005 Perl 5 v5.39.9 x86_64-linux-thread-multi-ld

Status
Pass
From
Andreas J. König (ANDK)
Dist
Crypt-PKCS10 v2.005
Platform
Perl 5 v5.39.9 x86_64-linux-thread-multi-ld
Date
2024-03-29 15:58:45
ID
38fbbe30-ede5-11ee-b4c3-a718db50676d
This distribution has been tested as part of the CPAN Testers
project, supporting the Perl programming language.  See
http://wiki.cpantesters.org/ for more information or email
questions to cpan-testers-discuss@perl.org


--
Dear Scott T. Hardin,

This is a computer-generated report for Crypt-PKCS10-2.005
on perl 5.39.9, created by CPAN-Reporter-1.2019.

Thank you for uploading your work to CPAN.  Congratulations!
All tests were successful.

Sections of this report:

    * Tester comments
    * Program output
    * Prerequisites
    * Environment and other context

------------------------------
TESTER COMMENTS
------------------------------

Additional comments from tester:

this report is from an automated smoke testing program
and was not reviewed by a human for accuracy

------------------------------
PROGRAM OUTPUT
------------------------------

Output from './Build test':

t/0-signature.t ..... skipped: Set the environment variable TEST_SIGNATURE to enable this test.
# Perl /tmp/basesmoker-reloperl-GK5K/bin/perl version 5.39.9
# OpenSSL 3.0.2 15 Mar 2022 (Library: OpenSSL 3.0.2 15 Mar 2022)
# built on: Fri Feb 16 08:51:30 2024 UTC
# platform: debian-amd64
# options:  bn(64,64)
# compiler: gcc -fPIC -pthread -m64 -Wa,--noexecstack -Wall -Wa,--noexecstack -g -O2
# 		    -ffile-prefix-map=/build/openssl-olCZw9/openssl-3.0.2=.
# 		    -flto=auto -ffat-lto-objects -flto=auto
# 		    -ffat-lto-objects -fstack-protector-strong -Wformat
# 		    -Werror=format-security -DOPENSSL_TLS_SECURITY_LEVEL=2
# 		    -DOPENSSL_USE_NODELETE -DL_ENDIAN -DOPENSSL_PIC
# 		    -DOPENSSL_BUILDING_OPENSSL -DNDEBUG -Wdate-time
# 		    -D_FORTIFY_SOURCE=2
# OPENSSLDIR: "/usr/lib/ssl"
# ENGINESDIR: "/usr/lib/x86_64-linux-gnu/engines-3"
# MODULESDIR: "/usr/lib/x86_64-linux-gnu/ossl-modules"
# Seeding source: os-specific
# CPUINFO: OPENSSL_ia32cap=0xfffab2234f8bffff:0x4009c4fbb
# ciphers:          AES128-GCM-SHA256 AES128-SHA AES128-SHA256 AES256-GCM-SHA384 AES256-SHA
# 		    AES256-SHA256 DHE-PSK-AES128-CBC-SHA
# 		    DHE-PSK-AES128-CBC-SHA256 DHE-PSK-AES128-GCM-SHA256
# 		    DHE-PSK-AES256-CBC-SHA DHE-PSK-AES256-CBC-SHA384
# 		    DHE-PSK-AES256-GCM-SHA384 DHE-PSK-CHACHA20-POLY1305
# 		    DHE-RSA-AES128-GCM-SHA256 DHE-RSA-AES128-SHA
# 		    DHE-RSA-AES128-SHA256 DHE-RSA-AES256-GCM-SHA384
# 		    DHE-RSA-AES256-SHA DHE-RSA-AES256-SHA256
# 		    DHE-RSA-CHACHA20-POLY1305 ECDHE-ECDSA-AES128-GCM-SHA256
# 		    ECDHE-ECDSA-AES128-SHA ECDHE-ECDSA-AES128-SHA256
# 		    ECDHE-ECDSA-AES256-GCM-SHA384 ECDHE-ECDSA-AES256-SHA
# 		    ECDHE-ECDSA-AES256-SHA384 ECDHE-ECDSA-CHACHA20-POLY1305
# 		    ECDHE-PSK-AES128-CBC-SHA ECDHE-PSK-AES128-CBC-SHA256
# 		    ECDHE-PSK-AES256-CBC-SHA ECDHE-PSK-AES256-CBC-SHA384
# 		    ECDHE-PSK-CHACHA20-POLY1305 ECDHE-RSA-AES128-GCM-SHA256
# 		    ECDHE-RSA-AES128-SHA ECDHE-RSA-AES128-SHA256
# 		    ECDHE-RSA-AES256-GCM-SHA384 ECDHE-RSA-AES256-SHA
# 		    ECDHE-RSA-AES256-SHA384 ECDHE-RSA-CHACHA20-POLY1305
# 		    PSK-AES128-CBC-SHA PSK-AES128-CBC-SHA256
# 		    PSK-AES128-GCM-SHA256 PSK-AES256-CBC-SHA
# 		    PSK-AES256-CBC-SHA384 PSK-AES256-GCM-SHA384
# 		    PSK-CHACHA20-POLY1305 RSA-PSK-AES128-CBC-SHA
# 		    RSA-PSK-AES128-CBC-SHA256 RSA-PSK-AES128-GCM-SHA256
# 		    RSA-PSK-AES256-CBC-SHA RSA-PSK-AES256-CBC-SHA384
# 		    RSA-PSK-AES256-GCM-SHA384 RSA-PSK-CHACHA20-POLY1305
# 		    SRP-AES-128-CBC-SHA SRP-AES-256-CBC-SHA
# 		    SRP-RSA-AES-128-CBC-SHA SRP-RSA-AES-256-CBC-SHA
# 		    TLS_AES_128_GCM_SHA256 TLS_AES_256_GCM_SHA384
# 		    TLS_CHACHA20_POLY1305_SHA256
t/02_base.t ......... ok
# Perl /tmp/basesmoker-reloperl-GK5K/bin/perl version 5.39.9
t/03_ecc.t .......... ok
t/04_complex_rdn.t .. ok
All tests successful.
Files=4, Tests=38,  0 wallclock secs ( 0.04 usr  0.01 sys +  0.79 cusr  0.09 csys =  0.93 CPU)
Result: PASS

------------------------------
PREREQUISITES
------------------------------

Prerequisite modules loaded:

requires:

    Module              Need     Have    
    ------------------- -------- --------
    Convert::ASN1       0        0.34    
    Encode              0        3.21    
    MIME::Base64        0        3.16_01 
    perl                5.008001 5.039009
    Scalar::Util        0        1.63    

build_requires:

    Module              Need     Have    
    ------------------- -------- --------
    Test::More          0.98     1.302198

configure_requires:

    Module              Need     Have    
    ------------------- -------- --------
    Module::Build::Tiny 0.035    0.047   


------------------------------
ENVIRONMENT AND OTHER CONTEXT
------------------------------

Environment variables:

    AUTOMATED_TESTING = 1
    LANG = en_US.UTF-8
    LC_ADDRESS = de_DE.UTF-8
    LC_IDENTIFICATION = de_DE.UTF-8
    LC_MEASUREMENT = de_DE.UTF-8
    LC_MONETARY = de_DE.UTF-8
    LC_NAME = de_DE.UTF-8
    LC_NUMERIC = de_DE.UTF-8
    LC_PAPER = de_DE.UTF-8
    LC_TELEPHONE = de_DE.UTF-8
    LC_TIME = de_DE.UTF-8
    PATH = /home/sand/bin:/usr/local/bin:/usr/local/sbin:/usr/sbin:/usr/bin:/sbin:/bin:/usr/games:/usr/local/games:/snap/bin:/usr/local/perl/bin:/usr/X11/bin
    PERL5LIB = /tmp/loop_over_bdir-4139442-VM9GXK/App-oo_modulino_zsh_completion_helper-0.04-0/blib/arch:/tmp/loop_over_bdir-4139442-VM9GXK/App-oo_modulino_zsh_completion_helper-0.04-0/blib/lib:/tmp/loop_over_bdir-4139442-VM9GXK/Net-Async-WebService-lxd-0.03-0/blib/arch:/tmp/loop_over_bdir-4139442-VM9GXK/Net-Async-WebService-lxd-0.03-0/blib/lib:/tmp/loop_over_bdir-4139442-VM9GXK/CGI-Application-NetNewsIface-0.0204-0/blib/arch:/tmp/loop_over_bdir-4139442-VM9GXK/CGI-Application-NetNewsIface-0.0204-0/blib/lib:/tmp/loop_over_bdir-4139442-VM9GXK/Debian-Packages-0.03-0/blib/arch:/tmp/loop_over_bdir-4139442-VM9GXK/Debian-Packages-0.03-0/blib/lib:/tmp/loop_over_bdir-4139442-VM9GXK/Dpkg-1.22.6-0/blib/arch:/tmp/loop_over_bdir-4139442-VM9GXK/Dpkg-1.22.6-0/blib/lib:/tmp/loop_over_bdir-4139442-VM9GXK/Lemonldap-NG-Cli-0.2-0/blib/arch:/tmp/loop_over_bdir-4139442-VM9GXK/Lemonldap-NG-Cli-0.2-0/blib/lib:/tmp/loop_over_bdir-4139442-VM9GXK/Business-Shipping-DataFiles-1.02-0/blib/arch:/tmp/loop_over_bdir-4139442-VM9GXK/Business-Shipping-DataFiles-1.02-0/blib/lib
    PERL5OPT = 
    PERL5_CPANPLUS_IS_RUNNING = 4139455
    PERL5_CPAN_IS_RUNNING = 4139455
    PERL_CANARY_STABILITY_NOPROMPT = 1
    PERL_MM_USE_DEFAULT = 1
    PERL_USE_UNSAFE_INC = 1
    SHELL = /usr/bin/zsh
    TERM = screen

Perl special variables (and OS-specific diagnostics, for MSWin32):

    $^X = /tmp/basesmoker-reloperl-GK5K/bin/perl
    $UID/$EUID = 1005 / 1005
    $GID = 1005 1005
    $EGID = 1005 1005

Perl module toolchain versions installed:

    Module              Have    
    ------------------- --------
    CPAN                2.36    
    CPAN::Meta          2.150010
    Cwd                 3.90    
    ExtUtils::CBuilder  0.280240
    ExtUtils::Command   7.70    
    ExtUtils::Install   2.22    
    ExtUtils::MakeMaker 7.70    
    ExtUtils::Manifest  1.75    
    ExtUtils::ParseXS   3.51    
    File::Spec          3.90    
    JSON                4.10    
    JSON::PP            4.16    
    Module::Build       0.4234  
    Module::Signature   0.88    
    Parse::CPAN::Meta   2.150010
    Test2               1.302198
    Test::Harness       3.48    
    Test::More          1.302198
    YAML                1.31    
    YAML::Syck          1.34    
    version             0.9930  


--

Summary of my perl5 (revision 5 version 39 subversion 9) configuration:
  Commit id: 824a7e0bf8052e62e6913c5fb807a6a8331a2d81
  Platform:
    osname=linux
    osvers=6.5.0-25-generic
    archname=x86_64-linux-thread-multi-ld
    uname='linux k93jammy 6.5.0-25-generic #25~22.04.1-ubuntu smp preempt_dynamic tue feb 20 16:09:15 utc 2 x86_64 x86_64 x86_64 gnulinux '
    config_args='-Dprefix=/home/sand/src/perl/repoperls/installed-perls/host/k93jammy/v5.39.9/322f -Dmyhostname=k93jammy -Dinstallusrbinperl=n -Uversiononly -Dusedevel -des -Ui_db -Dlibswanted=cl pthread socket inet nsl gdbm dbm malloc dl ld sun m crypt sec util c cposix posix ucb BSD gdbm_compat -Duseithreads -Duselongdouble -DEBUGGING=-g'
    hint=recommended
    useposix=true
    d_sigaction=define
    useithreads=define
    usemultiplicity=define
    use64bitint=define
    use64bitall=define
    uselongdouble=define
    usemymalloc=n
    default_inc_excludes_dot=define
  Compiler:
    cc='cc'
    ccflags ='-D_REENTRANT -D_GNU_SOURCE -fwrapv -fno-strict-aliasing -pipe -fstack-protector-strong -I/usr/local/include -D_LARGEFILE_SOURCE -D_FILE_OFFSET_BITS=64'
    optimize='-O2 -g'
    cppflags='-D_REENTRANT -D_GNU_SOURCE -fwrapv -fno-strict-aliasing -pipe -fstack-protector-strong -I/usr/local/include'
    ccversion=''
    gccversion='11.4.0'
    gccosandvers=''
    intsize=4
    longsize=8
    ptrsize=8
    doublesize=8
    byteorder=12345678
    doublekind=3
    d_longlong=define
    longlongsize=8
    d_longdbl=define
    longdblsize=16
    longdblkind=3
    ivtype='long'
    ivsize=8
    nvtype='long double'
    nvsize=16
    Off_t='off_t'
    lseeksize=8
    alignbytes=16
    prototype=define
  Linker and Libraries:
    ld='cc'
    ldflags =' -fstack-protector-strong -L/usr/local/lib'
    libpth=/usr/local/lib /usr/lib/x86_64-linux-gnu /usr/lib /usr/lib64
    libs=-lpthread -lnsl -ldl -lm -lcrypt -lutil -lc
    perllibs=-lpthread -lnsl -ldl -lm -lcrypt -lutil -lc
    libc=/lib/x86_64-linux-gnu/libc.so.6
    so=so
    useshrplib=false
    libperl=libperl.a
    gnulibc_version='2.35'
  Dynamic Linking:
    dlsrc=dl_dlopen.xs
    dlext=so
    d_dlsymun=undef
    ccdlflags='-Wl,-E'
    cccdlflags='-fPIC'
    lddlflags='-shared -O2 -g -L/usr/local/lib -fstack-protector-strong'


Characteristics of this binary (from libperl): 
  Compile-time options:
    HAS_LONG_DOUBLE
    HAS_STRTOLD
    HAS_TIMES
    MULTIPLICITY
    PERLIO_LAYERS
    PERL_COPY_ON_WRITE
    PERL_DONT_CREATE_GVSV
    PERL_HASH_FUNC_SIPHASH13
    PERL_HASH_USE_SBOX32
    PERL_MALLOC_WRAP
    PERL_OP_PARENT
    PERL_PRESERVE_IVUV
    PERL_USE_DEVEL
    PERL_USE_SAFE_PUTENV
    USE_64_BIT_ALL
    USE_64_BIT_INT
    USE_ITHREADS
    USE_LARGE_FILES
    USE_LOCALE
    USE_LOCALE_COLLATE
    USE_LOCALE_CTYPE
    USE_LOCALE_NUMERIC
    USE_LOCALE_TIME
    USE_LONG_DOUBLE
    USE_PERLIO
    USE_PERL_ATOF
    USE_REENTRANT_API
    USE_THREAD_SAFE_LOCALE
  Built under linux
  Compiled at Mar 21 2024 04:30:26
  %ENV:
    PERL5LIB="/tmp/loop_over_bdir-4139442-VM9GXK/App-oo_modulino_zsh_completion_helper-0.04-0/blib/arch:/tmp/loop_over_bdir-4139442-VM9GXK/App-oo_modulino_zsh_completion_helper-0.04-0/blib/lib:/tmp/loop_over_bdir-4139442-VM9GXK/Net-Async-WebService-lxd-0.03-0/blib/arch:/tmp/loop_over_bdir-4139442-VM9GXK/Net-Async-WebService-lxd-0.03-0/blib/lib:/tmp/loop_over_bdir-4139442-VM9GXK/CGI-Application-NetNewsIface-0.0204-0/blib/arch:/tmp/loop_over_bdir-4139442-VM9GXK/CGI-Application-NetNewsIface-0.0204-0/blib/lib:/tmp/loop_over_bdir-4139442-VM9GXK/Debian-Packages-0.03-0/blib/arch:/tmp/loop_over_bdir-4139442-VM9GXK/Debian-Packages-0.03-0/blib/lib:/tmp/loop_over_bdir-4139442-VM9GXK/Dpkg-1.22.6-0/blib/arch:/tmp/loop_over_bdir-4139442-VM9GXK/Dpkg-1.22.6-0/blib/lib:/tmp/loop_over_bdir-4139442-VM9GXK/Lemonldap-NG-Cli-0.2-0/blib/arch:/tmp/loop_over_bdir-4139442-VM9GXK/Lemonldap-NG-Cli-0.2-0/blib/lib:/tmp/loop_over_bdir-4139442-VM9GXK/Business-Shipping-DataFiles-1.02-0/blib/arch:/tmp/loop_over_bdir-4139442-VM9GXK/Business-Shipping-DataFiles-1.02-0/blib/lib"
    PERL5OPT=""
    PERL5_CPANPLUS_IS_RUNNING="4139455"
    PERL5_CPAN_IS_RUNNING="4139455"
    PERL_CANARY_STABILITY_NOPROMPT="1"
    PERL_MM_USE_DEFAULT="1"
    PERL_USE_UNSAFE_INC="1"
  @INC:
    /tmp/loop_over_bdir-4139442-VM9GXK/App-oo_modulino_zsh_completion_helper-0.04-0/blib/arch
    /tmp/loop_over_bdir-4139442-VM9GXK/App-oo_modulino_zsh_completion_helper-0.04-0/blib/lib
    /tmp/loop_over_bdir-4139442-VM9GXK/Net-Async-WebService-lxd-0.03-0/blib/arch
    /tmp/loop_over_bdir-4139442-VM9GXK/Net-Async-WebService-lxd-0.03-0/blib/lib
    /tmp/loop_over_bdir-4139442-VM9GXK/CGI-Application-NetNewsIface-0.0204-0/blib/arch
    /tmp/loop_over_bdir-4139442-VM9GXK/CGI-Application-NetNewsIface-0.0204-0/blib/lib
    /tmp/loop_over_bdir-4139442-VM9GXK/Debian-Packages-0.03-0/blib/arch
    /tmp/loop_over_bdir-4139442-VM9GXK/Debian-Packages-0.03-0/blib/lib
    /tmp/loop_over_bdir-4139442-VM9GXK/Dpkg-1.22.6-0/blib/arch
    /tmp/loop_over_bdir-4139442-VM9GXK/Dpkg-1.22.6-0/blib/lib
    /tmp/loop_over_bdir-4139442-VM9GXK/Lemonldap-NG-Cli-0.2-0/blib/arch
    /tmp/loop_over_bdir-4139442-VM9GXK/Lemonldap-NG-Cli-0.2-0/blib/lib
    /tmp/loop_over_bdir-4139442-VM9GXK/Business-Shipping-DataFiles-1.02-0/blib/arch
    /tmp/loop_over_bdir-4139442-VM9GXK/Business-Shipping-DataFiles-1.02-0/blib/lib
    /home/sand/src/perl/repoperls/installed-perls/host/k93jammy/v5.39.9/322f/lib/site_perl/5.39.9/x86_64-linux-thread-multi-ld
    /home/sand/src/perl/repoperls/installed-perls/host/k93jammy/v5.39.9/322f/lib/site_perl/5.39.9
    /home/sand/src/perl/repoperls/installed-perls/host/k93jammy/v5.39.9/322f/lib/5.39.9/x86_64-linux-thread-multi-ld
    /home/sand/src/perl/repoperls/installed-perls/host/k93jammy/v5.39.9/322f/lib/5.39.9
    .