Path-Dispatcher v1.08 Perl 5 v5.32.0 armv6l-linux

Status
Pass
From
gregor herrmann
Dist
Path-Dispatcher v1.08
Platform
Perl 5 v5.32.0 armv6l-linux
Date
2020-07-12 06:52:16
ID
38e95756-c40c-11ea-8981-5c3ecccccfd6
This distribution has been tested as part of the CPAN Testers
project, supporting the Perl programming language.  See
http://wiki.cpantesters.org/ for more information or email
questions to cpan-testers-discuss@perl.org


--
Dear Karen Etheridge,

This is a computer-generated report for Path-Dispatcher-1.08
on perl 5.32.0, created by CPAN-Reporter-1.2018.

Thank you for uploading your work to CPAN.  Congratulations!
All tests were successful.

Sections of this report:

    * Tester comments
    * Program output
    * Prerequisites
    * Environment and other context

------------------------------
TESTER COMMENTS
------------------------------

Additional comments from tester:

this report is from an automated smoke testing program
and was not reviewed by a human for accuracy

------------------------------
PROGRAM OUTPUT
------------------------------

Output from './Build test':

# 
# Versions for all modules listed in MYMETA.json (including optional ones):
# 
# === Configure Requires ===
# 
#     Module               Want    Have
#     ------------------- ----- -------
#     ExtUtils::MakeMaker   any 7.47_03
#     Module::Build::Tiny 0.034   0.039
# 
# === Test Requires ===
# 
#     Module           Want     Have
#     ---------------- ---- --------
#     File::Spec        any     3.78
#     Module::Metadata  any 1.000037
#     Test::Fatal       any    0.014
#     Test::More        any 1.302175
#     strict            any     1.11
#     warnings          any     1.47
# 
# === Test Recommends ===
# 
#     Module         Want     Have
#     ---------- -------- --------
#     CPAN::Meta 2.120900 2.150010
# 
# === Runtime Requires ===
# 
#     Module          Want     Have
#     --------------- ---- --------
#     Carp             any     1.50
#     Moo              any 2.004000
#     Moo::Role        any 2.004000
#     MooX::TypeTiny   any 0.002003
#     Scalar::Util     any     1.55
#     Try::Tiny        any     0.30
#     Type::Tiny       any 1.010002
#     Type::Utils      any 1.010002
#     Types::Standard  any 1.010002
#     constant         any     1.33
#     overload         any     1.31
# 
# === Other Modules ===
# 
#     Module            Have
#     --------------- ------
#     Encode            3.06
#     File::Temp      0.2309
#     JSON::PP          4.04
#     Module::Runtime  0.016
#     Sub::Name         0.26
#     YAML              1.30
#     autodie           2.32
# 
t/00-report-prereqs.t .......... ok
t/000-compile.t ................ ok
t/001-api.t .................... ok
t/002-rule.t ................... ok
t/003-404.t .................... ok
t/004-run.t .................... ok
t/005-multi-rule.t ............. ok
t/006-abort.t .................. ok
t/007-coderef-matcher.t ........ ok
t/009-args.t ................... ok
t/010-return.t ................. ok
t/011-next-rule.t .............. ok
t/012-under.t .................. ok
t/013-tokens.t ................. ok
t/014-tokens-prefix.t .......... ok
t/015-regex-prefix.t ........... ok
t/017-intersection.t ........... ok
t/018-metadata.t ............... ok
t/019-intersection-metadata.t .. ok
t/022-numbers-undef.t .......... ok
t/023-alternation.t ............ ok
t/024-sequence.t ............... ok
t/025-sequence-custom-rule.t ... ok
t/026-named-captures.t ......... ok
t/027-custom-named-captures.t .. ok
t/030-exceptions.t ............. ok
t/031-structured-match.t ....... ok
t/032-multiple-delimiter.t ..... ok
t/033-chain.t .................. ok
t/100-match-object.t ........... ok
t/200-payload.t ................ ok
t/901-return-values.t .......... ok
t/902-coderef.t ................ ok
All tests successful.
Files=33, Tests=216, 198 wallclock secs ( 2.02 usr  0.27 sys + 176.49 cusr  5.81 csys = 184.59 CPU)
Result: PASS

------------------------------
PREREQUISITES
------------------------------

Prerequisite modules loaded:

requires:

    Module              Need     Have    
    ------------------- -------- --------
    Carp                0        1.50    
    constant            0        1.33    
    Moo                 0        2.004000
    Moo::Role           0        2.004000
    MooX::TypeTiny      0        0.002003
    overload            0        1.31    
    perl                5.008001 5.032000
    Scalar::Util        0        1.55    
    Try::Tiny           0        0.30    
    Type::Tiny          0        1.010002
    Type::Utils         0        1.010002
    Types::Standard     0        1.010002

build_requires:

    Module              Need     Have    
    ------------------- -------- --------
    File::Spec          0        3.78    
    Module::Metadata    0        1.000037
    perl                5.008001 5.032000
    strict              0        1.11    
    Test::Fatal         0        0.014   
    Test::More          0        1.302175
    warnings            0        1.47    

configure_requires:

    Module              Need     Have    
    ------------------- -------- --------
    ExtUtils::MakeMaker 0        7.47_03 
    Module::Build::Tiny 0.034    0.039   
    perl                5.008001 5.032000


------------------------------
ENVIRONMENT AND OTHER CONTEXT
------------------------------

Environment variables:

    AUTOMATED_TESTING = 1
    LC_CTYPE = de_AT.utf8
    LD_LIBRARY_PATH = /usr/lib/libeatmydata
    NONINTERACTIVE_TESTING = 1
    PATH = /srv/smoker/perl5/perlbrew/bin:/srv/smoker/perl5/perlbrew/perls/perl-5.32.0/bin:/srv/smoker/bin:/usr/lib/ccache:/usr/local/bin:/usr/bin:/bin:/usr/local/games:/usr/games
    PERL5LIB = 
    PERL5OPT = 
    PERL5_CPANPLUS_IS_RUNNING = 1588
    PERL5_CPAN_IS_RUNNING = 1588
    PERL5_CPAN_IS_RUNNING_IN_RECURSION = 16490,1588
    PERLBREW_HOME = /srv/smoker/.perlbrew
    PERLBREW_MANPATH = /srv/smoker/perl5/perlbrew/perls/perl-5.32.0/man
    PERLBREW_PATH = /srv/smoker/perl5/perlbrew/bin:/srv/smoker/perl5/perlbrew/perls/perl-5.32.0/bin
    PERLBREW_PERL = perl-5.32.0
    PERLBREW_ROOT = /srv/smoker/perl5/perlbrew
    PERLBREW_SHELLRC_VERSION = 0.88
    PERLBREW_VERSION = 0.88
    PERL_CR_SMOKER_CURRENT = Path-Dispatcher-1.08
    PERL_EXTUTILS_AUTOINSTALL = --defaultdeps
    PERL_MM_USE_DEFAULT = 1
    PERL_TEST_TIME_OUT_FACTOR = 3
    PERL_TEST_TIME_OUT_FACTOR = 3
    PERL_USE_UNSAFE_INC = 1
    SHELL = /bin/bash
    TERM = screen-256color

Perl special variables (and OS-specific diagnostics, for MSWin32):

    $^X = /srv/smoker/perl5/perlbrew/perls/perl-5.32.0/bin/perl
    $UID/$EUID = 1111 / 1111
    $GID = 65534 65534
    $EGID = 65534 65534

Perl module toolchain versions installed:

    Module              Have    
    ------------------- --------
    CPAN                2.28    
    CPAN::Meta          2.150010
    Cwd                 3.78    
    ExtUtils::CBuilder  0.280234
    ExtUtils::Command   7.47_03 
    ExtUtils::Install   2.14    
    ExtUtils::MakeMaker 7.47_03 
    ExtUtils::Manifest  1.72    
    ExtUtils::ParseXS   3.40    
    File::Spec          3.78    
    JSON                4.02    
    JSON::PP            4.04    
    Module::Build       0.4231  
    Module::Signature   0.87    
    Parse::CPAN::Meta   2.150010
    Test::Harness       3.42    
    Test::More          1.302175
    YAML                1.30    
    YAML::Syck          1.32    
    version             0.9924  


--

Summary of my perl5 (revision 5 version 32 subversion 0) configuration:
   
  Platform:
    osname=linux
    osvers=4.9.0-6-rpi
    archname=armv6l-linux
    uname='linux smoker 4.9.0-6-rpi #1 raspbian 4.9.82-1+deb9u3+rpi2 (2018-11-09) armv6l gnulinux '
    config_args='-de -Dprefix=/srv/smoker/perl5/perlbrew/perls/perl-5.32.0 -Aeval:scriptdir=/srv/smoker/perl5/perlbrew/perls/perl-5.32.0/bin'
    hint=recommended
    useposix=true
    d_sigaction=define
    useithreads=undef
    usemultiplicity=undef
    use64bitint=undef
    use64bitall=undef
    uselongdouble=undef
    usemymalloc=n
    default_inc_excludes_dot=define
    bincompat5005=undef
  Compiler:
    cc='cc'
    ccflags ='-fwrapv -fno-strict-aliasing -pipe -fstack-protector-strong -I/usr/local/include -D_LARGEFILE_SOURCE -D_FILE_OFFSET_BITS=64 -D_FORTIFY_SOURCE=2'
    optimize='-O2'
    cppflags='-fwrapv -fno-strict-aliasing -pipe -fstack-protector-strong -I/usr/local/include'
    ccversion=''
    gccversion='9.3.0'
    gccosandvers=''
    intsize=4
    longsize=4
    ptrsize=4
    doublesize=8
    byteorder=1234
    doublekind=3
    d_longlong=define
    longlongsize=8
    d_longdbl=define
    longdblsize=8
    longdblkind=0
    ivtype='long'
    ivsize=4
    nvtype='double'
    nvsize=8
    Off_t='off_t'
    lseeksize=8
    alignbytes=8
    prototype=define
  Linker and Libraries:
    ld='cc'
    ldflags =' -fstack-protector-strong -L/usr/local/lib'
    libpth=/usr/local/lib /usr/include/arm-linux-gnueabihf /usr/lib /lib/arm-linux-gnueabihf /lib /usr/lib/arm-linux-gnueabihf
    libs=-lpthread -lnsl -ldb -ldl -lm -lcrypt -lutil -lc
    perllibs=-lpthread -lnsl -ldl -lm -lcrypt -lutil -lc
    libc=libc-2.30.so
    so=so
    useshrplib=false
    libperl=libperl.a
    gnulibc_version='2.30'
  Dynamic Linking:
    dlsrc=dl_dlopen.xs
    dlext=so
    d_dlsymun=undef
    ccdlflags='-Wl,-E'
    cccdlflags='-fPIC'
    lddlflags='-shared -O2 -L/usr/local/lib -fstack-protector-strong'


Characteristics of this binary (from libperl): 
  Compile-time options:
    HAS_TIMES
    PERLIO_LAYERS
    PERL_COPY_ON_WRITE
    PERL_DONT_CREATE_GVSV
    PERL_MALLOC_WRAP
    PERL_OP_PARENT
    PERL_PRESERVE_IVUV
    USE_LARGE_FILES
    USE_LOCALE
    USE_LOCALE_COLLATE
    USE_LOCALE_CTYPE
    USE_LOCALE_NUMERIC
    USE_LOCALE_TIME
    USE_PERLIO
    USE_PERL_ATOF
  Locally applied patches:
    Devel::PatchPerl 1.38
  Built under linux
  Compiled at Jun 21 2020 02:24:10
  %ENV:
    PERL5LIB=""
    PERL5OPT=""
    PERL5_CPANPLUS_IS_RUNNING="1588"
    PERL5_CPAN_IS_RUNNING="1588"
    PERL5_CPAN_IS_RUNNING_IN_RECURSION="16490,1588"
    PERLBREW_HOME="/srv/smoker/.perlbrew"
    PERLBREW_MANPATH="/srv/smoker/perl5/perlbrew/perls/perl-5.32.0/man"
    PERLBREW_PATH="/srv/smoker/perl5/perlbrew/bin:/srv/smoker/perl5/perlbrew/perls/perl-5.32.0/bin"
    PERLBREW_PERL="perl-5.32.0"
    PERLBREW_ROOT="/srv/smoker/perl5/perlbrew"
    PERLBREW_SHELLRC_VERSION="0.88"
    PERLBREW_VERSION="0.88"
    PERL_CR_SMOKER_CURRENT="Path-Dispatcher-1.08"
    PERL_EXTUTILS_AUTOINSTALL="--defaultdeps"
    PERL_MM_USE_DEFAULT="1"
    PERL_TEST_TIME_OUT_FACTOR="3"
    PERL_USE_UNSAFE_INC="1"
  @INC:
    /srv/smoker/perl5/perlbrew/perls/perl-5.32.0/lib/site_perl/5.32.0/armv6l-linux
    /srv/smoker/perl5/perlbrew/perls/perl-5.32.0/lib/site_perl/5.32.0
    /srv/smoker/perl5/perlbrew/perls/perl-5.32.0/lib/5.32.0/armv6l-linux
    /srv/smoker/perl5/perlbrew/perls/perl-5.32.0/lib/5.32.0
    .