Report for Proc-Launcher-0.0.35

Back
From: metabase:user:320bfe00-2aae-11df-837a-5e0a49663a4f
Subject: PASS Proc-Launcher-0.0.35 v5.18.0 RC2 GNU/Linux
Date: 2013-05-13T14:27:21Z

This distribution has been tested as part of the CPAN Testers
project, supporting the Perl programming language.  See
http://wiki.cpantesters.org/ for more information or email
questions to cpan-testers-discuss@perl.org


--
Dear Alex White (wu),

This is a computer-generated report for Proc-Launcher-0.0.35
on perl 5.18.0, created by CPAN-Reporter-1.2010.

Thank you for uploading your work to CPAN.  Congratulations!
All tests were successful.

Sections of this report:

    * Tester comments
    * Program output
    * Prerequisites
    * Environment and other context

------------------------------
TESTER COMMENTS
------------------------------

Additional comments from tester:

this report is from an automated smoke testing program
and was not reviewed by a human for accuracy

------------------------------
PROGRAM OUTPUT
------------------------------

Output from '/usr/bin/make test':

PERL_DL_NONLAZY=1 /tmp/basesmoker-reloperl-eaq4/bin/perl "-MExtUtils::Command::MM" "-e" "test_harness(0, 'blib/lib', 'blib/arch')" t/*.t
# Testing Proc::Launcher 0.0.35
t/00.load.t ....................... ok
# 
# 
# perl: v5.18.0 (wanted any version) on linux from /tmp/basesmoker-reloperl-eaq4/bin/perl
# 
# Carp                                          => 1.29       (want any version)
# English                                       => 1.06       (want any version)
# ExtUtils::MakeMaker                           => 6.66       (want 6.31)   
# File::Path                                    => 2.09       (want any version)
# File::Tail                                    => 0.99.3     (want any version)
# File::Temp                                    => 0.2301     (want any version)
# IO::File                                      => 1.16       (want any version)
# Mouse                                         => 1.11       (want any version)
# Mouse::Role                                   => 1.11       (want any version)
# POSIX                                         => 1.32       (want any version)
# Test::More                                    => 0.98       (want 0.88)   
# 
# Thanks for using my code.  I hope it works for you.
# If not, please try and include this output in the bug report.
# That will help me reproduce the issue and solve you problem.
# 
t/000-report-versions-tiny.t ...... ok
t/10_launcher_sleeper.t ........... ok
t/10_launcher_sleeper_class.t ..... ok
t/15_launcher_cleanexit.t ......... ok
t/15_launcher_errorexit.t ......... ok
t/20_launcher_stubborn.t .......... ok
t/25_launcher_exec.t .............. ok
t/30_restart.t .................... ok
t/40_launcher_class.t ............. ok
t/40_launcher_class_context.t ..... ok
t/50_launch_manager.t ............. ok
t/51_launch_manager_noregister.t .. ok
t/52_launch_tail.t ................ ok
t/60_disable_enable.t ............. ok
t/70_pidfile.t .................... ok
t/80_launcher_locking.t ........... skipped: Author tests not required for installation
t/90_launcher_named_pipe.t ........ ok
t/author-critic.t ................. skipped: these tests are for testing by the author
t/kwalitee.t ...................... skipped: Author tests not required for installation
t/meta.t .......................... ok
t/no_tabs.t ....................... skipped: Author tests not required for installation
t/release-pod-coverage.t .......... skipped: these tests are for release candidate testing
t/release-pod-syntax.t ............ skipped: these tests are for release candidate testing
All tests successful.
Files=24, Tests=99, 107 wallclock secs ( 0.08 usr  0.03 sys +  1.26 cusr  0.24 csys =  1.61 CPU)
Result: PASS

------------------------------
PREREQUISITES
------------------------------

Prerequisite modules loaded:

requires:

    Module              Need Have  
    ------------------- ---- ------
    Carp                0    1.29  
    File::Path          0    2.09  
    File::Tail          0    0.99.3
    Mouse               0    1.11  
    Mouse::Role         0    1.11  
    POSIX               0    1.32  

build_requires:

    Module              Need Have  
    ------------------- ---- ------
    English             0    1.06  
    File::Temp          0    0.2301
    IO::File            0    1.16  
    Test::More          0.88 0.98  

configure_requires:

    Module              Need Have  
    ------------------- ---- ------
    ExtUtils::MakeMaker 6.31 6.66  


------------------------------
ENVIRONMENT AND OTHER CONTEXT
------------------------------

Environment variables:

    AUTOMATED_TESTING = 1
    LANG = en_US.UTF-8
    LANGUAGE = en_US:en
    PATH = /usr/lib/ccache:/home/sand/bin:/usr/local/bin:/usr/bin:/bin:/usr/bin/X11:/usr/games:/usr/local/perl/bin:/usr/X11/bin:/sbin:/usr/sbin
    PERL5LIB = 
    PERL5OPT = 
    PERL5_CPANPLUS_IS_RUNNING = 6265
    PERL5_CPAN_IS_RUNNING = 6265
    PERL_MM_USE_DEFAULT = 1
    SHELL = /usr/bin/zsh
    TERM = screen

Perl special variables (and OS-specific diagnostics, for MSWin32):

    $^X = /tmp/basesmoker-reloperl-eaq4/bin/perl
    $UID/$EUID = 1005 / 1005
    $GID = 1005 1005
    $EGID = 1005 1005

Perl module toolchain versions installed:

    Module              Have    
    ------------------- --------
    CPAN                2.00    
    CPAN::Meta          2.130880
    Cwd                 3.40    
    ExtUtils::CBuilder  0.280210
    ExtUtils::Command   1.17    
    ExtUtils::Install   1.59    
    ExtUtils::MakeMaker 6.66    
    ExtUtils::Manifest  1.63    
    ExtUtils::ParseXS   3.18    
    File::Spec          3.40    
    JSON                2.57    
    JSON::PP            2.27202 
    Module::Build       0.4005  
    Module::Signature   0.70    
    Parse::CPAN::Meta   1.4404  
    Test::Harness       3.26    
    Test::More          0.98    
    YAML                0.84    
    YAML::Syck          1.25    
    version             0.9902  


--

Summary of my perl5 (revision 5 version 18 subversion 0) configuration:
  Commit id: f24aa4593518ca1e7ba04841adbc3a08e154a5bd
  Platform:
    osname=linux, osvers=3.8-1-amd64, archname=x86_64-linux
    uname='linux k83 3.8-1-amd64 #1 smp debian 3.8.12-1 x86_64 gnulinux '
    config_args='-Dprefix=/home/src/perl/repoperls/installed-perls/perl/v5.18.0-RC2/165a -Dmyhostname=k83 -Dinstallusrbinperl=n -Uversiononly -Dusedevel -des -Ui_db -Uuseithreads -Uuselongdouble -DDEBUGGING=-g'
    hint=recommended, useposix=true, d_sigaction=define
    useithreads=undef, usemultiplicity=undef
    useperlio=define, d_sfio=undef, uselargefiles=define, usesocks=undef
    use64bitint=define, use64bitall=define, uselongdouble=undef
    usemymalloc=n, bincompat5005=undef
  Compiler:
    cc='cc', ccflags ='-fno-strict-aliasing -pipe -fstack-protector -I/usr/local/include -D_LARGEFILE_SOURCE -D_FILE_OFFSET_BITS=64',
    optimize='-O2 -g',
    cppflags='-fno-strict-aliasing -pipe -fstack-protector -I/usr/local/include'
    ccversion='', gccversion='4.7.3', gccosandvers=''
    intsize=4, longsize=8, ptrsize=8, doublesize=8, byteorder=12345678
    d_longlong=define, longlongsize=8, d_longdbl=define, longdblsize=16
    ivtype='long', ivsize=8, nvtype='double', nvsize=8, Off_t='off_t', lseeksize=8
    alignbytes=8, prototype=define
  Linker and Libraries:
    ld='cc', ldflags =' -fstack-protector -L/usr/local/lib'
    libpth=/usr/local/lib /lib/x86_64-linux-gnu /lib/../lib /usr/lib/x86_64-linux-gnu /usr/lib/../lib /lib /usr/lib
    libs=-lnsl -lgdbm -ldb -ldl -lm -lcrypt -lutil -lc -lgdbm_compat
    perllibs=-lnsl -ldl -lm -lcrypt -lutil -lc
    libc=, so=so, useshrplib=false, libperl=libperl.a
    gnulibc_version='2.17'
  Dynamic Linking:
    dlsrc=dl_dlopen.xs, dlext=so, d_dlsymun=undef, ccdlflags='-Wl,-E'
    cccdlflags='-fPIC', lddlflags='-shared -O2 -g -L/usr/local/lib -fstack-protector'


Characteristics of this binary (from libperl): 
  Compile-time options: HAS_TIMES PERLIO_LAYERS PERL_DONT_CREATE_GVSV
                        PERL_HASH_FUNC_ONE_AT_A_TIME_HARD PERL_MALLOC_WRAP
                        PERL_PRESERVE_IVUV PERL_SAWAMPERSAND PERL_USE_DEVEL
                        USE_64_BIT_ALL USE_64_BIT_INT USE_LARGE_FILES
                        USE_LOCALE USE_LOCALE_COLLATE USE_LOCALE_CTYPE
                        USE_LOCALE_NUMERIC USE_PERLIO USE_PERL_ATOF
  Locally applied patches:
	RC2
  Built under linux
  Compiled at May 13 2013 01:26:27
  %ENV:
    PERL5LIB=""
    PERL5OPT=""
    PERL5_CPANPLUS_IS_RUNNING="6265"
    PERL5_CPAN_IS_RUNNING="6265"
    PERL_MM_USE_DEFAULT="1"
  @INC:
    /home/src/perl/repoperls/installed-perls/perl/v5.18.0-RC2/165a/lib/site_perl/5.18.0/x86_64-linux
    /home/src/perl/repoperls/installed-perls/perl/v5.18.0-RC2/165a/lib/site_perl/5.18.0
    /home/src/perl/repoperls/installed-perls/perl/v5.18.0-RC2/165a/lib/5.18.0/x86_64-linux
    /home/src/perl/repoperls/installed-perls/perl/v5.18.0-RC2/165a/lib/5.18.0
    .