Report for Mastodon-Client-0.012

Back
From: metabase:user:314402c4-2aae-11df-837a-5e0a49663a4f
Subject: PASS Mastodon-Client-0.012 v5.24.0 GNU/Linux
Date: 2017-06-09T13:12:00Z

This distribution has been tested as part of the CPAN Testers
project, supporting the Perl programming language.  See
http://wiki.cpantesters.org/ for more information or email
questions to cpan-testers-discuss@perl.org


--
Dear Jose Joaquin Atria,

This is a computer-generated report for Mastodon-Client-0.012
on perl 5.24.0, created by CPAN-Reporter-1.2018.

Thank you for uploading your work to CPAN.  Congratulations!
All tests were successful.

Sections of this report:

    * Tester comments
    * Program output
    * Prerequisites
    * Environment and other context

------------------------------
TESTER COMMENTS
------------------------------

Additional comments from tester:

none provided

------------------------------
PROGRAM OUTPUT
------------------------------

Output from '/usr/bin/make test':

PERL_DL_NONLAZY=1 "/opt/perl-5.24.0t/bin/perl" "-MExtUtils::Command::MM" "-MTest::Harness" "-e" "undef *Test::Harness::Switches; test_harness(0, 'blib/lib', 'blib/arch')" t/*.t
t/00_basic.t ............ ok
t/01_entities.t ......... ok
t/02_entity_coercion.t .. ok
t/05_authorize.t ........ ok
t/10_tcp.t .............. ok
t/author-pod-syntax.t ... skipped: these tests are for testing by the author
All tests successful.
Files=6, Tests=168,  4 wallclock secs ( 0.07 usr  0.01 sys +  3.70 cusr  0.31 csys =  4.09 CPU)
Result: PASS

------------------------------
PREREQUISITES
------------------------------

Prerequisite modules loaded:

requires:

    Module                      Need     Have    
    --------------------------- -------- --------
    AnyEvent                    7.13     7.13    
    AnyEvent::Emitter           0.02     0.02    
    AnyEvent::HTTP              2.23     2.23    
    Carp                        0        1.40    
    Class::Load                 0        0.24    
    Data::Dumper                0        2.161   
    DateTime                    1.42     1.42    
    DateTime::Format::Strptime  1.73     1.73    
    Encode                      0        2.88    
    HTTP::Request::Common       0        6.11    
    Image::Info                 0        1.40    
    JSON::MaybeXS               1.003009 1.003009
    List::Util                  1.47     1.47    
    Log::Any                    1.049    1.049   
    LWP::UserAgent              6.25     6.26    
    MIME::Base64                0        3.15    
    Moo                         2.003002 2.003002
    Moo::Role                   0        2.003002
    Path::Tiny                  0        0.104   
    perl                        5.010    5.024000
    strict                      0        1.11    
    Try::Tiny                   0.28     0.28    
    Type::Library               0        1.000006
    Type::Params                1.000006 1.000006
    Type::Utils                 0        1.000006
    Types::Common::String       1.000006 1.000006
    Types::Path::Tiny           0.005    0.005   
    Types::Standard             1.000006 1.000006
    URI                         1.71     1.71    
    URI::QueryParam             0        1.71    
    warnings                    0        1.36    

build_requires:

    Module                      Need     Have    
    --------------------------- -------- --------
    AnyEvent                    7.13     7.13    
    Config::Tiny                0        2.23    
    diagnostics                 0        1.34    
    ExtUtils::MakeMaker         0        7.24    
    HTML::FormatText::WithLinks 0        0.15    
    lib                         0        0.63    
    Lingua::EN::Inflexion       0        0.000007
    Log::Any::Adapter           0        1.049   
    parent                      0        0.234   
    Plack                       1.0043   1.0043  
    Plack::Component            0        0       
    Plack::Runner               0        0       
    Plack::Util                 0        0       
    Term::ANSIColor             0        4.04    
    Test::Exception             0.043    0.43    
    Test::More                  1.302078 1.302085
    Test::Pod                   1.51     1.51    
    Test::TCP                   2.17     2.17    
    Test::Warnings              0.026    0.026   

configure_requires:

    Module                      Need     Have    
    --------------------------- -------- --------
    ExtUtils::MakeMaker         0        7.24    
    perl                        v5.10.0  5.024000


------------------------------
ENVIRONMENT AND OTHER CONTEXT
------------------------------

Environment variables:

    LANG = de_DE.UTF-8
    PATH = /usr/local/bin:/usr/bin:/bin:/usr/local/sbin:/usr/sbin:/sbin:/home/cpansand/bin/linux-gnu:/home/cpansand/bin/sh:/home/cpansand/bin:/usr/games:/home/cpansand/devel:/home/eserte/src/srezic-misc/scripts
    PERL5LIB = 
    PERL5OPT = 
    PERL5_CPANPLUS_IS_RUNNING = 5507
    PERL5_CPAN_IS_RUNNING = 5507
    PERL5_CPAN_IS_RUNNING_IN_RECURSION = 5431,5507
    PERLDOC = -MPod::Perldoc::ToTextOverstrike
    PERL_BATCH = yes
    PERL_CANARY_STABILITY_NOPROMPT = 1
    PERL_CPAN_REPORTER_CONFIG = /var/tmp/cpansmoker-1002/2017060915/cpanreporter_000_config.ini
    PERL_EXTUTILS_AUTOINSTALL = --defaultdeps
    SHELL = /bin/zsh
    TERM = screen
    TMPDIR = /var/tmp/cpansmoker-1002/2017060915

Perl special variables (and OS-specific diagnostics, for MSWin32):

    $^X = /opt/perl-5.24.0t/bin/perl
    $UID/$EUID = 1002 / 1002
    $GID = 1002 1002
    $EGID = 1002 1002

Perl module toolchain versions installed:

    Module              Have    
    ------------------- --------
    CPAN                2.16    
    CPAN::Meta          2.150005
    Cwd                 3.63    
    ExtUtils::CBuilder  0.280225
    ExtUtils::Command   7.24    
    ExtUtils::Install   2.12    
    ExtUtils::MakeMaker 7.24    
    ExtUtils::Manifest  1.70    
    ExtUtils::ParseXS   3.31    
    File::Spec          3.63    
    JSON                2.94    
    JSON::PP            2.27400 
    Module::Build       0.4220  
    Module::Signature   0.81    
    Parse::CPAN::Meta   1.4417  
    Test::Harness       3.36    
    Test::More          1.302085
    YAML                1.23    
    YAML::Syck          1.30    
    version             0.9916  


--

Summary of my perl5 (revision 5 version 24 subversion 0) configuration:
   
  Platform:
    osname=linux, osvers=3.10.0-514.6.2.el7.x86_64, archname=x86_64-linux-thread-multi
    uname='linux prod5 3.10.0-514.6.2.el7.x86_64 #1 smp thu feb 23 03:04:39 utc 2017 x86_64 x86_64 x86_64 gnulinux '
    config_args='-ds -e -Dprefix=/opt/perl-5.24.0t -Dusethreads -Dcf_email=srezic@cpan.org'
    hint=recommended, useposix=true, d_sigaction=define
    useithreads=define, usemultiplicity=define
    use64bitint=define, use64bitall=define, uselongdouble=undef
    usemymalloc=n, bincompat5005=undef
  Compiler:
    cc='cc', ccflags ='-D_REENTRANT -D_GNU_SOURCE -fwrapv -fno-strict-aliasing -pipe -fstack-protector-strong -I/usr/local/include -D_LARGEFILE_SOURCE -D_FILE_OFFSET_BITS=64 -D_FORTIFY_SOURCE=2',
    optimize='-O2',
    cppflags='-D_REENTRANT -D_GNU_SOURCE -fwrapv -fno-strict-aliasing -pipe -fstack-protector-strong -I/usr/local/include'
    ccversion='', gccversion='4.8.5 20150623 (Red Hat 4.8.5-11)', gccosandvers=''
    intsize=4, longsize=8, ptrsize=8, doublesize=8, byteorder=12345678, doublekind=3
    d_longlong=define, longlongsize=8, d_longdbl=define, longdblsize=16, longdblkind=3
    ivtype='long', ivsize=8, nvtype='double', nvsize=8, Off_t='off_t', lseeksize=8
    alignbytes=8, prototype=define
  Linker and Libraries:
    ld='cc', ldflags =' -fstack-protector-strong -L/usr/local/lib'
    libpth=/usr/local/lib /usr/lib /lib/../lib64 /usr/lib/../lib64 /lib /lib64 /usr/lib64 /usr/local/lib64
    libs=-lpthread -lnsl -lgdbm -ldb -ldl -lm -lcrypt -lutil -lc -lgdbm_compat
    perllibs=-lpthread -lnsl -ldl -lm -lcrypt -lutil -lc
    libc=libc-2.17.so, so=so, useshrplib=false, libperl=libperl.a
    gnulibc_version='2.17'
  Dynamic Linking:
    dlsrc=dl_dlopen.xs, dlext=so, d_dlsymun=undef, ccdlflags='-Wl,-E'
    cccdlflags='-fPIC', lddlflags='-shared -O2 -L/usr/local/lib -fstack-protector-strong'


Characteristics of this binary (from libperl): 
  Compile-time options: HAS_TIMES MULTIPLICITY PERLIO_LAYERS
                        PERL_COPY_ON_WRITE PERL_DONT_CREATE_GVSV
                        PERL_HASH_FUNC_ONE_AT_A_TIME_HARD
                        PERL_IMPLICIT_CONTEXT PERL_MALLOC_WRAP
                        PERL_PRESERVE_IVUV USE_64_BIT_ALL USE_64_BIT_INT
                        USE_ITHREADS USE_LARGE_FILES USE_LOCALE
                        USE_LOCALE_COLLATE USE_LOCALE_CTYPE
                        USE_LOCALE_NUMERIC USE_LOCALE_TIME USE_PERLIO
                        USE_PERL_ATOF USE_REENTRANT_API
  Built under linux
  Compiled at Feb 23 2017 20:32:11
  %ENV:
    PERL5LIB=""
    PERL5OPT=""
    PERL5_CPANPLUS_IS_RUNNING="5507"
    PERL5_CPAN_IS_RUNNING="5507"
    PERL5_CPAN_IS_RUNNING_IN_RECURSION="5431,5507"
    PERLDOC="-MPod::Perldoc::ToTextOverstrike"
    PERL_BATCH="yes"
    PERL_CANARY_STABILITY_NOPROMPT="1"
    PERL_CPAN_REPORTER_CONFIG="/var/tmp/cpansmoker-1002/2017060915/cpanreporter_000_config.ini"
    PERL_EXTUTILS_AUTOINSTALL="--defaultdeps"
  @INC:
    /opt/perl-5.24.0t/lib/site_perl/5.24.0/x86_64-linux-thread-multi
    /opt/perl-5.24.0t/lib/site_perl/5.24.0
    /opt/perl-5.24.0t/lib/5.24.0/x86_64-linux-thread-multi
    /opt/perl-5.24.0t/lib/5.24.0
    .