Report for Interchange6-Schema-0.133

Back
From: metabase:user:314402c4-2aae-11df-837a-5e0a49663a4f
Subject: PASS Interchange6-Schema-0.133 v5.22.2 GNU/Linux
Date: 2017-01-20T01:24:43Z

This distribution has been tested as part of the CPAN Testers
project, supporting the Perl programming language.  See
http://wiki.cpantesters.org/ for more information or email
questions to cpan-testers-discuss@perl.org


--
Dear Stefan Hornburg (Racke),

This is a computer-generated report for Interchange6-Schema-0.133
on perl 5.22.2, created by CPAN-Reporter-1.2018.

Thank you for uploading your work to CPAN.  Congratulations!
All tests were successful.

Sections of this report:

    * Tester comments
    * Program output
    * Prerequisites
    * Environment and other context

------------------------------
TESTER COMMENTS
------------------------------

Additional comments from tester:

none provided

------------------------------
PROGRAM OUTPUT
------------------------------

Output from '/usr/bin/make test':

PERL_DL_NONLAZY=1 "/opt/perl-5.22.2/bin/perl5.22.2" "-MExtUtils::Command::MM" "-MTest::Harness" "-e" "undef *Test::Harness::Switches; test_harness(0, 'blib/lib', 'blib/arch')" t/*.t
t/inflatecolumn_datetime.t .. ok
t/load.t .................... ok
t/manifest.t ................ skipped: Author tests not required for installation
t/pod-coverage.t ............ skipped: Author tests not required for installation
t/pod.t ..................... skipped: Author tests not required for installation
t/schema_sanity.t ........... skipped: Author tests not required for installation
t/test_mysql.t .............. skipped: Init database failed: could not find mysqld, please set appropriate PATH at /home/cpansand/.cpan/build/2017012000/Interchange6-Schema-0.133-EQtQOE/blib/lib/Interchange6/Test/Role/MySQL.pm line 48, <DATA> line 1.
t/test_postgresql.t ......... skipped: Init database failed: could not find initdb, please set appropriate PATH or POSTGRES_HOME at /home/cpansand/.cpan/build/2017012000/Interchange6-Schema-0.133-EQtQOE/blib/lib/Interchange6/Test/Role/PostgreSQL.pm line 44, <DATA> line 1.
    # using: DBD::SQLite 1.54
    # db: SQLite library version: 3.13.0
t/test_sqlite.t ............. ok
All tests successful.
Files=9, Tests=54, 101 wallclock secs ( 0.23 usr  0.04 sys + 98.79 cusr  1.26 csys = 100.32 CPU)
Result: PASS

------------------------------
PREREQUISITES
------------------------------

Prerequisite modules loaded:

requires:

    Module                                         Need     Have    
    ---------------------------------------------- -------- --------
    Class::Method::Modifiers                       0        2.12    
    Data::UUID                                     0        1.221   
    DateTime                                       0        1.42    
    DBIx::Class                                    0        0.082840
    DBIx::Class::Candy                             0.002104 0.005002
    DBIx::Class::Helpers                           2.024001 2.033002
    DBIx::Class::InflateColumn::DateTime           0        0       
    DBIx::Class::InflateColumn::DateTime::Duration 0        0.01002 
    DBIx::Class::PassphraseColumn                  0.02     0.02    
    DBIx::Class::Schema::Config                    0.001011 0.001011
    DBIx::Class::TimeStamp                         0        0.14    
    DBIx::Class::Tree                              0        0.03003 
    Digest::MD5                                    0        2.54    
    Encode                                         0        2.88    
    Locale::SubCountry                             1.64     2.01    
    namespace::clean                               0        0.27    
    Session::Token                                 1.008    1.503   
    SQL::Translator                                0.11018  0.11021 
    Sub::Quote                                     1.004006 2.003001
    Test::Roo                                      1.003    1.004   
    Time::Duration::Parse                          0        0.13    
    Try::Tiny                                      0        0.28    

build_requires:

    Module                                         Need     Have    
    ---------------------------------------------- -------- --------
    Data::Dumper::Concise                          0        2.022   
    DBD::SQLite                                    1.3801   1.54    
    File::Temp                                     0        0.2304  
    Test::MockTime                                 0        0.15    
    Test::More                                     0        1.302075
    Test::Most                                     0.33     0.35    
    Test::Warnings                                 0        0.026   
    YAML                                           0        1.21    

configure_requires:

    Module                                         Need     Have    
    ---------------------------------------------- -------- --------
    DBIx::Class                                    0        0.082840
    ExtUtils::MakeMaker                            0        7.24    


------------------------------
ENVIRONMENT AND OTHER CONTEXT
------------------------------

Environment variables:

    LANG = en_US.UTF-8
    PATH = /usr/local/bin:/usr/bin:/bin:/usr/local/sbin:/usr/sbin:/sbin:/home/cpansand/bin/linux-gnu:/home/cpansand/bin/sh:/home/cpansand/bin:/usr/games:/home/cpansand/devel:/home/eserte/src/srezic-misc/scripts
    PERL5LIB = 
    PERL5OPT = 
    PERL5_CPANPLUS_IS_RUNNING = 6768
    PERL5_CPAN_IS_RUNNING = 6768
    PERL5_CPAN_IS_RUNNING_IN_RECURSION = 3328,6768
    PERLDOC = -MPod::Perldoc::ToTextOverstrike
    PERL_BATCH = yes
    PERL_CANARY_STABILITY_NOPROMPT = 1
    PERL_CPAN_REPORTER_CONFIG = /var/tmp/cpansmoker-1002/2017012000/cpanreporter_000_config.ini
    PERL_EXTUTILS_AUTOINSTALL = --defaultdeps
    SHELL = /bin/zsh
    TERM = screen
    TMPDIR = /var/tmp/cpansmoker-1002/2017012000

Perl special variables (and OS-specific diagnostics, for MSWin32):

    $^X = /opt/perl-5.22.2/bin/perl5.22.2
    $UID/$EUID = 1002 / 1002
    $GID = 1002 1002
    $EGID = 1002 1002

Perl module toolchain versions installed:

    Module              Have    
    ------------------- --------
    CPAN                2.11    
    CPAN::Meta          2.150010
    Cwd                 3.56_01 
    ExtUtils::CBuilder  0.280221
    ExtUtils::Command   7.24    
    ExtUtils::Install   2.04    
    ExtUtils::MakeMaker 7.24    
    ExtUtils::Manifest  1.70    
    ExtUtils::ParseXS   3.28    
    File::Spec          3.56_01 
    JSON                2.90    
    JSON::PP            2.27400 
    Module::Build       0.4220  
    Module::Signature   0.81    
    Parse::CPAN::Meta   2.150010
    Test::Harness       3.35    
    Test::More          1.302075
    YAML                1.21    
    YAML::Syck          1.29    
    version             0.9909  


--

Summary of my perl5 (revision 5 version 22 subversion 2) configuration:
   
  Platform:
    osname=linux, osvers=4.4.0-59-generic, archname=x86_64-linux
    uname='linux prod3.bbbike.org 4.4.0-59-generic #80-ubuntu smp fri jan 6 17:47:47 utc 2017 x86_64 x86_64 x86_64 gnulinux '
    config_args='-ds -e -Dprefix=/opt/perl-5.22.2 -Dcf_email=srezic@cpan.org'
    hint=recommended, useposix=true, d_sigaction=define
    useithreads=undef, usemultiplicity=undef
    use64bitint=define, use64bitall=define, uselongdouble=undef
    usemymalloc=n, bincompat5005=undef
  Compiler:
    cc='cc', ccflags ='-fwrapv -fno-strict-aliasing -pipe -fstack-protector-strong -I/usr/local/include -D_LARGEFILE_SOURCE -D_FILE_OFFSET_BITS=64',
    optimize='-O2',
    cppflags='-fwrapv -fno-strict-aliasing -pipe -fstack-protector-strong -I/usr/local/include'
    ccversion='', gccversion='5.4.0 20160609', gccosandvers=''
    intsize=4, longsize=8, ptrsize=8, doublesize=8, byteorder=12345678, doublekind=3
    d_longlong=define, longlongsize=8, d_longdbl=define, longdblsize=16, longdblkind=3
    ivtype='long', ivsize=8, nvtype='double', nvsize=8, Off_t='off_t', lseeksize=8
    alignbytes=8, prototype=define
  Linker and Libraries:
    ld='cc', ldflags =' -fstack-protector-strong -L/usr/local/lib'
    libpth=/usr/local/lib /usr/lib/gcc/x86_64-linux-gnu/5/include-fixed /usr/include/x86_64-linux-gnu /usr/lib /lib/x86_64-linux-gnu /lib/../lib /usr/lib/x86_64-linux-gnu /usr/lib/../lib /lib
    libs=-lpthread -lnsl -lgdbm -ldb -ldl -lm -lcrypt -lutil -lc -lgdbm_compat
    perllibs=-lpthread -lnsl -ldl -lm -lcrypt -lutil -lc
    libc=libc-2.23.so, so=so, useshrplib=false, libperl=libperl.a
    gnulibc_version='2.23'
  Dynamic Linking:
    dlsrc=dl_dlopen.xs, dlext=so, d_dlsymun=undef, ccdlflags='-Wl,-E'
    cccdlflags='-fPIC', lddlflags='-shared -O2 -L/usr/local/lib -fstack-protector-strong'


Characteristics of this binary (from libperl): 
  Compile-time options: HAS_TIMES PERLIO_LAYERS PERL_DONT_CREATE_GVSV
                        PERL_HASH_FUNC_ONE_AT_A_TIME_HARD PERL_MALLOC_WRAP
                        PERL_NEW_COPY_ON_WRITE PERL_PRESERVE_IVUV
                        USE_64_BIT_ALL USE_64_BIT_INT USE_LARGE_FILES
                        USE_LOCALE USE_LOCALE_COLLATE USE_LOCALE_CTYPE
                        USE_LOCALE_NUMERIC USE_LOCALE_TIME USE_PERLIO
                        USE_PERL_ATOF
  Built under linux
  Compiled at Jan 14 2017 19:54:11
  %ENV:
    PERL5LIB=""
    PERL5OPT=""
    PERL5_CPANPLUS_IS_RUNNING="6768"
    PERL5_CPAN_IS_RUNNING="6768"
    PERL5_CPAN_IS_RUNNING_IN_RECURSION="3328,6768"
    PERLDOC="-MPod::Perldoc::ToTextOverstrike"
    PERL_BATCH="yes"
    PERL_CANARY_STABILITY_NOPROMPT="1"
    PERL_CPAN_REPORTER_CONFIG="/var/tmp/cpansmoker-1002/2017012000/cpanreporter_000_config.ini"
    PERL_EXTUTILS_AUTOINSTALL="--defaultdeps"
  @INC:
    /opt/perl-5.22.2/lib/site_perl/5.22.2/x86_64-linux
    /opt/perl-5.22.2/lib/site_perl/5.22.2
    /opt/perl-5.22.2/lib/5.22.2/x86_64-linux
    /opt/perl-5.22.2/lib/5.22.2
    .