Proc-ProcessTable v0.636 Perl 5 v5.41.3 x86_64-linux

Status
Pass
From
Carlos Guevara
Dist
Proc-ProcessTable v0.636
Platform
Perl 5 v5.41.3 x86_64-linux
Date
2024-08-20 07:17:13
ID
38d3c8e4-5ec4-11ef-af0d-b892bb7877e8
This distribution has been tested as part of the CPAN Testers
project, supporting the Perl programming language.  See
http://wiki.cpantesters.org/ for more information or email
questions to cpan-testers-discuss@perl.org


--
Dear Joachim Bargsten,

This is a computer-generated report for Proc-ProcessTable-0.636
on perl 5.41.3, created by CPAN-Reporter-1.2020.

Thank you for uploading your work to CPAN.  Congratulations!
All tests were successful.

Sections of this report:

    * Tester comments
    * Program output
    * Prerequisites
    * Environment and other context

------------------------------
TESTER COMMENTS
------------------------------

Additional comments from tester:

this report is from an automated smoke testing program
and was not reviewed by a human for accuracy

------------------------------
PROGRAM OUTPUT
------------------------------

Output from '/usr/bin/make test':

"/home/cpan/bin/perl/bin/perl5.41.3" -MExtUtils::Command::MM -e 'cp_nonempty' -- ProcessTable.bs blib/arch/auto/Proc/ProcessTable/ProcessTable.bs 644
PERL_DL_NONLAZY=1 "/home/cpan/bin/perl/bin/perl5.41.3" "-MExtUtils::Command::MM" "-MTest::Harness" "-e" "undef *Test::Harness::Switches; test_harness(0, 'blib/lib', 'blib/arch')" t/*.t
# Testing Proc::ProcessTable 0.636, Perl 5.041003, /home/cpan/bin/perl/bin/perl5.41.3
t/00-load.t ............................. ok
t/01-instiantied_object_only_methods.t .. ok
t/bugfix-106571_odd_process_name.t ...... ok
t/bugfix-51470_cmndline_mod_error.t ..... ok
t/bugfix-61946_odd_process_name.t ....... ok
t/manifest.t ............................ skipped: Author tests not required for installation
t/openbsd-size-rss.t .................... skipped: OpenBSD-specific tests
t/pod-coverage.t ........................ skipped: Author tests not required for installation
t/pod.t ................................. skipped: Author tests not required for installation
--------------------------------
uid:  1001
gid:  1001
pid:  8844
fname:  perl5.41.3
ppid:  8828
pgrp:  8813
sess:  8813
ttynum:  0
flags:  4194304
minflt:  3675
cminflt:  0
majflt:  0
cmajflt:  0
utime:  50000
stime:  10000
cutime:  0
cstime:  0
priority:  20
start:  1724138229
size:  15327232
rss:  13369344
wchan:  0
time:  60000
ctime:  0
state:  run
euid:  1001
suid:  1001
fuid:  1001
egid:  1001
sgid:  1001
fgid:  1001
pctcpu:    6.00
pctmem:  0.16
cmndline:  /home/cpan/bin/perl/bin/perl5.41.3 t/process.t
exec:  /home/cpan/bin/perl/bin/perl5.41.3
cwd:  /home/cpan/.cpan/build/Proc-ProcessTable-0.636-0
cmdline:  "/home/cpan/bin/perl/bin/perl5.41.3","t/process.t"
environ:  "NO_NETWORK_TESTING=1","MAIL=/var/mail/cpan","SSH_CLIENT=192.168.122.1 55416 22","USER=cpan","PERL5_CPANPLUS_IS_RUNNING=6136","SHLVL=3","OLDPWD=/home/cpan/smoke/git","HOME=/home/cpan","SSH_TTY=/dev/pts/0","PERL_USE_UNSAFE_INC=1","USEITHREADS=no-ithreads","PAGER=less","MAKEFLAGS=","PERL5OPT=","PERL_MM_USE_DEFAULT=1","COMMITS=blead","AUTOMATED_TESTING=1","DATE_MANIP_TEST_DM5=1","LOGNAME=cpan","_=/home/cpan/bin/perl/bin/cpan","TERM=screen","PERL_DL_NONLAZY=1","LC_COLLATE=C","PATH=/home/cpan/bin/perl/bin:/usr/local/sbin:/usr/local/bin:/usr/sbin:/usr/bin:/sbin:/bin","PERL5LIB=/home/cpan/.cpan/build/Proc-ProcessTable-0.636-0/blib/lib:/home/cpan/.cpan/build/Proc-ProcessTable-0.636-0/blib/arch:","XARGS_MAX_ARGS=50","MAKELEVEL=1","CHECKING_FAILED_MODULES=0","LANG=C.UTF-8","NONINTERACTIVE_TESTING=1","SHELL=/bin/bash","CPANLOG=/home/cpan/smoke/cpan.log","PERL5_CPAN_IS_RUNNING=6136","PWD=/home/cpan/.cpan/build/Proc-ProcessTable-0.636-0","CHARSET=UTF-8","SSH_CONNECTION=192.168.122.1 55416 192.168.122.36 22","MFLAGS=","HASHES=#################################################################################################################","HARNESS_ACTIVE=1","HARNESS_VERSION=3.50","TAP_VERSION=14"
tracer:  0
t/process.t ............................. ok
All tests successful.
Files=10, Tests=12,  8 wallclock secs ( 0.03 usr  0.01 sys +  0.49 cusr  0.19 csys =  0.72 CPU)
Result: PASS

------------------------------
PREREQUISITES
------------------------------

Prerequisite modules loaded:

requires:

    Module              Need  Have    
    ------------------- ----- --------
    File::Find          0     1.44    
    perl                5.006 5.041003
    Storable            0     3.34    

build_requires:

    Module              Need  Have    
    ------------------- ----- --------
    ExtUtils::MakeMaker 0     7.70    
    Test::More          0     1.302201

configure_requires:

    Module              Need  Have    
    ------------------- ----- --------
    ExtUtils::MakeMaker 0     7.70    


------------------------------
ENVIRONMENT AND OTHER CONTEXT
------------------------------

Environment variables:

    AUTOMATED_TESTING = 1
    DATE_MANIP_TEST_DM5 = 1
    LANG = C.UTF-8
    LC_COLLATE = C
    NONINTERACTIVE_TESTING = 1
    NO_NETWORK_TESTING = 1
    PATH = /home/cpan/bin/perl/bin:/usr/local/sbin:/usr/local/bin:/usr/sbin:/usr/bin:/sbin:/bin
    PERL5LIB = 
    PERL5OPT = 
    PERL5_CPANPLUS_IS_RUNNING = 6136
    PERL5_CPAN_IS_RUNNING = 6136
    PERL_MM_USE_DEFAULT = 1
    PERL_USE_UNSAFE_INC = 1
    SHELL = /bin/bash
    TERM = screen

Perl special variables (and OS-specific diagnostics, for MSWin32):

    $^X = /home/cpan/bin/perl/bin/perl5.41.3
    $UID/$EUID = 1001 / 1001
    $GID = 1001 1001
    $EGID = 1001 1001

Perl module toolchain versions installed:

    Module              Have    
    ------------------- --------
    CPAN                2.36    
    CPAN::Meta          2.150010
    Cwd                 3.92    
    ExtUtils::CBuilder  0.280240
    ExtUtils::Command   7.70    
    ExtUtils::Install   2.22    
    ExtUtils::MakeMaker 7.70    
    ExtUtils::Manifest  1.75    
    ExtUtils::ParseXS   3.53    
    File::Spec          3.92    
    JSON                4.10    
    JSON::PP            4.16    
    Module::Build       0.4234  
    Module::Signature   n/a     
    Parse::CPAN::Meta   2.150010
    Test2               1.302201
    Test::Harness       3.50    
    Test::More          1.302201
    YAML                1.31    
    YAML::Syck          1.34    
    version             0.9930  


--

Summary of my perl5 (revision 5 version 41 subversion 3) configuration:
  Commit id: d67896a03348d3896e30ec98828570b66bafb89a
  Platform:
    osname=linux
    osvers=6.6.47-0-lts
    archname=x86_64-linux
    uname='linux cjg-alpine3 6.6.47-0-lts #1-alpine smp preempt_dynamic 2024-08-19 08:18:35 x86_64 linux '
    config_args='-des -Dprefix=/home/cpan/bin/perl -Dscriptdir=/home/cpan/bin/perl/bin -Dusedevel -Duse64bitall'
    hint=recommended
    useposix=true
    d_sigaction=define
    useithreads=undef
    usemultiplicity=undef
    use64bitint=define
    use64bitall=define
    uselongdouble=undef
    usemymalloc=n
    default_inc_excludes_dot=define
  Compiler:
    cc='cc'
    ccflags ='-D_GNU_SOURCE -fwrapv -fno-strict-aliasing -pipe -fstack-protector-strong -D_LARGEFILE_SOURCE -D_FILE_OFFSET_BITS=64'
    optimize='-O2'
    cppflags='-D_GNU_SOURCE -fwrapv -fno-strict-aliasing -pipe -fstack-protector-strong'
    ccversion=''
    gccversion='13.2.1 20240309'
    gccosandvers=''
    intsize=4
    longsize=8
    ptrsize=8
    doublesize=8
    byteorder=12345678
    doublekind=3
    d_longlong=define
    longlongsize=8
    d_longdbl=define
    longdblsize=16
    longdblkind=3
    ivtype='long'
    ivsize=8
    nvtype='double'
    nvsize=8
    Off_t='off_t'
    lseeksize=8
    alignbytes=8
    prototype=define
  Linker and Libraries:
    ld='cc'
    ldflags =' -fstack-protector-strong -L/usr/local/lib'
    libpth=/usr/lib /usr/local/lib /lib
    libs=-lpthread -ldb -ldl -lm -lcrypt -lutil -lc
    perllibs=-lpthread -ldl -lm -lcrypt -lutil -lc
    libc=/usr/lib/libc.a
    so=so
    useshrplib=false
    libperl=libperl.a
    gnulibc_version=''
  Dynamic Linking:
    dlsrc=dl_dlopen.xs
    dlext=so
    d_dlsymun=undef
    ccdlflags='-Wl,-E'
    cccdlflags='-fPIC'
    lddlflags='-shared -O2 -L/usr/local/lib -fstack-protector-strong'


Characteristics of this binary (from libperl): 
  Compile-time options:
    HAS_LONG_DOUBLE
    HAS_STRTOLD
    HAS_TIMES
    PERLIO_LAYERS
    PERL_COPY_ON_WRITE
    PERL_DONT_CREATE_GVSV
    PERL_HASH_FUNC_SIPHASH13
    PERL_HASH_USE_SBOX32
    PERL_MALLOC_WRAP
    PERL_OP_PARENT
    PERL_PRESERVE_IVUV
    PERL_USE_DEVEL
    PERL_USE_SAFE_PUTENV
    USE_64_BIT_ALL
    USE_64_BIT_INT
    USE_LARGE_FILES
    USE_LOCALE
    USE_LOCALE_COLLATE
    USE_LOCALE_CTYPE
    USE_LOCALE_NUMERIC
    USE_LOCALE_TIME
    USE_PERLIO
    USE_PERL_ATOF
  Built under linux
  Compiled at Aug 19 2024 15:17:06
  %ENV:
    PERL5LIB=""
    PERL5OPT=""
    PERL5_CPANPLUS_IS_RUNNING="6136"
    PERL5_CPAN_IS_RUNNING="6136"
    PERL_MM_USE_DEFAULT="1"
    PERL_USE_UNSAFE_INC="1"
  @INC:
    /home/cpan/bin/perl/lib/site_perl/5.41.3/x86_64-linux
    /home/cpan/bin/perl/lib/site_perl/5.41.3
    /home/cpan/bin/perl/lib/5.41.3/x86_64-linux
    /home/cpan/bin/perl/lib/5.41.3
    .