W3C-SOAP v0.14 Perl 5 v5.37.0 x86_64-linux-ld

Status
Pass
From
Andreas J. König (ANDK)
Dist
W3C-SOAP v0.14
Platform
Perl 5 v5.37.0 x86_64-linux-ld
Date
2022-06-21 16:07:17
ID
38c40e0c-f17c-11ec-aa35-c3b7b301f4e1
This distribution has been tested as part of the CPAN Testers
project, supporting the Perl programming language.  See
http://wiki.cpantesters.org/ for more information or email
questions to cpan-testers-discuss@perl.org


--
Dear Ivan Wills,

This is a computer-generated report for W3C-SOAP-0.14
on perl 5.37.0, created by CPAN-Reporter-1.2018.

Thank you for uploading your work to CPAN.  Congratulations!
All tests were successful.

Sections of this report:

    * Tester comments
    * Program output
    * Prerequisites
    * Environment and other context

------------------------------
TESTER COMMENTS
------------------------------

Additional comments from tester:

this report is from an automated smoke testing program
and was not reviewed by a human for accuracy

------------------------------
PROGRAM OUTPUT
------------------------------

Output from './Build test':

# Testing W3C::SOAP::XSD::VERSION, Perl 5.037000, /tmp/basesmoker-reloperl-eici/bin/perl
t/00-load.t ..................... ok
t/boilerplate.t ................. ok
t/critic.t ...................... skipped: Author test.  Set TEST_AUTHOR environment variable to a true value to run.
# 
t/elementFormDefault.t .......... ok
# 
t/elementFormDefault_dynamic.t .. ok
t/kwalitee.t .................... skipped: Author test.  Set TEST_AUTHOR environment variable to a true value to run.
t/pod-coverage.t ................ skipped: Author test.  Set TEST_AUTHOR environment variable to a true value to run.
t/pod.t ......................... ok
t/sec-username.t ................ ok
t/spelling.t .................... skipped: Author test.  Set TEST_AUTHOR environment variable to a true value to run.
t/utils.t ....................... ok
t/wsdl_header.t ................. ok
t/wsdl_parser.t ................. ok
t/wsdl_parser_dynamic.t ......... ok
t/wsdl_unusual_names.t .......... ok
All tests successful.
Files=15, Tests=216, 22 wallclock secs ( 0.18 usr  0.25 sys + 16.27 cusr  2.05 csys = 18.75 CPU)
Result: PASS

------------------------------
PREREQUISITES
------------------------------

Prerequisite modules loaded:

requires:

    Module                         Need  Have    
    ------------------------------ ----- --------
    DateTime                       0     1.58    
    DateTime::Format::Strptime     0     1.79    
    File::ShareDir                 1     1.118   
    File::Temp                     0.22  0.2311  
    List::MoreUtils                0     0.430   
    List::Util                     0     1.62    
    LWP::UserAgent                 0     6.67    
    Module::Build                  0.3   0.4231  
    Moose                          1     2.2201  
    Moose::Meta::Method            1     2.2201  
    Moose::Role                    1     2.2201  
    Moose::Util::TypeConstraints   1     2.2201  
    MooseX::Exception::Base        0     0.0.6   
    MooseX::Types                  0     0.50    
    MooseX::Types::XMLSchema       0.03  0.06    
    namespace::autoclean           0     0.29    
    Path::Tiny                     0     0.122   
    perl                           5.006 5.037000
    Scalar::Util                   0     1.62    
    Template                       2.2   3.100   
    Time::HiRes                    0     1.9770  
    Try::Tiny                      0     0.31    
    URI                            0     5.10    
    WWW::Mechanize                 1.6   2.09    
    XML::LibXML                    1.7   2.0207  

build_requires:

    Module                         Need  Have    
    ------------------------------ ----- --------
    parent                         0.225 0.238   
    Test::More                     0.88  1.302190
    Test::Warnings                 0     0.031   
    Test::XML                      0     0.08    

configure_requires:

    Module                         Need  Have    
    ------------------------------ ----- --------
    Module::Build                  0.38  0.4231  

opt_requires:

    Module                         Need  Have    
    ------------------------------ ----- --------
    AnyEvent                       0     7.17    
    AnyEvent::HTTP::LWP::UserAgent 0     0.10    
    MooseX::Aliases                0     0.11    
    Pod::Coverage                  0     0.23    
    Test::Kwalitee                 0     1.28    
    Test::Perl::Critic             0     1.04    
    Test::Spelling                 0     0.25    


------------------------------
ENVIRONMENT AND OTHER CONTEXT
------------------------------

Environment variables:

    AUTOMATED_TESTING = 1
    LANG = en_US.UTF-8
    LANGUAGE = en_US:en
    PATH = /home/sand/bin:/usr/local/bin:/usr/bin:/bin:/usr/games:/usr/local/perl/bin:/usr/X11/bin:/sbin:/usr/sbin
    PERL5LIB = 
    PERL5OPT = 
    PERL5_CPANPLUS_IS_RUNNING = 3009314
    PERL5_CPAN_IS_RUNNING = 3009314
    PERL_CANARY_STABILITY_NOPROMPT = 1
    PERL_MM_USE_DEFAULT = 1
    PERL_USE_UNSAFE_INC = 1
    SHELL = /usr/bin/zsh
    TERM = screen

Perl special variables (and OS-specific diagnostics, for MSWin32):

    $^X = /tmp/basesmoker-reloperl-eici/bin/perl
    $UID/$EUID = 1005 / 1005
    $GID = 1005 1005
    $EGID = 1005 1005

Perl module toolchain versions installed:

    Module              Have    
    ------------------- --------
    CPAN                2.34    
    CPAN::Meta          2.150010
    Cwd                 3.84    
    ExtUtils::CBuilder  0.280236
    ExtUtils::Command   7.64    
    ExtUtils::Install   2.20    
    ExtUtils::MakeMaker 7.64    
    ExtUtils::Manifest  1.73    
    ExtUtils::ParseXS   3.45    
    File::Spec          3.84    
    JSON                4.06    
    JSON::PP            4.09    
    Module::Build       0.4231  
    Module::Signature   0.88    
    Parse::CPAN::Meta   2.150010
    Test::Harness       3.44    
    Test::More          1.302190
    YAML                1.30    
    YAML::Syck          1.34    
    version             0.9929  


--

Summary of my perl5 (revision 5 version 37 subversion 0) configuration:
  Commit id: 2c8fc00e10c85d241338e71377aff04f4f7a7b6f
  Platform:
    osname=linux
    osvers=5.10.0-14-amd64
    archname=x86_64-linux-ld
    uname='linux k93msid 5.10.0-14-amd64 #1 smp debian 5.10.113-1 (2022-04-29) x86_64 gnulinux '
    config_args='-Dprefix=/home/sand/src/perl/repoperls/installed-perls/host/k93msid/v5.37.0/fc43 -Dmyhostname=k93msid -Dinstallusrbinperl=n -Uversiononly -Dusedevel -des -Ui_db -Dlibswanted=cl pthread socket inet nsl gdbm dbm malloc dl ld sun m crypt sec util c cposix posix ucb BSD gdbm_compat -Uuseithreads -Duselongdouble -DEBUGGING=both'
    hint=recommended
    useposix=true
    d_sigaction=define
    useithreads=undef
    usemultiplicity=undef
    use64bitint=define
    use64bitall=define
    uselongdouble=define
    usemymalloc=n
    default_inc_excludes_dot=define
  Compiler:
    cc='cc'
    ccflags ='-fwrapv -DDEBUGGING -fno-strict-aliasing -pipe -fstack-protector-strong -I/usr/local/include -D_LARGEFILE_SOURCE -D_FILE_OFFSET_BITS=64 -D_FORTIFY_SOURCE=2'
    optimize='-O2 -g'
    cppflags='-fwrapv -DDEBUGGING -fno-strict-aliasing -pipe -fstack-protector-strong -I/usr/local/include'
    ccversion=''
    gccversion='11.3.0'
    gccosandvers=''
    intsize=4
    longsize=8
    ptrsize=8
    doublesize=8
    byteorder=12345678
    doublekind=3
    d_longlong=define
    longlongsize=8
    d_longdbl=define
    longdblsize=16
    longdblkind=3
    ivtype='long'
    ivsize=8
    nvtype='long double'
    nvsize=16
    Off_t='off_t'
    lseeksize=8
    alignbytes=16
    prototype=define
  Linker and Libraries:
    ld='cc'
    ldflags =' -fstack-protector-strong -L/usr/local/lib'
    libpth=/usr/local/lib /usr/lib/x86_64-linux-gnu /usr/lib /usr/lib64
    libs=-lpthread -lnsl -ldl -lm -lcrypt -lutil -lc
    perllibs=-lpthread -lnsl -ldl -lm -lcrypt -lutil -lc
    libc=libc-2.33.so
    so=so
    useshrplib=false
    libperl=libperl.a
    gnulibc_version='2.33'
  Dynamic Linking:
    dlsrc=dl_dlopen.xs
    dlext=so
    d_dlsymun=undef
    ccdlflags='-Wl,-E'
    cccdlflags='-fPIC'
    lddlflags='-shared -O2 -g -L/usr/local/lib -fstack-protector-strong'


Characteristics of this binary (from libperl): 
  Compile-time options:
    DEBUGGING
    HAS_TIMES
    PERLIO_LAYERS
    PERL_COPY_ON_WRITE
    PERL_DONT_CREATE_GVSV
    PERL_MALLOC_WRAP
    PERL_OP_PARENT
    PERL_PRESERVE_IVUV
    PERL_USE_DEVEL
    USE_64_BIT_ALL
    USE_64_BIT_INT
    USE_LARGE_FILES
    USE_LOCALE
    USE_LOCALE_COLLATE
    USE_LOCALE_CTYPE
    USE_LOCALE_NUMERIC
    USE_LOCALE_TIME
    USE_LONG_DOUBLE
    USE_PERLIO
    USE_PERL_ATOF
  Built under linux
  Compiled at May 29 2022 20:09:43
  %ENV:
    PERL5LIB=""
    PERL5OPT=""
    PERL5_CPANPLUS_IS_RUNNING="3009314"
    PERL5_CPAN_IS_RUNNING="3009314"
    PERL_CANARY_STABILITY_NOPROMPT="1"
    PERL_MM_USE_DEFAULT="1"
    PERL_USE_UNSAFE_INC="1"
  @INC:
    /home/sand/src/perl/repoperls/installed-perls/host/k93msid/v5.37.0/fc43/lib/site_perl/5.37.0/x86_64-linux-ld
    /home/sand/src/perl/repoperls/installed-perls/host/k93msid/v5.37.0/fc43/lib/site_perl/5.37.0
    /home/sand/src/perl/repoperls/installed-perls/host/k93msid/v5.37.0/fc43/lib/5.37.0/x86_64-linux-ld
    /home/sand/src/perl/repoperls/installed-perls/host/k93msid/v5.37.0/fc43/lib/5.37.0
    .