Report for Parse-CPAN-Authors-2.27

Back
From: metabase:user:f0f71058-488c-11e2-a32c-c3ba833b5bbe
Subject: PASS Parse-CPAN-Authors-2.27 v5.17.6 Mac OS X
Date: 2013-01-04T22:51:05Z

This distribution has been tested as part of the CPAN Testers
project, supporting the Perl programming language.  See
http://wiki.cpantesters.org/ for more information or email
questions to cpan-testers-discuss@perl.org


--
Parse-CPAN-Authors-2.27 ... PASS

Perl           : v5.17.6
System         : darwin
Local Versions :
    namespace::autoclean             : 0.13
    Config::Any                      : 0.23
    feature                          : 1.31
    Test::Deep                       : 0.110
    URI                              : 1.60
    Log::Any::Adapter                : 0.10
    Encode                           : 2.47
    Cwd                              : 3.39_02
    Getopt::Long                     : 2.38
    version                          : 0.9901
    Capture::Tiny                    : 0.21
    Mozilla::CA                      : 20120823
    base                             : 2.18
    Sub::Exporter                    : 0.984
    utf8                             : 1.10
    Symbol                           : 1.07
    Path::Class                      : 0.28
    Test::Fatal                      : 0.010
    Test::Requires                   : 0.06
    File::Spec                       : 3.39_02
    FindBin                          : 1.51
    File::HomeDir                    : 1.00
    charnames                        : 1.33
    JSON::XS                         : 2.33
    Carp                             : 1.28
    Time::Piece                      : 1.20_01
    JSON::PP                         : 2.27200
    IO::Socket::INET                 : 1.33
    Text::ParseWords                 : 3.27
    File::Basename                   : 2.84
    LWP::UserAgent                   : 6.04
    AnyEvent::Util                   : 0
    Math::BigFloat                   : 1.997
    PerlIO                           : 1.07
    Params::Validate                 : 1.07
    Pod::Usage                       : 1.51
    Test::Simple                     : 0.98
    Sort::Versions                   : 1.5
    Probe::Perl                      : 0.01
    Rinci                            : 1.1.34
    I18N::LangTags::Detect           : 1.05
    Dist::CheckConflicts             : 0.02
    IO::File                         : 1.16
    autobox                          : 2.77
    DBI                              : 1.623
    Data::Dumper                     : 2.137
    bignum                           : 0.31
    URI::URL                         : 5.04
    POSIX                            : 1.31
    Time::Local                      : 1.2300
    Exporter                         : 5.67
    Locale::Language                 : 3.23
    App::Adenosine                   : 2.001004
    Hash::Merge                      : 0.12
    lib::abs                         : 0.92
    YAML                             : 0.84
    Devel::GlobalDestruction         : 0.09
    ExtUtils::ParseXS                : 3.18
    Fcntl                            : 1.11
    LWP::Protocol::https             : 6.03
    AnyEvent::Socket                 : 0
    bytes                            : 1.04
    Log::Dispatch                    : 2.34
    ExtUtils::MakeMaker              : 6.64
    File::Find                       : 1.23
    Data::Dump                       : 1.21
    Test::NoWarnings                 : 1.04
    Any::Moose                       : 0.18
    Test::Warn                       : 0.24
    Math::BigInt                     : 1.998
    IO::Socket                       : 1.35
    List::AllUtils                   : 0.03
    Errno                            : 1.17
    Module::Runtime                  : 0.013
    Digest::MD5                      : 2.52
    File::Temp                       : 0.22
    IO::Select                       : 1.21
    Log::Log4perl                    : 1.40
    File::Slurp                      : 9999.19
    Module::Find                     : 0.11
    Log::Dispatch::Output            : 2.34
    Test::Harness                    : 3.25_01
    constant                         : 1.24
    Module::Load                     : 0.22
    Class::Accessor::Fast            : 0.34
    MIME::QuotedPrint                : 3.13
    Module::Build                    : 0.4003
    strict                           : 1.07
    MIME::Base64                     : 3.13
    File::chdir                      : 0.1008
    Template                         : 2.24
    namespace::clean                 : 0.24
    Locale::Maketext                 : 1.22
    Class::Load                      : 0.20
    Moo                              : 1.000007
    Sys::Hostname                    : 1.17
    IO::Handle                       : 1.33
    Test::Builder                    : 0.98
    Test::Trap                       : 0.2.2
    Email::Address                   : 1.897
    List::Util                       : 1.25
    Devel::PPPort                    : 3.20
    URI::Escape                      : 3.31
    warnings                         : 1.15
    Log::Dispatch::Syslog            : 2.34
    HTML::Parser                     : 3.69
    File::Which                      : 1.09
    Time::HiRes                      : 1.9725
    LWP::Simple                      : 6.00
    Tie::Hash                        : 1.04
    Log::Any                         : 0.14
    Moo::Role                        : 
    File::pushd                      : 1.003
    URI::Heuristic                   : 4.20
    JSON                             : 2.53
    parent                           : 0.225
    List::MoreUtils                  : 0.33
    YAML::Syck                       : 1.22
    CGI                              : 3.63
    ok                               : 0.11
    AnyEvent                         : 7.04
    Scalar::Util                     : 1.25
    IO::Zlib                         : 1.10
    File::Spec::Functions            : 3.39_02
    common::sense                    : 3.6
    autodie                          : 2.13
    XML::NamespaceSupport            : 1.11
    Digest::SHA                      : 5.73
    Test::Exception                  : 0.31
    Compress::Zlib                   : 2.058
    vars                             : 1.03
    open                             : 1.10
    Socket                           : 2.006
    File::Path                       : 2.08_01
    XSLoader                         : 0.16
    Filter::Simple                   : 0.88
    Sys::Syslog                      : 0.32
    Test::More                       : 0.98
    Tie::Array                       : 1.05

Test Output    :

t/pod.t ........... ok
t/pod_coverage.t .. ok
t/simple.t ........ ok
All tests successful.
Files=3, Tests=47,  0 wallclock secs ( 0.03 usr  0.01 sys +  0.24 cusr  0.03 csys =  0.31 CPU)
Result: PASS


--

Summary of my perl5 (revision 5 version 17 subversion 6) configuration:
   
  Platform:
    osname=darwin, osvers=11.4.0, archname=darwin-2level
    uname='darwin tomaszs-macbook-pro.local 11.4.0 darwin kernel version 11.4.0: mon apr 9 19:32:15 pdt 2012; root:xnu-1699.26.8~1release_x86_64 x86_64 '
    config_args='-de -Dprefix=/Users/tczepiel/perl5/perlbrew/perls/perl-5.17.6 -Dusedevel -Aeval:scriptdir=/Users/tczepiel/perl5/perlbrew/perls/perl-5.17.6/bin'
    hint=recommended, useposix=true, d_sigaction=define
    useithreads=undef, usemultiplicity=undef
    useperlio=define, d_sfio=undef, uselargefiles=define, usesocks=undef
    use64bitint=define, use64bitall=define, uselongdouble=undef
    usemymalloc=n, bincompat5005=undef
  Compiler:
    cc='cc', ccflags ='-fno-common -DPERL_DARWIN -fno-strict-aliasing -pipe -fstack-protector -I/opt/local/include',
    optimize='-O3',
    cppflags='-fno-common -DPERL_DARWIN -fno-strict-aliasing -pipe -fstack-protector -I/opt/local/include'
    ccversion='', gccversion='4.2.1 Compatible Apple Clang 3.1 (tags/Apple/clang-318.0.61)', gccosandvers=''
    intsize=4, longsize=8, ptrsize=8, doublesize=8, byteorder=12345678
    d_longlong=define, longlongsize=8, d_longdbl=define, longdblsize=16
    ivtype='long', ivsize=8, nvtype='double', nvsize=8, Off_t='off_t', lseeksize=8
    alignbytes=8, prototype=define
  Linker and Libraries:
    ld='env MACOSX_DEPLOYMENT_TARGET=10.3 cc', ldflags =' -fstack-protector -L/opt/local/lib'
    libpth=/opt/local/lib /usr/lib
    libs=-lgdbm -ldbm -ldl -lm -lutil -lc
    perllibs=-ldl -lm -lutil -lc
    libc=, so=dylib, useshrplib=false, libperl=libperl.a
    gnulibc_version=''
  Dynamic Linking:
    dlsrc=dl_dlopen.xs, dlext=bundle, d_dlsymun=undef, ccdlflags=' '
    cccdlflags=' ', lddlflags=' -bundle -undefined dynamic_lookup -L/opt/local/lib -fstack-protector'


Characteristics of this binary (from libperl): 
  Compile-time options: HAS_TIMES PERLIO_LAYERS PERL_DONT_CREATE_GVSV
                        PERL_MALLOC_WRAP PERL_PRESERVE_IVUV PERL_USE_DEVEL
                        USE_64_BIT_ALL USE_64_BIT_INT USE_LARGE_FILES
                        USE_LOCALE USE_LOCALE_COLLATE USE_LOCALE_CTYPE
                        USE_LOCALE_NUMERIC USE_PERLIO USE_PERL_ATOF
  Built under darwin
  Compiled at Dec 16 2012 23:17:31
  %ENV:
    PERLBREW_MANPATH="/Users/tczepiel/perl5/perlbrew/perls/perl-5.17.6/man"
    PERLBREW_PATH="/Users/tczepiel/perl5/perlbrew/bin:/Users/tczepiel/perl5/perlbrew/perls/perl-5.17.6/bin"
    PERLBREW_PERL="perl-5.17.6"
    PERLBREW_ROOT="/Users/tczepiel/perl5/perlbrew"
    PERLBREW_SKIP_INIT="1"
    PERLBREW_VERSION="0.58"
    PERL_MM_USE_DEFAULT="1"
  @INC:
    /Users/tczepiel/perl5/perlbrew/perls/perl-5.17.6/lib/site_perl/5.17.6/darwin-2level
    /Users/tczepiel/perl5/perlbrew/perls/perl-5.17.6/lib/site_perl/5.17.6
    /Users/tczepiel/perl5/perlbrew/perls/perl-5.17.6/lib/5.17.6/darwin-2level
    /Users/tczepiel/perl5/perlbrew/perls/perl-5.17.6/lib/5.17.6
    .