Report for SMS-Send-SMSDiscount-1.111780

Back
From: metabase:user:320bfe00-2aae-11df-837a-5e0a49663a4f
Subject: UNKNOWN SMS-Send-SMSDiscount-1.111780 v5.15.0 GNU/Linux
Date: 2011-06-27T22:03:00Z

This distribution has been tested as part of the CPAN Testers
project, supporting the Perl programming language.  See
http://wiki.cpantesters.org/ for more information or email
questions to cpan-testers-discuss@perl.org


--
Dear Mark Hindess,

This is a computer-generated report for SMS-Send-SMSDiscount-1.111780
on perl 5.15.0, created by CPAN-Reporter-1.1902.

Thank you for uploading your work to CPAN.  However, attempting to
test your distribution gave an inconclusive result.

This could be because your distribution had an error during the make/build
stage, did not define tests, tests could not be found, because your tests were
interrupted before they finished, or because the results of the tests could not
be parsed.  You may wish to consult the CPAN Testers Wiki:

http://wiki.cpantesters.org/wiki/CPANAuthorNotes

Sections of this report:

    * Tester comments
    * Program output
    * Prerequisites
    * Environment and other context

------------------------------
TESTER COMMENTS
------------------------------

Additional comments from tester:

this report is from an automated smoke testing program
and was not reviewed by a human for accuracy

------------------------------
PROGRAM OUTPUT
------------------------------

Output from '/usr/bin/make test':

PERL_DL_NONLAZY=1 /home/sand/src/perl/repoperls/installed-perls/perl/v5.15.0-48-g529174d/2b65/bin/perl "-MExtUtils::Command::MM" "-e" "test_harness(0, 'blib/lib', 'blib/arch')" t/*.t
t/01-simple.t ................ skipped: No LWP::Protocol::https module: $@
t/author-critic.t ............ skipped: these tests are for testing by the author
t/release-common_spelling.t .. skipped: these tests are for release candidate testing
t/release-eol.t .............. skipped: these tests are for release candidate testing
t/release-kwalitee.t ......... skipped: these tests are for release candidate testing
t/release-no-tabs.t .......... skipped: these tests are for release candidate testing
t/release-pod-coverage.t ..... skipped: these tests are for release candidate testing
t/release-pod-linkcheck.t .... skipped: these tests are for release candidate testing
t/release-pod-no404s.t ....... skipped: these tests are for release candidate testing
t/release-pod-syntax.t ....... skipped: these tests are for release candidate testing
t/release-synopsis.t ......... skipped: these tests are for release candidate testing
Files=11, Tests=0,  0 wallclock secs ( 0.05 usr  0.01 sys +  0.20 cusr  0.04 csys =  0.30 CPU)
Result: NOTESTS

------------------------------
PREREQUISITES
------------------------------

Prerequisite modules loaded:

requires:

    Module                Need Have   
    --------------------- ---- -------
    HTTP::Request::Common 0    6.00   
    LWP::UserAgent        0    6.02   
    SMS::Send::Driver     0    0.05   
    URI::Escape           0    3.30   

build_requires:

    Module                Need Have   
    --------------------- ---- -------
    English               0    1.04   
    LWP::Protocol::https  0    0      
    LWP::Protocol::PSGI   0    0.02   
    Plack::Request        0    0.9980 
    SMS::Send             0    0.05   
    Test::More            0    0.98   

configure_requires:

    Module                Need Have   
    --------------------- ---- -------
    ExtUtils::MakeMaker   6.31 6.57_05


------------------------------
ENVIRONMENT AND OTHER CONTEXT
------------------------------

Environment variables:

    AUTOMATED_TESTING = 1
    LANG = en_US.UTF-8
    LANGUAGE = en_US:en
    PATH = /usr/lib/ccache:/home/sand/bin:/usr/local/bin:/usr/bin:/bin:/usr/bin/X11:/usr/games:/usr/local/perl/bin:/usr/X11/bin:/sbin:/usr/sbin
    PERL5LIB = 
    PERL5OPT = 
    PERL5_CPANPLUS_IS_RUNNING = 25480
    PERL5_CPAN_IS_RUNNING = 25480
    PERL_MM_USE_DEFAULT = 1
    SHELL = /usr/bin/zsh
    TERM = screen

Perl special variables (and OS-specific diagnostics, for MSWin32):

    $^X = /home/sand/src/perl/repoperls/installed-perls/perl/v5.15.0-48-g529174d/2b65/bin/perl
    $UID/$EUID = 1001 / 1001
    $GID = 1001 1001
    $EGID = 1001 1001

Perl module toolchain versions installed:

    Module              Have    
    ------------------- --------
    CPAN                1.9600  
    Cwd                 3.36    
    ExtUtils::CBuilder  0.280204
    ExtUtils::Command   1.17    
    ExtUtils::Install   1.56    
    ExtUtils::MakeMaker 6.57_05 
    ExtUtils::Manifest  1.58    
    ExtUtils::ParseXS   2.2210  
    File::Spec          3.33    
    Module::Build       0.3800  
    Module::Signature   0.68    
    Test::Harness       3.23    
    Test::More          0.98    
    YAML                0.73    
    YAML::Syck          n/a     
    version             0.91    


--

Summary of my perl5 (revision 5 version 15 subversion 0) configuration:
  Commit id: 529174d6b8367f9bfd259c344b7428a658857cc2
  Platform:
    osname=linux, osvers=2.6.39-1-amd64, archname=x86_64-linux-ld
    uname='linux k81 2.6.39-1-amd64 #1 smp tue may 24 14:34:19 utc 2011 x86_64 gnulinux '
    config_args='-Dprefix=/home/src/perl/repoperls/installed-perls/perl/v5.15.0-48-g529174d/2b65 -Dinstallusrbinperl=n -Uversiononly -Dusedevel -des -Ui_db -Uuseithreads -Duselongdouble -DDEBUGGING=-g'
    hint=recommended, useposix=true, d_sigaction=define
    useithreads=undef, usemultiplicity=undef
    useperlio=define, d_sfio=undef, uselargefiles=define, usesocks=undef
    use64bitint=define, use64bitall=define, uselongdouble=define
    usemymalloc=n, bincompat5005=undef
  Compiler:
    cc='cc', ccflags ='-fno-strict-aliasing -pipe -fstack-protector -I/usr/local/include -D_LARGEFILE_SOURCE -D_FILE_OFFSET_BITS=64',
    optimize='-O2 -g',
    cppflags='-fno-strict-aliasing -pipe -fstack-protector -I/usr/local/include'
    ccversion='', gccversion='4.6.1 20110616 (prerelease)', gccosandvers=''
    intsize=4, longsize=8, ptrsize=8, doublesize=8, byteorder=12345678
    d_longlong=define, longlongsize=8, d_longdbl=define, longdblsize=16
    ivtype='long', ivsize=8, nvtype='long double', nvsize=16, Off_t='off_t', lseeksize=8
    alignbytes=16, prototype=define
  Linker and Libraries:
    ld='cc', ldflags =' -fstack-protector -L/usr/local/lib'
    libpth=/usr/local/lib /lib /usr/lib /usr/lib/x86_64-linux-gnu /lib64 /usr/lib64
    libs=-lnsl -ldb -ldl -lm -lcrypt -lutil -lc
    perllibs=-lnsl -ldl -lm -lcrypt -lutil -lc
    libc=, so=so, useshrplib=false, libperl=libperl.a
    gnulibc_version='2.13'
  Dynamic Linking:
    dlsrc=dl_dlopen.xs, dlext=so, d_dlsymun=undef, ccdlflags='-Wl,-E'
    cccdlflags='-fPIC', lddlflags='-shared -O2 -g -L/usr/local/lib -fstack-protector'


Characteristics of this binary (from libperl): 
  Compile-time options: PERL_DONT_CREATE_GVSV PERL_MALLOC_WRAP
                        PERL_PRESERVE_IVUV PERL_USE_DEVEL USE_64_BIT_ALL
                        USE_64_BIT_INT USE_LARGE_FILES USE_LOCALE
                        USE_LOCALE_COLLATE USE_LOCALE_CTYPE
                        USE_LOCALE_NUMERIC USE_LONG_DOUBLE USE_PERLIO
                        USE_PERL_ATOF
  Built under linux
  Compiled at Jun 21 2011 23:45:10
  %ENV:
    PERL5LIB=""
    PERL5OPT=""
    PERL5_CPANPLUS_IS_RUNNING="25480"
    PERL5_CPAN_IS_RUNNING="25480"
    PERL_MM_USE_DEFAULT="1"
  @INC:
    /home/src/perl/repoperls/installed-perls/perl/v5.15.0-48-g529174d/2b65/lib/site_perl/5.15.0/x86_64-linux-ld
    /home/src/perl/repoperls/installed-perls/perl/v5.15.0-48-g529174d/2b65/lib/site_perl/5.15.0
    /home/src/perl/repoperls/installed-perls/perl/v5.15.0-48-g529174d/2b65/lib/5.15.0/x86_64-linux-ld
    /home/src/perl/repoperls/installed-perls/perl/v5.15.0-48-g529174d/2b65/lib/5.15.0
    .