Catalyst-Controller-ActionRole v0.17 Perl 5 v5.27.3 i86pc-solaris-multi
- Status
- Pass
- From
- Serguei Trouchelle (STRO)
- Dist
-
Catalyst-Controller-ActionRole v0.17
- Platform
- Perl 5 v5.27.3 i86pc-solaris-multi
- Date
- 2017-10-02 21:47:00
- ID
- 38b042ec-a7bb-11e7-bd5f-b5fce1235f15
This distribution has been tested as part of the CPAN Testers
project, supporting the Perl programming language. See
http://wiki.cpantesters.org/ for more information or email
questions to cpan-testers-discuss@perl.org
--
Dear Karen Etheridge,
This is a computer-generated report for Catalyst-Controller-ActionRole-0.17
on perl 5.27.3, created by CPAN-Reporter-1.2018.
Thank you for uploading your work to CPAN. Congratulations!
All tests were successful.
Sections of this report:
* Tester comments
* Program output
* Prerequisites
* Environment and other context
------------------------------
TESTER COMMENTS
------------------------------
Additional comments from tester:
this report is from an automated smoke testing program
and was not reviewed by a human for accuracy
------------------------------
PROGRAM OUTPUT
------------------------------
Output from '/usr/bin/make test':
PERL_DL_NONLAZY=1 "/home/stro/perl/5.27.3m/bin/perl" "-MExtUtils::Command::MM" "-MTest::Harness" "-e" "undef *Test::Harness::Switches; test_harness(0, 'blib/lib', 'blib/arch')" t/*.t
#
# Versions for all modules listed in MYMETA.json (including optional ones):
#
# === Configure Requires ===
#
# Module Want Have
# ------------------- ----- -----
# Module::Build::Tiny 0.039 0.039
#
# === Build Requires ===
#
# Module Want Have
# ------------------- ---- ----
# ExtUtils::MakeMaker any 7.30
#
# === Test Requires ===
#
# Module Want Have
# ---------------------- ---- --------
# Catalyst any 5.90115
# Catalyst::Action any undef
# Catalyst::Action::REST 0.74 1.20
# Catalyst::Test any undef
# ExtUtils::MakeMaker any 7.30
# File::Spec any 3.68
# FindBin any 1.51
# Moose::Role any 2.2006
# Test::More any 1.302096
# lib any 0.64
# namespace::clean any 0.27
# parent any 0.236
# strict any 1.11
# warnings any 1.37
#
# === Test Recommends ===
#
# Module Want Have
# ---------- -------- --------
# CPAN::Meta 2.120900 2.150010
#
# === Runtime Requires ===
#
# Module Want Have
# --------------------- ------- -------
# Catalyst::Controller any undef
# Catalyst::Runtime 5.80025 5.90115
# Catalyst::Utils any undef
# Class::Load any 0.24
# List::Util any 1.48
# Moose any 2.2006
# Moose::Meta::Class any 2.2006
# MooseX::Types::Moose any 0.50
# String::RewritePrefix 0.004 0.007
# namespace::autoclean any 0.28
#
t/00-report-prereqs.t ..... ok
t/action-class.t .......... ok
t/basic.t ................. ok
t/basic_rest.t ............ ok
t/execution-via-config.t .. ok
t/execution-via-does.t .... ok
All tests successful.
Files=6, Tests=44, 4 wallclock secs ( 0.03 usr 0.01 sys + 3.65 cusr 0.36 csys = 4.05 CPU)
Result: PASS
------------------------------
PREREQUISITES
------------------------------
Prerequisite modules loaded:
requires:
Module Need Have
---------------------- -------- --------
Catalyst::Controller 0 0
Catalyst::Runtime 5.80025 5.90115
Catalyst::Utils 0 0
Class::Load 0 0.24
List::Util 0 1.48
Moose 0 2.2006
Moose::Meta::Class 0 2.2006
MooseX::Types::Moose 0 0.50
namespace::autoclean 0 0.28
perl 5.006 5.027003
String::RewritePrefix 0.004 0.007
build_requires:
Module Need Have
---------------------- -------- --------
Catalyst 0 5.90115
Catalyst::Action 0 0
Catalyst::Action::REST 0.74 1.20
Catalyst::Test 0 0
ExtUtils::MakeMaker 0 7.30
File::Spec 0 3.68
FindBin 0 1.51
lib 0 0.64
Moose::Role 0 2.2006
namespace::clean 0 0.27
parent 0 0.236
strict 0 1.11
Test::More 0 1.302096
warnings 0 1.37
configure_requires:
Module Need Have
---------------------- -------- --------
Module::Build::Tiny 0.039 0.039
perl 5.006 5.027003
opt_build_requires:
Module Need Have
---------------------- -------- --------
CPAN::Meta 2.120900 2.150010
------------------------------
ENVIRONMENT AND OTHER CONTEXT
------------------------------
Environment variables:
AUTOMATED_TESTING = 1
LANG = en_US.UTF-8
PATH = /usr/gnu/bin:/usr/bin:/usr/sbin:/sbin:/usr/sfw/bin:
PERL5LIB =
PERL5OPT =
PERL5_CPANPLUS_IS_RUNNING = 13831
PERL5_CPAN_IS_RUNNING = 13831
PERL5_CPAN_IS_RUNNING_IN_RECURSION = 25235,13831
PERL_CR_SMOKER_CURRENT = Catalyst-ActionRole-JSV-0.01
PERL_EXTUTILS_AUTOINSTALL = --defaultdeps
PERL_MM_USE_DEFAULT = 1
PERL_USE_UNSAFE_INC = 1
SHELL = /bin/bash
TERM = xterm-256color
Perl special variables (and OS-specific diagnostics, for MSWin32):
$^X = /home/stro/perl/5.27.3m/bin/perl
$UID/$EUID = 101 / 101
$GID = 10 10
$EGID = 10 10
Perl module toolchain versions installed:
Module Have
------------------- --------
CPAN 2.18
CPAN::Meta 2.150010
Cwd 3.68
ExtUtils::CBuilder 0.280228
ExtUtils::Command 7.30
ExtUtils::Install 2.14
ExtUtils::MakeMaker 7.30
ExtUtils::Manifest 1.70
ExtUtils::ParseXS 3.35
File::Spec 3.68
JSON 2.94
JSON::PP 2.94
Module::Build 0.4224
Module::Signature n/a
Parse::CPAN::Meta 2.150010
Test::Harness 3.39
Test::More 1.302096
YAML 1.23
YAML::Syck 1.30
version 0.9918
--
Summary of my perl5 (revision 5 version 27 subversion 3) configuration:
Platform:
osname=solaris
osvers=2.11
archname=i86pc-solaris-multi
uname='sunos vm-openindiana-001 5.11 illumos-ed992b0aac i86pc i386 i86pc solaris '
config_args=''
hint=recommended
useposix=true
d_sigaction=define
useithreads=undef
usemultiplicity=define
use64bitint=undef
use64bitall=undef
uselongdouble=undef
usemymalloc=n
default_inc_excludes_dot=define
bincompat5005=undef
Compiler:
cc='/opt/SUNWspro/bin/cc'
ccflags ='-I/usr/gnu/include -D_LARGEFILE_SOURCE -D_FILE_OFFSET_BITS=64 -DPERL_USE_SAFE_PUTENV'
optimize='-O'
cppflags='-I/usr/gnu/include'
ccversion='Sun C 5.10 SunOS_i386 2009/06/03'
gccversion=''
gccosandvers=''
intsize=4
longsize=4
ptrsize=4
doublesize=8
byteorder=1234
doublekind=3
d_longlong=define
longlongsize=8
d_longdbl=define
longdblsize=12
longdblkind=3
ivtype='long'
ivsize=4
nvtype='double'
nvsize=8
Off_t='off_t'
lseeksize=8
alignbytes=4
prototype=define
Linker and Libraries:
ld='/opt/SUNWspro/bin/cc'
ldflags =' -L/usr/lib -L/usr/ccs/lib -L/opt/sunstudio12.1/prod/lib -L/lib -L/usr/gnu/lib '
libpth=/usr/lib /usr/ccs/lib /opt/sunstudio12.1/prod/lib /lib /usr/gnu/lib
libs=-lpthread -lsocket -lnsl -lgdbm -ldb -ldl -lm -lc
perllibs=-lpthread -lsocket -lnsl -ldl -lm -lc
libc=/lib/libc.so
so=so
useshrplib=true
libperl=libperl.so
gnulibc_version=''
Dynamic Linking:
dlsrc=dl_dlopen.xs
dlext=so
d_dlsymun=undef
ccdlflags=' -R /home/stro/perl/5.27.3m/lib/5.27.3/i86pc-solaris-multi/CORE'
cccdlflags='-KPIC'
lddlflags='-G -L/usr/lib -L/usr/ccs/lib -L/opt/sunstudio12.1/prod/lib -L/lib -L/usr/gnu/lib'
Characteristics of this binary (from libperl):
Compile-time options:
HAS_TIMES
MULTIPLICITY
PERLIO_LAYERS
PERL_COPY_ON_WRITE
PERL_DONT_CREATE_GVSV
PERL_IMPLICIT_CONTEXT
PERL_MALLOC_WRAP
PERL_OP_PARENT
PERL_PRESERVE_IVUV
PERL_USE_SAFE_PUTENV
USE_LARGE_FILES
USE_LOCALE
USE_LOCALE_COLLATE
USE_LOCALE_CTYPE
USE_LOCALE_NUMERIC
USE_LOCALE_TIME
USE_PERLIO
USE_PERL_ATOF
Built under solaris
Compiled at Sep 22 2017 02:43:50
%ENV:
PERL5LIB=""
PERL5OPT=""
PERL5_CPANPLUS_IS_RUNNING="13831"
PERL5_CPAN_IS_RUNNING="13831"
PERL5_CPAN_IS_RUNNING_IN_RECURSION="25235,13831"
PERL_CR_SMOKER_CURRENT="Catalyst-ActionRole-JSV-0.01"
PERL_EXTUTILS_AUTOINSTALL="--defaultdeps"
PERL_MM_USE_DEFAULT="1"
PERL_USE_UNSAFE_INC="1"
@INC:
/home/stro/perl/5.27.3m/lib/site_perl/5.27.3/i86pc-solaris-multi
/home/stro/perl/5.27.3m/lib/site_perl/5.27.3
/home/stro/perl/5.27.3m/lib/5.27.3/i86pc-solaris-multi
/home/stro/perl/5.27.3m/lib/5.27.3
.