Report for App-ZofCMS-Plugin-Debug-Validator-HTML-0.0102

Back
From: metabase:user:320bfe00-2aae-11df-837a-5e0a49663a4f
Subject: PASS App-ZofCMS-Plugin-Debug-Validator-HTML-0.0102 v5.13.10 GNU/Linux
Date: 2011-02-27T16:18:32Z

This distribution has been tested as part of the CPAN Testers
project, supporting the Perl programming language.  See
http://wiki.cpantesters.org/ for more information or email
questions to cpan-testers-discuss@perl.org


--
Dear Zoffix Znet,

This is a computer-generated report for App-ZofCMS-Plugin-Debug-Validator-HTML-0.0102
on perl 5.13.10, created by CPAN-Reporter-1.1902.

Thank you for uploading your work to CPAN.  Congratulations!
All tests were successful.

Sections of this report:

    * Tester comments
    * Program output
    * Prerequisites
    * Environment and other context

------------------------------
TESTER COMMENTS
------------------------------

Additional comments from tester:

none provided

------------------------------
PROGRAM OUTPUT
------------------------------

Output from './Build test':

# Testing App::ZofCMS::Plugin::Debug::Validator::HTML 0.0102, Perl 5.013010, /home/src/perl/repoperls/installed-perls/perl/v5.13.10-98-g8419392/bin/perl
t/00-load.t ....... ok
Use of uninitialized value $query_string in substitution (s///) at /home/sand/.cpan/build/App-ZofCMS-Plugin-Debug-Validator-HTML-0.0102-LOjG1r/blib/lib/App/ZofCMS/Plugin/Debug/Validator/HTML.pm line 27.
Use of uninitialized value $ENV{"SERVER_NAME"} in concatenation (.) or string at /home/sand/.cpan/build/App-ZofCMS-Plugin-Debug-Validator-HTML-0.0102-LOjG1r/blib/lib/App/ZofCMS/Plugin/Debug/Validator/HTML.pm line 28.
Use of uninitialized value in concatenation (.) or string at /home/sand/.cpan/build/App-ZofCMS-Plugin-Debug-Validator-HTML-0.0102-LOjG1r/blib/lib/App/ZofCMS/Plugin/Debug/Validator/HTML.pm line 28.
Use of uninitialized value $query_string in concatenation (.) or string at /home/sand/.cpan/build/App-ZofCMS-Plugin-Debug-Validator-HTML-0.0102-LOjG1r/blib/lib/App/ZofCMS/Plugin/Debug/Validator/HTML.pm line 28.
# Query ended up as: 
t/01-plugin.t ..... ok
t/pod-coverage.t .. ok
t/pod.t ........... ok
All tests successful.
Files=4, Tests=9,  1 wallclock secs ( 0.03 usr  0.02 sys +  0.42 cusr  0.05 csys =  0.52 CPU)
Result: PASS

------------------------------
PREREQUISITES
------------------------------

Prerequisite modules loaded:

requires:

    Module                           Need  Have 
    -------------------------------- ----- -----
    HTML::Entities                   1.35  3.68 
    LWP::UserAgent                   2.036 5.835
    WebService::Validator::HTML::W3C 0.22  0.26 

build_requires:

    Module                           Need  Have 
    -------------------------------- ----- -----
    Test::More                       0     0.98 


------------------------------
ENVIRONMENT AND OTHER CONTEXT
------------------------------

Environment variables:

    LANG = en_US.UTF-8
    LC_TIME = de_DE.utf8
    PATH = /home/sand/bin:/usr/local/bin:/usr/bin:/bin:/usr/bin/X11:/usr/games:/usr/local/perl/bin:/usr/X11/bin:/sbin:/usr/sbin
    PERL5LIB = 
    PERL5OPT = 
    PERL5_CPANPLUS_IS_RUNNING = 26767
    PERL5_CPAN_IS_RUNNING = 26767
    SHELL = /usr/bin/zsh
    TERM = screen

Perl special variables (and OS-specific diagnostics, for MSWin32):

    $^X = /home/src/perl/repoperls/installed-perls/perl/v5.13.10-98-g8419392/bin/perl
    $UID/$EUID = 1001 / 1001
    $GID = 1001 1001
    $EGID = 1001 1001

Perl module toolchain versions installed:

    Module              Have    
    ------------------- --------
    CPAN                1.94_65 
    Cwd                 3.37    
    ExtUtils::CBuilder  0.280202
    ExtUtils::Command   1.16    
    ExtUtils::Install   1.56    
    ExtUtils::MakeMaker 6.57_05 
    ExtUtils::Manifest  1.58    
    ExtUtils::ParseXS   2.2209  
    File::Spec          3.33    
    Module::Build       0.37_05 
    Module::Signature   0.66    
    Test::Harness       3.23    
    Test::More          0.98    
    YAML                0.72    
    YAML::Syck          1.17    
    version             0.88    


--

Summary of my perl5 (revision 5 version 13 subversion 10) configuration:
  Commit id: 84193928209d94622b4501beec2498f435ef3cbf
  Platform:
    osname=linux, osvers=2.6.32-5-xen-amd64, archname=x86_64-linux-thread-multi-ld
    uname='linux k81 2.6.32-5-xen-amd64 #1 smp wed jan 12 05:46:49 utc 2011 x86_64 gnulinux '
    config_args='-Dprefix=/home/src/perl/repoperls/installed-perls/perl/v5.13.10-98-g8419392 -Dinstallusrbinperl=n -Uversiononly -Dusedevel -des -Ui_db -Duseithreads -Duselongdouble'
    hint=recommended, useposix=true, d_sigaction=define
    useithreads=define, usemultiplicity=define
    useperlio=define, d_sfio=undef, uselargefiles=define, usesocks=undef
    use64bitint=define, use64bitall=define, uselongdouble=define
    usemymalloc=n, bincompat5005=undef
  Compiler:
    cc='cc', ccflags ='-D_REENTRANT -D_GNU_SOURCE -fno-strict-aliasing -pipe -fstack-protector -I/usr/local/include -D_LARGEFILE_SOURCE -D_FILE_OFFSET_BITS=64',
    optimize='-O2',
    cppflags='-D_REENTRANT -D_GNU_SOURCE -fno-strict-aliasing -pipe -fstack-protector -I/usr/local/include'
    ccversion='', gccversion='4.4.5', gccosandvers=''
    intsize=4, longsize=8, ptrsize=8, doublesize=8, byteorder=12345678
    d_longlong=define, longlongsize=8, d_longdbl=define, longdblsize=16
    ivtype='long', ivsize=8, nvtype='long double', nvsize=16, Off_t='off_t', lseeksize=8
    alignbytes=16, prototype=define
  Linker and Libraries:
    ld='cc', ldflags =' -fstack-protector -L/usr/local/lib'
    libpth=/usr/local/lib /lib /usr/lib /lib64 /usr/lib64
    libs=-lnsl -lgdbm -ldb -ldl -lm -lcrypt -lutil -lpthread -lc -lgdbm_compat
    perllibs=-lnsl -ldl -lm -lcrypt -lutil -lpthread -lc
    libc=/lib/libc-2.11.2.so, so=so, useshrplib=false, libperl=libperl.a
    gnulibc_version='2.11.2'
  Dynamic Linking:
    dlsrc=dl_dlopen.xs, dlext=so, d_dlsymun=undef, ccdlflags='-Wl,-E'
    cccdlflags='-fPIC', lddlflags='-shared -O2 -L/usr/local/lib -fstack-protector'


Characteristics of this binary (from libperl): 
  Compile-time options: MULTIPLICITY PERL_DONT_CREATE_GVSV
                        PERL_IMPLICIT_CONTEXT PERL_MALLOC_WRAP PERL_USE_DEVEL
                        USE_64_BIT_ALL USE_64_BIT_INT USE_ITHREADS
                        USE_LARGE_FILES USE_LONG_DOUBLE USE_PERLIO
                        USE_PERL_ATOF USE_REENTRANT_API
  Built under linux
  Compiled at Feb 26 2011 05:20:23
  %ENV:
    PERL5LIB=""
    PERL5OPT=""
    PERL5_CPANPLUS_IS_RUNNING="26767"
    PERL5_CPAN_IS_RUNNING="26767"
  @INC:
    /home/src/perl/repoperls/installed-perls/perl/v5.13.10-98-g8419392/lib/site_perl/5.13.10/x86_64-linux-thread-multi-ld
    /home/src/perl/repoperls/installed-perls/perl/v5.13.10-98-g8419392/lib/site_perl/5.13.10
    /home/src/perl/repoperls/installed-perls/perl/v5.13.10-98-g8419392/lib/5.13.10/x86_64-linux-thread-multi-ld
    /home/src/perl/repoperls/installed-perls/perl/v5.13.10-98-g8419392/lib/5.13.10
    .