Back
From: metabase:user:1eed3a18-483e-11e2-a87b-a3931c712682
Subject: PASS XML-Rabbit-0.4.1 v5.18.4 Mac OS X
Date: 2015-09-20T17:58:38Z
This distribution has been tested as part of the CPAN Testers
project, supporting the Perl programming language. See
http://wiki.cpantesters.org/ for more information or email
questions to cpan-testers-discuss@perl.org
--
Dear ROBINS,
This is a computer-generated report for XML-Rabbit-0.4.1
on perl 5.18.4, created by App::cpanminus::reporter 0.13 (1.7001).
Thank you for uploading your work to CPAN. Congratulations!
All tests were successful.
Sections of this report:
* Tester comments
* Program output
* Prerequisites
* Environment and other context
------------------------------
TESTER COMMENTS
------------------------------
Additional comments from tester:
none provided
------------------------------
PROGRAM OUTPUT
------------------------------
Output from '':
Building and testing XML-Rabbit-0.4.1
cp lib/XML/Rabbit/Trait/XPath.pm blib/lib/XML/Rabbit/Trait/XPath.pm
cp lib/XML/Rabbit/Trait/XPathObjectMap.pm blib/lib/XML/Rabbit/Trait/XPathObjectMap.pm
cp lib/XML/Rabbit/Trait/XPathObjectList.pm blib/lib/XML/Rabbit/Trait/XPathObjectList.pm
cp lib/XML/Rabbit/Trait/XPathValue.pm blib/lib/XML/Rabbit/Trait/XPathValue.pm
cp lib/XML/Rabbit/Root.pm blib/lib/XML/Rabbit/Root.pm
cp lib/XML/Rabbit/Sugar.pm blib/lib/XML/Rabbit/Sugar.pm
cp lib/XML/Rabbit/Role/Document.pm blib/lib/XML/Rabbit/Role/Document.pm
cp lib/XML/Rabbit/Trait/XPathValueMap.pm blib/lib/XML/Rabbit/Trait/XPathValueMap.pm
cp lib/XML/Rabbit/Node.pm blib/lib/XML/Rabbit/Node.pm
cp lib/XML/Rabbit.pm blib/lib/XML/Rabbit.pm
cp lib/XML/Rabbit/Trait/XPathObject.pm blib/lib/XML/Rabbit/Trait/XPathObject.pm
cp lib/XML/Rabbit/Role/Node.pm blib/lib/XML/Rabbit/Role/Node.pm
cp lib/XML/Rabbit/Trait/XPathValueList.pm blib/lib/XML/Rabbit/Trait/XPathValueList.pm
cp lib/XML/Rabbit/RootNode.pm blib/lib/XML/Rabbit/RootNode.pm
cp bin/dump_xml_structure blib/script/dump_xml_structure
"/Users/stas/perl5/perlbrew/perls/perl-5.18.4/bin/perl" -MExtUtils::MY -e 'MY->fixin(shift)' -- blib/script/dump_xml_structure
cp bin/xpath_extract blib/script/xpath_extract
"/Users/stas/perl5/perlbrew/perls/perl-5.18.4/bin/perl" -MExtUtils::MY -e 'MY->fixin(shift)' -- blib/script/xpath_extract
Manifying 2 pod documents
Manifying 14 pod documents
PERL_DL_NONLAZY=1 "/Users/stas/perl5/perlbrew/perls/perl-5.18.4/bin/perl" "-MExtUtils::Command::MM" "-MTest::Harness" "-e" "undef *Test::Harness::Switches; test_harness(0, 'blib/lib', 'blib/arch')" t/*.t t/regression/*.t
# Testing XML::Rabbit 0.4.1, Perl 5.018004, /Users/stas/perl5/perlbrew/perls/perl-5.18.4/bin/perl
t/00_load.t ........................... ok
# Detected libxml2 version: 20902
t/01_libxml_version.t ................. ok
t/10_parse_xhtml_fh.t ................. ok
t/10_parse_xhtml_file.t ............... ok
t/10_parse_xhtml_string.t ............. ok
t/11_parse_imsqti.t ................... ok
t/12_xpath_value_map.t ................ ok
t/13_xpath_object_map.t ............... ok
t/14_sugar_parse_xhtml_file.t ......... ok
t/15_sugar_parse_imsqti.t ............. ok
t/16_sugar_xpath_value_map.t .......... ok
t/17_sugar_xpath_object_map.t ......... ok
t/18_dump_xml.t ....................... ok
t/19_RT_71815.t ....................... ok
t/20_RT_81519.t ....................... ok
t/author-critic.t ..................... skipped: these tests are for testing by the author
t/regression/node_attribute_traits.t .. ok
t/release-eol.t ....................... skipped: these tests are for release candidate testing
t/release-kwalitee.t .................. skipped: these tests are for release candidate testing
t/release-no-tabs.t ................... skipped: these tests are for release candidate testing
t/release-pod-coverage.t .............. skipped: these tests are for release candidate testing
t/release-pod-syntax.t ................ skipped: these tests are for release candidate testing
All tests successful.
Files=22, Tests=165, 7 wallclock secs ( 0.08 usr 0.04 sys + 6.10 cusr 0.41 csys = 6.63 CPU)
Result: PASS
------------------------------
PREREQUISITES
------------------------------
Prerequisite modules loaded:
No requirements found
------------------------------
ENVIRONMENT AND OTHER CONTEXT
------------------------------
Environment variables:
LANG = en_US.UTF-8
LC_ALL = en_US.UTF-8
LC_CTYPE = UTF-8
PATH = /Users/stas/perl5/perlbrew/bin:/Users/stas/perl5/perlbrew/perls/perl-5.18.4/bin:/Users/stas/perl5/perlbrew/bin:/Users/stas/perl5/perlbrew/perls/perl-5.22.0/bin:/Users/stas/.vim/bin:/Users/stas/bin:/Users/stas/node_modules/.bin:/opt/local/Library/Frameworks/Python.framework/Versions/2.7/bin:/opt/local/lib/postgresql92/bin:/opt/local/bin:/opt/local/sbin:/opt/local/libexec/ccache:/usr/local/bin:/usr/bin:/bin:/usr/sbin:/sbin:/opt/X11/bin:/Users/stas/.vim/bin:/Users/stas/bin:/Users/stas/node_modules/.bin:/opt/local/Library/Frameworks/Python.framework/Versions/2.7/bin:/opt/local/lib/postgresql92/bin:/opt/local/bin:/opt/local/sbin:/opt/local/libexec/ccache
PERL5LIB =
PERLBREW_BASHRC_VERSION = 0.73
PERLBREW_HOME = /Users/stas/.perlbrew
PERLBREW_LIB =
PERLBREW_MANPATH = /Users/stas/perl5/perlbrew/perls/perl-5.18.4/man
PERLBREW_PATH = /Users/stas/perl5/perlbrew/bin:/Users/stas/perl5/perlbrew/perls/perl-5.18.4/bin
PERLBREW_PERL = perl-5.18.4
PERLBREW_ROOT = /Users/stas/perl5/perlbrew
PERLBREW_VERSION = 0.73
PERL_LOCAL_LIB_ROOT =
PERL_MM_USE_DEFAULT = 1
SHELL = /opt/local/bin/zsh
TERM = screen
TMPDIR = /var/folders/k7/cj2hxbn162362g2150r7t9480000gn/T/
Perl special variables (and OS-specific diagnostics, for MSWin32):
EGID = 20 20 508 12 61 79 80 81 98 398 399 33 100 204 395
EUID = 501
EXECUTABLE_NAME = /Users/stas/perl5/perlbrew/perls/perl-5.18.4/bin/perl
GID = 20 20 508 12 61 79 80 81 98 398 399 33 100 204 395
UID = 501
Perl module toolchain versions installed:
Module Have
------------------- --------
CPAN 2.10
CPAN::Meta 2.150005
Cwd 3.47
ExtUtils::CBuilder 0.280223
ExtUtils::Command 7.10
ExtUtils::Install 2.04
ExtUtils::MakeMaker 7.10
ExtUtils::Manifest 1.70
ExtUtils::ParseXS 3.30
File::Spec 3.47
JSON 2.90
JSON::PP 2.27300
Module::Build 0.4214
Module::Signature 0.79
Parse::CPAN::Meta 1.4417
Test::Harness 3.35
Test::More 1.001014
YAML 1.15
YAML::Syck 1.29
version 0.9912
--
Summary of my perl5 (revision 5 version 18 subversion 4) configuration:
Platform:
osname=darwin, osvers=14.0.0, archname=darwin-2level
uname='darwin stas-macbook.local 14.0.0 darwin kernel version 14.0.0: fri sep 19 00:26:44 pdt 2014; root:xnu-2782.1.97~2release_x86_64 x86_64 '
config_args='-de -Dprefix=/Users/stas/perl5/perlbrew/perls/perl-5.18.4 -Aeval:scriptdir=/Users/stas/perl5/perlbrew/perls/perl-5.18.4/bin'
hint=recommended, useposix=true, d_sigaction=define
useithreads=undef, usemultiplicity=undef
useperlio=define, d_sfio=undef, uselargefiles=define, usesocks=undef
use64bitint=define, use64bitall=define, uselongdouble=undef
usemymalloc=n, bincompat5005=undef
Compiler:
cc='cc', ccflags ='-fno-common -DPERL_DARWIN -fno-strict-aliasing -pipe -fstack-protector -I/opt/local/include',
optimize='-O3',
cppflags='-fno-common -DPERL_DARWIN -fno-strict-aliasing -pipe -fstack-protector -I/opt/local/include'
ccversion='', gccversion='4.2.1 Compatible Apple LLVM 6.0 (clang-600.0.54)', gccosandvers=''
intsize=4, longsize=8, ptrsize=8, doublesize=8, byteorder=12345678
d_longlong=define, longlongsize=8, d_longdbl=define, longdblsize=16
ivtype='long', ivsize=8, nvtype='double', nvsize=8, Off_t='off_t', lseeksize=8
alignbytes=8, prototype=define
Linker and Libraries:
ld='env MACOSX_DEPLOYMENT_TARGET=10.3 cc', ldflags =' -fstack-protector -L/usr/local/lib -L/opt/local/lib'
libpth=/usr/local/lib /opt/local/lib /usr/lib
libs=-lgdbm -ldbm -ldl -lm -lutil -lc
perllibs=-ldl -lm -lutil -lc
libc=, so=dylib, useshrplib=false, libperl=libperl.a
gnulibc_version=''
Dynamic Linking:
dlsrc=dl_dlopen.xs, dlext=bundle, d_dlsymun=undef, ccdlflags=' '
cccdlflags=' ', lddlflags=' -bundle -undefined dynamic_lookup -L/usr/local/lib -L/opt/local/lib -fstack-protector'
Characteristics of this binary (from libperl):
Compile-time options: HAS_TIMES PERLIO_LAYERS PERL_DONT_CREATE_GVSV
PERL_HASH_FUNC_ONE_AT_A_TIME_HARD PERL_MALLOC_WRAP
PERL_PRESERVE_IVUV PERL_SAWAMPERSAND USE_64_BIT_ALL
USE_64_BIT_INT USE_LARGE_FILES USE_LOCALE
USE_LOCALE_COLLATE USE_LOCALE_CTYPE
USE_LOCALE_NUMERIC USE_PERLIO USE_PERL_ATOF
Built under darwin
Compiled at Oct 22 2014 10:35:48
%ENV:
PERL5LIB=""
PERLBREW_BASHRC_VERSION="0.73"
PERLBREW_HOME="/Users/stas/.perlbrew"
PERLBREW_LIB=""
PERLBREW_MANPATH="/Users/stas/perl5/perlbrew/perls/perl-5.18.4/man"
PERLBREW_PATH="/Users/stas/perl5/perlbrew/bin:/Users/stas/perl5/perlbrew/perls/perl-5.18.4/bin"
PERLBREW_PERL="perl-5.18.4"
PERLBREW_ROOT="/Users/stas/perl5/perlbrew"
PERLBREW_VERSION="0.73"
PERL_LOCAL_LIB_ROOT=""
PERL_MM_USE_DEFAULT="1"
@INC:
/Users/stas/perl5/perlbrew/perls/perl-5.18.4/lib/site_perl/5.18.4/darwin-2level
/Users/stas/perl5/perlbrew/perls/perl-5.18.4/lib/site_perl/5.18.4
/Users/stas/perl5/perlbrew/perls/perl-5.18.4/lib/5.18.4/darwin-2level
/Users/stas/perl5/perlbrew/perls/perl-5.18.4/lib/5.18.4
.