HTTP-Session2 v1.10 Perl 5 v5.43.3 amd64-midnightbsd

Status
Pass
From
Carlos Guevara
Dist
HTTP-Session2 v1.10
Platform
Perl 5 v5.43.3 amd64-midnightbsd
Date
2025-09-22 14:41:27
ID
3874fa5c-97c2-11f0-8df4-82964220345f
This distribution has been tested as part of the CPAN Testers
project, supporting the Perl programming language.  See
http://wiki.cpantesters.org/ for more information or email
questions to cpan-testers-discuss@perl.org


--
Dear Tokuhiro Matsuno'xmp,

This is a computer-generated report for HTTP-Session2-1.10
on perl 5.43.3, created by CPAN-Reporter-1.2020.

Thank you for uploading your work to CPAN.  Congratulations!
All tests were successful.

Sections of this report:

    * Tester comments
    * Program output
    * Prerequisites
    * Environment and other context

------------------------------
TESTER COMMENTS
------------------------------

Additional comments from tester:

this report is from an automated smoke testing program
and was not reviewed by a human for accuracy

------------------------------
PROGRAM OUTPUT
------------------------------

Output from './Build test':

t/00_compile.t .............. ok
Secret string too short at /usr/home/cpan/.cpan/build/HTTP-Session2-1.10-0/blib/lib/HTTP/Session2/Base.pm line 79.
	HTTP::Session2::Base::__ANON__(HTTP::Session2::ServerStore=HASH(0x801b167b0), "s3cret") called at t/01_server_side.t line 23
	main::__ANON__("client -> server: request without cookie", CODE(0x8017cfea0)) called at t/01_server_side.t line 25
	main::__ANON__() called at /home/cpan/bin/perl/lib/5.43.3/Test/Builder.pm line 368
	eval {...} called at /home/cpan/bin/perl/lib/5.43.3/Test/Builder.pm line 368
	Test::Builder::subtest(Test::Builder=HASH(0x800b759d8), "First request", CODE(0x8017b18e8)) called at /home/cpan/bin/perl/lib/5.43.3/Test/More.pm line 831
	Test::More::subtest("First request", CODE(0x8017b18e8)) called at t/01_server_side.t line 11
	main::scenario("First request", CODE(0x8017b18e8)) called at t/01_server_side.t line 31
Secret string too short at /usr/home/cpan/.cpan/build/HTTP-Session2-1.10-0/blib/lib/HTTP/Session2/Base.pm line 79.
	HTTP::Session2::Base::__ANON__(HTTP::Session2::ServerStore=HASH(0x801b16918), "s3cret") called at t/01_server_side.t line 40
	main::__ANON__("client -> server: request without cookie", CODE(0x801b16540)) called at t/01_server_side.t line 42
	main::__ANON__() called at /home/cpan/bin/perl/lib/5.43.3/Test/Builder.pm line 368
	eval {...} called at /home/cpan/bin/perl/lib/5.43.3/Test/Builder.pm line 368
	Test::Builder::subtest(Test::Builder=HASH(0x800b759d8), "Store something without login", CODE(0x8018ca9c0)) called at /home/cpan/bin/perl/lib/5.43.3/Test/More.pm line 831
	Test::More::subtest("Store something without login", CODE(0x8018ca9c0)) called at t/01_server_side.t line 11
	main::scenario("Store something without login", CODE(0x8018ca9c0)) called at t/01_server_side.t line 58
Secret string too short at /usr/home/cpan/.cpan/build/HTTP-Session2-1.10-0/blib/lib/HTTP/Session2/Base.pm line 79.
	HTTP::Session2::Base::__ANON__(HTTP::Session2::ServerStore=HASH(0x801b1a378), "s3cret") called at t/01_server_side.t line 70
	main::__ANON__("client -> server: request without cookie", CODE(0x801ae0d68)) called at t/01_server_side.t line 72
	main::__ANON__() called at /home/cpan/bin/perl/lib/5.43.3/Test/Builder.pm line 368
	eval {...} called at /home/cpan/bin/perl/lib/5.43.3/Test/Builder.pm line 368
	Test::Builder::subtest(Test::Builder=HASH(0x800b759d8), "Login", CODE(0x801ae0a08)) called at /home/cpan/bin/perl/lib/5.43.3/Test/More.pm line 831
	Test::More::subtest("Login", CODE(0x801ae0a08)) called at t/01_server_side.t line 11
	main::scenario("Login", CODE(0x801ae0a08)) called at t/01_server_side.t line 96
Secret string too short at /usr/home/cpan/.cpan/build/HTTP-Session2-1.10-0/blib/lib/HTTP/Session2/Base.pm line 79.
	HTTP::Session2::Base::__ANON__(HTTP::Session2::ServerStore=HASH(0x801b1aa98), "s3cret") called at t/01_server_side.t line 108
	main::__ANON__("client -> server: request without cookie", CODE(0x8017cfd20)) called at t/01_server_side.t line 110
	main::__ANON__() called at /home/cpan/bin/perl/lib/5.43.3/Test/Builder.pm line 368
	eval {...} called at /home/cpan/bin/perl/lib/5.43.3/Test/Builder.pm line 368
	Test::Builder::subtest(Test::Builder=HASH(0x800b759d8), "In a login session", CODE(0x8017ce0f0)) called at /home/cpan/bin/perl/lib/5.43.3/Test/More.pm line 831
	Test::More::subtest("In a login session", CODE(0x8017ce0f0)) called at t/01_server_side.t line 11
	main::scenario("In a login session", CODE(0x8017ce0f0)) called at t/01_server_side.t line 124
Secret string too short at /usr/home/cpan/.cpan/build/HTTP-Session2-1.10-0/blib/lib/HTTP/Session2/Base.pm line 79.
	HTTP::Session2::Base::__ANON__(HTTP::Session2::ServerStore=HASH(0x801b315d0), "s3cret") called at t/01_server_side.t line 136
	main::__ANON__("client -> server: request without cookie", CODE(0x801ae0d98)) called at t/01_server_side.t line 138
	main::__ANON__() called at /home/cpan/bin/perl/lib/5.43.3/Test/Builder.pm line 368
	eval {...} called at /home/cpan/bin/perl/lib/5.43.3/Test/Builder.pm line 368
	Test::Builder::subtest(Test::Builder=HASH(0x800b759d8), "Invalid session id", CODE(0x8017ce7c8)) called at /home/cpan/bin/perl/lib/5.43.3/Test/More.pm line 831
	Test::More::subtest("Invalid session id", CODE(0x8017ce7c8)) called at t/01_server_side.t line 11
	main::scenario("Invalid session id", CODE(0x8017ce7c8)) called at t/01_server_side.t line 153
Secret string too short at /usr/home/cpan/.cpan/build/HTTP-Session2-1.10-0/blib/lib/HTTP/Session2/Base.pm line 79.
	HTTP::Session2::Base::__ANON__(HTTP::Session2::ServerStore=HASH(0x801b31648), "s3cret") called at t/01_server_side.t line 160
	main::__ANON__("client -> server: request without cookie", CODE(0x801b18858)) called at t/01_server_side.t line 167
	main::__ANON__() called at /home/cpan/bin/perl/lib/5.43.3/Test/Builder.pm line 368
	eval {...} called at /home/cpan/bin/perl/lib/5.43.3/Test/Builder.pm line 368
	Test::Builder::subtest(Test::Builder=HASH(0x800b759d8), "Logout", CODE(0x8017cec60)) called at /home/cpan/bin/perl/lib/5.43.3/Test/More.pm line 831
	Test::More::subtest("Logout", CODE(0x8017cec60)) called at t/01_server_side.t line 11
	main::scenario("Logout", CODE(0x8017cec60)) called at t/01_server_side.t line 182
t/01_server_side.t .......... ok
Secret string too short at /usr/home/cpan/.cpan/build/HTTP-Session2-1.10-0/blib/lib/HTTP/Session2/Base.pm line 79.
	HTTP::Session2::Base::__ANON__(HTTP::Session2::ClientStore=HASH(0x801bc40c0), "s3cret") called at t/02_client_side.t line 17
	main::__ANON__("client -> server: request without cookie", CODE(0x801bc27e0)) called at t/02_client_side.t line 22
	main::__ANON__() called at /home/cpan/bin/perl/lib/5.43.3/Test/Builder.pm line 368
	eval {...} called at /home/cpan/bin/perl/lib/5.43.3/Test/Builder.pm line 368
	Test::Builder::subtest(Test::Builder=HASH(0x800b759d8), "First request", CODE(0x800aae9c0)) called at /home/cpan/bin/perl/lib/5.43.3/Test/More.pm line 831
	Test::More::subtest("First request", CODE(0x800aae9c0)) called at t/02_client_side.t line 9
	main::scenario("First request", CODE(0x800aae9c0)) called at t/02_client_side.t line 28
Secret string too short at /usr/home/cpan/.cpan/build/HTTP-Session2-1.10-0/blib/lib/HTTP/Session2/Base.pm line 79.
	HTTP::Session2::Base::__ANON__(HTTP::Session2::ClientStore=HASH(0x801bc4be8), "s3cret") called at t/02_client_side.t line 33
	main::__ANON__("client -> server: request without cookie", CODE(0x801bc2ea0)) called at t/02_client_side.t line 38
	main::__ANON__() called at /home/cpan/bin/perl/lib/5.43.3/Test/Builder.pm line 368
	eval {...} called at /home/cpan/bin/perl/lib/5.43.3/Test/Builder.pm line 368
	Test::Builder::subtest(Test::Builder=HASH(0x800b759d8), "Store something without login", CODE(0x80175cea0)) called at /home/cpan/bin/perl/lib/5.43.3/Test/More.pm line 831
	Test::More::subtest("Store something without login", CODE(0x80175cea0)) called at t/02_client_side.t line 9
	main::scenario("Store something without login", CODE(0x80175cea0)) called at t/02_client_side.t line 54
Do not use HTTP::Session2::ClientStore. Use HTTP::Session2::ServerStore or HTTP::Session2::ClientStore2 instead. at /usr/home/cpan/.cpan/build/HTTP-Session2-1.10-0/blib/lib/HTTP/Session2/ClientStore.pm line 25.
Secret string too short at /usr/home/cpan/.cpan/build/HTTP-Session2-1.10-0/blib/lib/HTTP/Session2/Base.pm line 79.
	HTTP::Session2::Base::__ANON__(HTTP::Session2::ClientStore=HASH(0x801bc27e0), "s3cret") called at t/02_client_side.t line 60
	main::__ANON__("client -> server: request without cookie", CODE(0x801bfc588)) called at t/02_client_side.t line 66
	main::__ANON__() called at /home/cpan/bin/perl/lib/5.43.3/Test/Builder.pm line 368
	eval {...} called at /home/cpan/bin/perl/lib/5.43.3/Test/Builder.pm line 368
	Test::Builder::subtest(Test::Builder=HASH(0x800b759d8), "Login", CODE(0x801bbecf0)) called at /home/cpan/bin/perl/lib/5.43.3/Test/More.pm line 831
	Test::More::subtest("Login", CODE(0x801bbecf0)) called at t/02_client_side.t line 9
	main::scenario("Login", CODE(0x801bbecf0)) called at t/02_client_side.t line 86
Do not use HTTP::Session2::ClientStore. Use HTTP::Session2::ServerStore or HTTP::Session2::ClientStore2 instead. at /usr/home/cpan/.cpan/build/HTTP-Session2-1.10-0/blib/lib/HTTP/Session2/ClientStore.pm line 35.
Do not use HTTP::Session2::ClientStore. Use HTTP::Session2::ServerStore or HTTP::Session2::ClientStore2 instead. at /usr/home/cpan/.cpan/build/HTTP-Session2-1.10-0/blib/lib/HTTP/Session2/ClientStore.pm line 25.
Secret string too short at /usr/home/cpan/.cpan/build/HTTP-Session2-1.10-0/blib/lib/HTTP/Session2/Base.pm line 79.
	HTTP::Session2::Base::__ANON__(HTTP::Session2::ClientStore=HASH(0x801bfe9f0), "s3cret") called at t/02_client_side.t line 92
	main::__ANON__("client -> server: request without cookie", CODE(0x801bfcd50)) called at t/02_client_side.t line 98
	main::__ANON__() called at /home/cpan/bin/perl/lib/5.43.3/Test/Builder.pm line 368
	eval {...} called at /home/cpan/bin/perl/lib/5.43.3/Test/Builder.pm line 368
	Test::Builder::subtest(Test::Builder=HASH(0x800b759d8), "In a login session", CODE(0x80175d1e0)) called at /home/cpan/bin/perl/lib/5.43.3/Test/More.pm line 831
	Test::More::subtest("In a login session", CODE(0x80175d1e0)) called at t/02_client_side.t line 9
	main::scenario("In a login session", CODE(0x80175d1e0)) called at t/02_client_side.t line 107
Do not use HTTP::Session2::ClientStore. Use HTTP::Session2::ServerStore or HTTP::Session2::ClientStore2 instead. at /usr/home/cpan/.cpan/build/HTTP-Session2-1.10-0/blib/lib/HTTP/Session2/ClientStore.pm line 35.
Do not use HTTP::Session2::ClientStore. Use HTTP::Session2::ServerStore or HTTP::Session2::ClientStore2 instead. at /usr/home/cpan/.cpan/build/HTTP-Session2-1.10-0/blib/lib/HTTP/Session2/ClientStore.pm line 25.
Secret string too short at /usr/home/cpan/.cpan/build/HTTP-Session2-1.10-0/blib/lib/HTTP/Session2/Base.pm line 79.
	HTTP::Session2::Base::__ANON__(HTTP::Session2::ClientStore=HASH(0x801bc4480), "s3cret") called at t/02_client_side.t line 112
	main::__ANON__("client -> server: request without cookie", CODE(0x801bfe528)) called at t/02_client_side.t line 118
	main::__ANON__() called at /home/cpan/bin/perl/lib/5.43.3/Test/Builder.pm line 368
	eval {...} called at /home/cpan/bin/perl/lib/5.43.3/Test/Builder.pm line 368
	Test::Builder::subtest(Test::Builder=HASH(0x800b759d8), "Logout", CODE(0x80175d258)) called at /home/cpan/bin/perl/lib/5.43.3/Test/More.pm line 831
	Test::More::subtest("Logout", CODE(0x80175d258)) called at t/02_client_side.t line 9
	main::scenario("Logout", CODE(0x80175d258)) called at t/02_client_side.t line 131
t/02_client_side.t .......... ok
Secret string too short at /usr/home/cpan/.cpan/build/HTTP-Session2-1.10-0/blib/lib/HTTP/Session2/Base.pm line 79.
	HTTP::Session2::Base::__ANON__(HTTP::Session2::ServerStore=HASH(0x802a9faf8), "s3cret") called at t/03_mech.t line 121
	main::server_session(HASH(0x8029ad8d0)) called at t/03_mech.t line 17
	main::__ANON__(HASH(0x8029ad8d0)) called at /home/cpan/bin/perl/lib/site_perl/5.43.3/Test/WWW/Mechanize/PSGI.pm line 46
	Test::WWW::Mechanize::PSGI::try {...} () called at /home/cpan/bin/perl/lib/site_perl/5.43.3/Try/Tiny.pm line 102
	eval {...} called at /home/cpan/bin/perl/lib/site_perl/5.43.3/Try/Tiny.pm line 93
	Try::Tiny::try(CODE(0x802a9f780), Try::Tiny::Catch=REF(0x8017fd660)) called at /home/cpan/bin/perl/lib/site_perl/5.43.3/Test/WWW/Mechanize/PSGI.pm line 53
	Test::WWW::Mechanize::PSGI::simple_request(Test::WWW::Mechanize::PSGI=HASH(0x8017fd228), HTTP::Request=HASH(0x8029f2c00), undef, undef) called at /home/cpan/bin/perl/lib/site_perl/5.43.3/LWP/UserAgent.pm line 310
	LWP::UserAgent::request(Test::WWW::Mechanize::PSGI=HASH(0x8017fd228), HTTP::Request=HASH(0x8029f2c00)) called at /home/cpan/bin/perl/lib/site_perl/5.43.3/WWW/Mechanize.pm line 1699
	WWW::Mechanize::_make_request(Test::WWW::Mechanize::PSGI=HASH(0x8017fd228), HTTP::Request=HASH(0x8029f2c00)) called at /home/cpan/bin/perl/lib/site_perl/5.43.3/WWW/Mechanize.pm line 1534
	WWW::Mechanize::request(Test::WWW::Mechanize::PSGI=HASH(0x8017fd228), HTTP::Request=HASH(0x8029f2c00)) called at /home/cpan/bin/perl/lib/site_perl/5.43.3/LWP/UserAgent.pm line 454
	LWP::UserAgent::get(Test::WWW::Mechanize::PSGI=HASH(0x8017fd228), "/") called at /home/cpan/bin/perl/lib/site_perl/5.43.3/WWW/Mechanize.pm line 124
	WWW::Mechanize::get(Test::WWW::Mechanize::PSGI=HASH(0x8017fd228), "/") called at /home/cpan/bin/perl/lib/site_perl/5.43.3/Test/WWW/Mechanize.pm line 192
	Test::WWW::Mechanize::get_ok(Test::WWW::Mechanize::PSGI=HASH(0x8017fd228), "/") called at t/03_mech.t line 74
Secret string too short at /usr/home/cpan/.cpan/build/HTTP-Session2-1.10-0/blib/lib/HTTP/Session2/Base.pm line 79.
	HTTP::Session2::Base::__ANON__(HTTP::Session2::ServerStore=HASH(0x802aa1678), "s3cret") called at t/03_mech.t line 121
	main::server_session(HASH(0x802aa1120)) called at t/03_mech.t line 17
	main::__ANON__(HASH(0x802aa1120)) called at /home/cpan/bin/perl/lib/site_perl/5.43.3/Test/WWW/Mechanize/PSGI.pm line 46
	Test::WWW::Mechanize::PSGI::try {...} () called at /home/cpan/bin/perl/lib/site_perl/5.43.3/Try/Tiny.pm line 102
	eval {...} called at /home/cpan/bin/perl/lib/site_perl/5.43.3/Try/Tiny.pm line 93
	Try::Tiny::try(CODE(0x8017fd2d0), Try::Tiny::Catch=REF(0x802a9f7f8)) called at /home/cpan/bin/perl/lib/site_perl/5.43.3/Test/WWW/Mechanize/PSGI.pm line 53
	Test::WWW::Mechanize::PSGI::simple_request(Test::WWW::Mechanize::PSGI=HASH(0x8017fd228), HTTP::Request=HASH(0x802a9fe10), undef, undef) called at /home/cpan/bin/perl/lib/site_perl/5.43.3/LWP/UserAgent.pm line 310
	LWP::UserAgent::request(Test::WWW::Mechanize::PSGI=HASH(0x8017fd228), HTTP::Request=HASH(0x802a9fe10)) called at /home/cpan/bin/perl/lib/site_perl/5.43.3/WWW/Mechanize.pm line 1699
	WWW::Mechanize::_make_request(Test::WWW::Mechanize::PSGI=HASH(0x8017fd228), HTTP::Request=HASH(0x802a9fe10)) called at /home/cpan/bin/perl/lib/site_perl/5.43.3/WWW/Mechanize.pm line 1534
	WWW::Mechanize::request(Test::WWW::Mechanize::PSGI=HASH(0x8017fd228), HTTP::Request=HASH(0x802a9fe10)) called at /home/cpan/bin/perl/lib/site_perl/5.43.3/LWP/UserAgent.pm line 500
	LWP::UserAgent::post(Test::WWW::Mechanize::PSGI=HASH(0x8017fd228), "http://localhost/wishlist?foo", HASH(0x802538798)) called at /home/cpan/bin/perl/lib/site_perl/5.43.3/WWW/Mechanize.pm line 136
	WWW::Mechanize::post(Test::WWW::Mechanize::PSGI=HASH(0x8017fd228), "/wishlist?foo", HASH(0x802538798)) called at /home/cpan/bin/perl/lib/site_perl/5.43.3/Test/WWW/Mechanize.pm line 321
	Test::WWW::Mechanize::post_ok(Test::WWW::Mechanize::PSGI=HASH(0x8017fd228), "/wishlist?foo") called at t/03_mech.t line 75
Secret string too short at /usr/home/cpan/.cpan/build/HTTP-Session2-1.10-0/blib/lib/HTTP/Session2/Base.pm line 79.
	HTTP::Session2::Base::__ANON__(HTTP::Session2::ServerStore=HASH(0x802aa1f30), "s3cret") called at t/03_mech.t line 121
	main::server_session(HASH(0x802aa1210)) called at t/03_mech.t line 17
	main::__ANON__(HASH(0x802aa1210)) called at /home/cpan/bin/perl/lib/site_perl/5.43.3/Test/WWW/Mechanize/PSGI.pm line 46
	Test::WWW::Mechanize::PSGI::try {...} () called at /home/cpan/bin/perl/lib/site_perl/5.43.3/Try/Tiny.pm line 102
	eval {...} called at /home/cpan/bin/perl/lib/site_perl/5.43.3/Try/Tiny.pm line 93
	Try::Tiny::try(CODE(0x8029375b8), Try::Tiny::Catch=REF(0x802aa1540)) called at /home/cpan/bin/perl/lib/site_perl/5.43.3/Test/WWW/Mechanize/PSGI.pm line 53
	Test::WWW::Mechanize::PSGI::simple_request(Test::WWW::Mechanize::PSGI=HASH(0x8017fd228), HTTP::Request=HASH(0x802aa14b0), undef, undef) called at /home/cpan/bin/perl/lib/site_perl/5.43.3/LWP/UserAgent.pm line 310
	LWP::UserAgent::request(Test::WWW::Mechanize::PSGI=HASH(0x8017fd228), HTTP::Request=HASH(0x802aa14b0)) called at /home/cpan/bin/perl/lib/site_perl/5.43.3/WWW/Mechanize.pm line 1699
	WWW::Mechanize::_make_request(Test::WWW::Mechanize::PSGI=HASH(0x8017fd228), HTTP::Request=HASH(0x802aa14b0)) called at /home/cpan/bin/perl/lib/site_perl/5.43.3/WWW/Mechanize.pm line 1534
	WWW::Mechanize::request(Test::WWW::Mechanize::PSGI=HASH(0x8017fd228), HTTP::Request=HASH(0x802aa14b0)) called at /home/cpan/bin/perl/lib/site_perl/5.43.3/LWP/UserAgent.pm line 454
	LWP::UserAgent::get(Test::WWW::Mechanize::PSGI=HASH(0x8017fd228), "http://localhost/wishlist") called at /home/cpan/bin/perl/lib/site_perl/5.43.3/WWW/Mechanize.pm line 124
	WWW::Mechanize::get(Test::WWW::Mechanize::PSGI=HASH(0x8017fd228), "/wishlist") called at /home/cpan/bin/perl/lib/site_perl/5.43.3/Test/WWW/Mechanize.pm line 192
	Test::WWW::Mechanize::get_ok(Test::WWW::Mechanize::PSGI=HASH(0x8017fd228), "/wishlist") called at t/03_mech.t line 76
Secret string too short at /usr/home/cpan/.cpan/build/HTTP-Session2-1.10-0/blib/lib/HTTP/Session2/Base.pm line 79.
	HTTP::Session2::Base::__ANON__(HTTP::Session2::ServerStore=HASH(0x802aa4588), "s3cret") called at t/03_mech.t line 121
	main::server_session(HASH(0x802aa1db0)) called at t/03_mech.t line 17
	main::__ANON__(HASH(0x802aa1db0)) called at /home/cpan/bin/perl/lib/site_perl/5.43.3/Test/WWW/Mechanize/PSGI.pm line 46
	Test::WWW::Mechanize::PSGI::try {...} () called at /home/cpan/bin/perl/lib/site_perl/5.43.3/Try/Tiny.pm line 102
	eval {...} called at /home/cpan/bin/perl/lib/site_perl/5.43.3/Try/Tiny.pm line 93
	Try::Tiny::try(CODE(0x802aa1dc8), Try::Tiny::Catch=REF(0x802aa1930)) called at /home/cpan/bin/perl/lib/site_perl/5.43.3/Test/WWW/Mechanize/PSGI.pm line 53
	Test::WWW::Mechanize::PSGI::simple_request(Test::WWW::Mechanize::PSGI=HASH(0x8017fd228), HTTP::Request=HASH(0x802aa16d8), undef, undef) called at /home/cpan/bin/perl/lib/site_perl/5.43.3/LWP/UserAgent.pm line 310
	LWP::UserAgent::request(Test::WWW::Mechanize::PSGI=HASH(0x8017fd228), HTTP::Request=HASH(0x802aa16d8)) called at /home/cpan/bin/perl/lib/site_perl/5.43.3/WWW/Mechanize.pm line 1699
	WWW::Mechanize::_make_request(Test::WWW::Mechanize::PSGI=HASH(0x8017fd228), HTTP::Request=HASH(0x802aa16d8)) called at /home/cpan/bin/perl/lib/site_perl/5.43.3/WWW/Mechanize.pm line 1534
	WWW::Mechanize::request(Test::WWW::Mechanize::PSGI=HASH(0x8017fd228), HTTP::Request=HASH(0x802aa16d8)) called at /home/cpan/bin/perl/lib/site_perl/5.43.3/LWP/UserAgent.pm line 500
	LWP::UserAgent::post(Test::WWW::Mechanize::PSGI=HASH(0x8017fd228), "http://localhost/wishlist?bar") called at /home/cpan/bin/perl/lib/site_perl/5.43.3/WWW/Mechanize.pm line 136
	WWW::Mechanize::post(Test::WWW::Mechanize::PSGI=HASH(0x8017fd228), "/wishlist?bar") called at t/03_mech.t line 78
Secret string too short at /usr/home/cpan/.cpan/build/HTTP-Session2-1.10-0/blib/lib/HTTP/Session2/Base.pm line 79.
	HTTP::Session2::Base::__ANON__(HTTP::Session2::ServerStore=HASH(0x802aa4558), "s3cret") called at t/03_mech.t line 121
	main::server_session(HASH(0x802aa1a68)) called at t/03_mech.t line 17
	main::__ANON__(HASH(0x802aa1a68)) called at /home/cpan/bin/perl/lib/site_perl/5.43.3/Test/WWW/Mechanize/PSGI.pm line 46
	Test::WWW::Mechanize::PSGI::try {...} () called at /home/cpan/bin/perl/lib/site_perl/5.43.3/Try/Tiny.pm line 102
	eval {...} called at /home/cpan/bin/perl/lib/site_perl/5.43.3/Try/Tiny.pm line 93
	Try::Tiny::try(CODE(0x802aa46a8), Try::Tiny::Catch=REF(0x802aa1660)) called at /home/cpan/bin/perl/lib/site_perl/5.43.3/Test/WWW/Mechanize/PSGI.pm line 53
	Test::WWW::Mechanize::PSGI::simple_request(Test::WWW::Mechanize::PSGI=HASH(0x8017fd228), HTTP::Request=HASH(0x802aa1b40), undef, undef) called at /home/cpan/bin/perl/lib/site_perl/5.43.3/LWP/UserAgent.pm line 310
	LWP::UserAgent::request(Test::WWW::Mechanize::PSGI=HASH(0x8017fd228), HTTP::Request=HASH(0x802aa1b40)) called at /home/cpan/bin/perl/lib/site_perl/5.43.3/WWW/Mechanize.pm line 1699
	WWW::Mechanize::_make_request(Test::WWW::Mechanize::PSGI=HASH(0x8017fd228), HTTP::Request=HASH(0x802aa1b40)) called at /home/cpan/bin/perl/lib/site_perl/5.43.3/WWW/Mechanize.pm line 1534
	WWW::Mechanize::request(Test::WWW::Mechanize::PSGI=HASH(0x8017fd228), HTTP::Request=HASH(0x802aa1b40)) called at /home/cpan/bin/perl/lib/site_perl/5.43.3/LWP/UserAgent.pm line 500
	LWP::UserAgent::post(Test::WWW::Mechanize::PSGI=HASH(0x8017fd228), "http://localhost/wishlist?bar", HASH(0x802538798)) called at /home/cpan/bin/perl/lib/site_perl/5.43.3/WWW/Mechanize.pm line 136
	WWW::Mechanize::post(Test::WWW::Mechanize::PSGI=HASH(0x8017fd228), "/wishlist?bar", HASH(0x802538798)) called at /home/cpan/bin/perl/lib/site_perl/5.43.3/Test/WWW/Mechanize.pm line 321
	Test::WWW::Mechanize::post_ok(Test::WWW::Mechanize::PSGI=HASH(0x8017fd228), "/wishlist?bar") called at t/03_mech.t line 81
Secret string too short at /usr/home/cpan/.cpan/build/HTTP-Session2-1.10-0/blib/lib/HTTP/Session2/Base.pm line 79.
	HTTP::Session2::Base::__ANON__(HTTP::Session2::ServerStore=HASH(0x802aa4db0), "s3cret") called at t/03_mech.t line 121
	main::server_session(HASH(0x802aa4990)) called at t/03_mech.t line 17
	main::__ANON__(HASH(0x802aa4990)) called at /home/cpan/bin/perl/lib/site_perl/5.43.3/Test/WWW/Mechanize/PSGI.pm line 46
	Test::WWW::Mechanize::PSGI::try {...} () called at /home/cpan/bin/perl/lib/site_perl/5.43.3/Try/Tiny.pm line 102
	eval {...} called at /home/cpan/bin/perl/lib/site_perl/5.43.3/Try/Tiny.pm line 93
	Try::Tiny::try(CODE(0x802ad41e0), Try::Tiny::Catch=REF(0x802aa4af8)) called at /home/cpan/bin/perl/lib/site_perl/5.43.3/Test/WWW/Mechanize/PSGI.pm line 53
	Test::WWW::Mechanize::PSGI::simple_request(Test::WWW::Mechanize::PSGI=HASH(0x8017fd228), HTTP::Request=HASH(0x802aa4c60), undef, undef) called at /home/cpan/bin/perl/lib/site_perl/5.43.3/LWP/UserAgent.pm line 310
	LWP::UserAgent::request(Test::WWW::Mechanize::PSGI=HASH(0x8017fd228), HTTP::Request=HASH(0x802aa4c60)) called at /home/cpan/bin/perl/lib/site_perl/5.43.3/WWW/Mechanize.pm line 1699
	WWW::Mechanize::_make_request(Test::WWW::Mechanize::PSGI=HASH(0x8017fd228), HTTP::Request=HASH(0x802aa4c60)) called at /home/cpan/bin/perl/lib/site_perl/5.43.3/WWW/Mechanize.pm line 1534
	WWW::Mechanize::request(Test::WWW::Mechanize::PSGI=HASH(0x8017fd228), HTTP::Request=HASH(0x802aa4c60)) called at /home/cpan/bin/perl/lib/site_perl/5.43.3/LWP/UserAgent.pm line 454
	LWP::UserAgent::get(Test::WWW::Mechanize::PSGI=HASH(0x8017fd228), "http://localhost/wishlist") called at /home/cpan/bin/perl/lib/site_perl/5.43.3/WWW/Mechanize.pm line 124
	WWW::Mechanize::get(Test::WWW::Mechanize::PSGI=HASH(0x8017fd228), "/wishlist") called at /home/cpan/bin/perl/lib/site_perl/5.43.3/Test/WWW/Mechanize.pm line 192
	Test::WWW::Mechanize::get_ok(Test::WWW::Mechanize::PSGI=HASH(0x8017fd228), "/wishlist") called at t/03_mech.t line 82
Secret string too short at /usr/home/cpan/.cpan/build/HTTP-Session2-1.10-0/blib/lib/HTTP/Session2/Base.pm line 79.
	HTTP::Session2::Base::__ANON__(HTTP::Session2::ServerStore=HASH(0x802ad4468), "s3cret") called at t/03_mech.t line 121
	main::server_session(HASH(0x802ad43d8)) called at t/03_mech.t line 17
	main::__ANON__(HASH(0x802ad43d8)) called at /home/cpan/bin/perl/lib/site_perl/5.43.3/Test/WWW/Mechanize/PSGI.pm line 46
	Test::WWW::Mechanize::PSGI::try {...} () called at /home/cpan/bin/perl/lib/site_perl/5.43.3/Try/Tiny.pm line 102
	eval {...} called at /home/cpan/bin/perl/lib/site_perl/5.43.3/Try/Tiny.pm line 93
	Try::Tiny::try(CODE(0x802ad4018), Try::Tiny::Catch=REF(0x802aa4450)) called at /home/cpan/bin/perl/lib/site_perl/5.43.3/Test/WWW/Mechanize/PSGI.pm line 53
	Test::WWW::Mechanize::PSGI::simple_request(Test::WWW::Mechanize::PSGI=HASH(0x8017fd228), HTTP::Request=HASH(0x802aa46d8), undef, undef) called at /home/cpan/bin/perl/lib/site_perl/5.43.3/LWP/UserAgent.pm line 310
	LWP::UserAgent::request(Test::WWW::Mechanize::PSGI=HASH(0x8017fd228), HTTP::Request=HASH(0x802aa46d8)) called at /home/cpan/bin/perl/lib/site_perl/5.43.3/WWW/Mechanize.pm line 1699
	WWW::Mechanize::_make_request(Test::WWW::Mechanize::PSGI=HASH(0x8017fd228), HTTP::Request=HASH(0x802aa46d8)) called at /home/cpan/bin/perl/lib/site_perl/5.43.3/WWW/Mechanize.pm line 1534
	WWW::Mechanize::request(Test::WWW::Mechanize::PSGI=HASH(0x8017fd228), HTTP::Request=HASH(0x802aa46d8)) called at /home/cpan/bin/perl/lib/site_perl/5.43.3/LWP/UserAgent.pm line 500
	LWP::UserAgent::post(Test::WWW::Mechanize::PSGI=HASH(0x8017fd228), "http://localhost/account/login?john", HASH(0x802538798)) called at /home/cpan/bin/perl/lib/site_perl/5.43.3/WWW/Mechanize.pm line 136
	WWW::Mechanize::post(Test::WWW::Mechanize::PSGI=HASH(0x8017fd228), "/account/login?john", HASH(0x802538798)) called at /home/cpan/bin/perl/lib/site_perl/5.43.3/Test/WWW/Mechanize.pm line 321
	Test::WWW::Mechanize::post_ok(Test::WWW::Mechanize::PSGI=HASH(0x8017fd228), "/account/login?john") called at t/03_mech.t line 84
Secret string too short at /usr/home/cpan/.cpan/build/HTTP-Session2-1.10-0/blib/lib/HTTP/Session2/Base.pm line 79.
	HTTP::Session2::Base::__ANON__(HTTP::Session2::ServerStore=HASH(0x802ad4858), "s3cret") called at t/03_mech.t line 121
	main::server_session(HASH(0x802aa47b0)) called at t/03_mech.t line 17
	main::__ANON__(HASH(0x802aa47b0)) called at /home/cpan/bin/perl/lib/site_perl/5.43.3/Test/WWW/Mechanize/PSGI.pm line 46
	Test::WWW::Mechanize::PSGI::try {...} () called at /home/cpan/bin/perl/lib/site_perl/5.43.3/Try/Tiny.pm line 102
	eval {...} called at /home/cpan/bin/perl/lib/site_perl/5.43.3/Try/Tiny.pm line 93
	Try::Tiny::try(CODE(0x802aa1030), Try::Tiny::Catch=REF(0x802aa4eb8)) called at /home/cpan/bin/perl/lib/site_perl/5.43.3/Test/WWW/Mechanize/PSGI.pm line 53
	Test::WWW::Mechanize::PSGI::simple_request(Test::WWW::Mechanize::PSGI=HASH(0x8017fd228), HTTP::Request=HASH(0x802ad4978), undef, undef) called at /home/cpan/bin/perl/lib/site_perl/5.43.3/LWP/UserAgent.pm line 310
	LWP::UserAgent::request(Test::WWW::Mechanize::PSGI=HASH(0x8017fd228), HTTP::Request=HASH(0x802ad4978)) called at /home/cpan/bin/perl/lib/site_perl/5.43.3/WWW/Mechanize.pm line 1699
	WWW::Mechanize::_make_request(Test::WWW::Mechanize::PSGI=HASH(0x8017fd228), HTTP::Request=HASH(0x802ad4978)) called at /home/cpan/bin/perl/lib/site_perl/5.43.3/WWW/Mechanize.pm line 1534
	WWW::Mechanize::request(Test::WWW::Mechanize::PSGI=HASH(0x8017fd228), HTTP::Request=HASH(0x802ad4978)) called at /home/cpan/bin/perl/lib/site_perl/5.43.3/LWP/UserAgent.pm line 454
	LWP::UserAgent::get(Test::WWW::Mechanize::PSGI=HASH(0x8017fd228), "http://localhost/wishlist") called at /home/cpan/bin/perl/lib/site_perl/5.43.3/WWW/Mechanize.pm line 124
	WWW::Mechanize::get(Test::WWW::Mechanize::PSGI=HASH(0x8017fd228), "/wishlist") called at /home/cpan/bin/perl/lib/site_perl/5.43.3/Test/WWW/Mechanize.pm line 192
	Test::WWW::Mechanize::get_ok(Test::WWW::Mechanize::PSGI=HASH(0x8017fd228), "/wishlist", "Wishlist is still available") called at t/03_mech.t line 85
Secret string too short at /usr/home/cpan/.cpan/build/HTTP-Session2-1.10-0/blib/lib/HTTP/Session2/Base.pm line 79.
	HTTP::Session2::Base::__ANON__(HTTP::Session2::ServerStore=HASH(0x802ad4e10), "s3cret") called at t/03_mech.t line 121
	main::server_session(HASH(0x802ad4e28)) called at t/03_mech.t line 17
	main::__ANON__(HASH(0x802ad4e28)) called at /home/cpan/bin/perl/lib/site_perl/5.43.3/Test/WWW/Mechanize/PSGI.pm line 46
	Test::WWW::Mechanize::PSGI::try {...} () called at /home/cpan/bin/perl/lib/site_perl/5.43.3/Try/Tiny.pm line 102
	eval {...} called at /home/cpan/bin/perl/lib/site_perl/5.43.3/Try/Tiny.pm line 93
	Try::Tiny::try(CODE(0x802aa41c8), Try::Tiny::Catch=REF(0x802ad45e8)) called at /home/cpan/bin/perl/lib/site_perl/5.43.3/Test/WWW/Mechanize/PSGI.pm line 53
	Test::WWW::Mechanize::PSGI::simple_request(Test::WWW::Mechanize::PSGI=HASH(0x8017fd228), HTTP::Request=HASH(0x802ad4be8), undef, undef) called at /home/cpan/bin/perl/lib/site_perl/5.43.3/LWP/UserAgent.pm line 310
	LWP::UserAgent::request(Test::WWW::Mechanize::PSGI=HASH(0x8017fd228), HTTP::Request=HASH(0x802ad4be8)) called at /home/cpan/bin/perl/lib/site_perl/5.43.3/WWW/Mechanize.pm line 1699
	WWW::Mechanize::_make_request(Test::WWW::Mechanize::PSGI=HASH(0x8017fd228), HTTP::Request=HASH(0x802ad4be8)) called at /home/cpan/bin/perl/lib/site_perl/5.43.3/WWW/Mechanize.pm line 1534
	WWW::Mechanize::request(Test::WWW::Mechanize::PSGI=HASH(0x8017fd228), HTTP::Request=HASH(0x802ad4be8)) called at /home/cpan/bin/perl/lib/site_perl/5.43.3/LWP/UserAgent.pm line 500
	LWP::UserAgent::post(Test::WWW::Mechanize::PSGI=HASH(0x8017fd228), "http://localhost/wishlist?baz") called at /home/cpan/bin/perl/lib/site_perl/5.43.3/WWW/Mechanize.pm line 136
	WWW::Mechanize::post(Test::WWW::Mechanize::PSGI=HASH(0x8017fd228), "/wishlist?baz") called at t/03_mech.t line 87
Secret string too short at /usr/home/cpan/.cpan/build/HTTP-Session2-1.10-0/blib/lib/HTTP/Session2/Base.pm line 79.
	HTTP::Session2::Base::__ANON__(HTTP::Session2::ServerStore=HASH(0x802ad71b0), "s3cret") called at t/03_mech.t line 121
	main::server_session(HASH(0x802ad4870)) called at t/03_mech.t line 17
	main::__ANON__(HASH(0x802ad4870)) called at /home/cpan/bin/perl/lib/site_perl/5.43.3/Test/WWW/Mechanize/PSGI.pm line 46
	Test::WWW::Mechanize::PSGI::try {...} () called at /home/cpan/bin/perl/lib/site_perl/5.43.3/Try/Tiny.pm line 102
	eval {...} called at /home/cpan/bin/perl/lib/site_perl/5.43.3/Try/Tiny.pm line 93
	Try::Tiny::try(CODE(0x802aa4be8), Try::Tiny::Catch=REF(0x802ad4c48)) called at /home/cpan/bin/perl/lib/site_perl/5.43.3/Test/WWW/Mechanize/PSGI.pm line 53
	Test::WWW::Mechanize::PSGI::simple_request(Test::WWW::Mechanize::PSGI=HASH(0x8017fd228), HTTP::Request=HASH(0x802aa46f0), undef, undef) called at /home/cpan/bin/perl/lib/site_perl/5.43.3/LWP/UserAgent.pm line 310
	LWP::UserAgent::request(Test::WWW::Mechanize::PSGI=HASH(0x8017fd228), HTTP::Request=HASH(0x802aa46f0)) called at /home/cpan/bin/perl/lib/site_perl/5.43.3/WWW/Mechanize.pm line 1699
	WWW::Mechanize::_make_request(Test::WWW::Mechanize::PSGI=HASH(0x8017fd228), HTTP::Request=HASH(0x802aa46f0)) called at /home/cpan/bin/perl/lib/site_perl/5.43.3/WWW/Mechanize.pm line 1534
	WWW::Mechanize::request(Test::WWW::Mechanize::PSGI=HASH(0x8017fd228), HTTP::Request=HASH(0x802aa46f0)) called at /home/cpan/bin/perl/lib/site_perl/5.43.3/LWP/UserAgent.pm line 500
	LWP::UserAgent::post(Test::WWW::Mechanize::PSGI=HASH(0x8017fd228), "http://localhost/wishlist?baz", HASH(0x802538798)) called at /home/cpan/bin/perl/lib/site_perl/5.43.3/WWW/Mechanize.pm line 136
	WWW::Mechanize::post(Test::WWW::Mechanize::PSGI=HASH(0x8017fd228), "/wishlist?baz", HASH(0x802538798)) called at /home/cpan/bin/perl/lib/site_perl/5.43.3/Test/WWW/Mechanize.pm line 321
	Test::WWW::Mechanize::post_ok(Test::WWW::Mechanize::PSGI=HASH(0x8017fd228), "/wishlist?baz") called at t/03_mech.t line 90
Secret string too short at /usr/home/cpan/.cpan/build/HTTP-Session2-1.10-0/blib/lib/HTTP/Session2/Base.pm line 79.
	HTTP::Session2::Base::__ANON__(HTTP::Session2::ServerStore=HASH(0x802ad7618), "s3cret") called at t/03_mech.t line 121
	main::server_session(HASH(0x802ad4b28)) called at t/03_mech.t line 17
	main::__ANON__(HASH(0x802ad4b28)) called at /home/cpan/bin/perl/lib/site_perl/5.43.3/Test/WWW/Mechanize/PSGI.pm line 46
	Test::WWW::Mechanize::PSGI::try {...} () called at /home/cpan/bin/perl/lib/site_perl/5.43.3/Try/Tiny.pm line 102
	eval {...} called at /home/cpan/bin/perl/lib/site_perl/5.43.3/Try/Tiny.pm line 93
	Try::Tiny::try(CODE(0x802ad79c0), Try::Tiny::Catch=REF(0x802ad4b10)) called at /home/cpan/bin/perl/lib/site_perl/5.43.3/Test/WWW/Mechanize/PSGI.pm line 53
	Test::WWW::Mechanize::PSGI::simple_request(Test::WWW::Mechanize::PSGI=HASH(0x8017fd228), HTTP::Request=HASH(0x802ad40f0), undef, undef) called at /home/cpan/bin/perl/lib/site_perl/5.43.3/LWP/UserAgent.pm line 310
	LWP::UserAgent::request(Test::WWW::Mechanize::PSGI=HASH(0x8017fd228), HTTP::Request=HASH(0x802ad40f0)) called at /home/cpan/bin/perl/lib/site_perl/5.43.3/WWW/Mechanize.pm line 1699
	WWW::Mechanize::_make_request(Test::WWW::Mechanize::PSGI=HASH(0x8017fd228), HTTP::Request=HASH(0x802ad40f0)) called at /home/cpan/bin/perl/lib/site_perl/5.43.3/WWW/Mechanize.pm line 1534
	WWW::Mechanize::request(Test::WWW::Mechanize::PSGI=HASH(0x8017fd228), HTTP::Request=HASH(0x802ad40f0)) called at /home/cpan/bin/perl/lib/site_perl/5.43.3/LWP/UserAgent.pm line 454
	LWP::UserAgent::get(Test::WWW::Mechanize::PSGI=HASH(0x8017fd228), "http://localhost/wishlist") called at /home/cpan/bin/perl/lib/site_perl/5.43.3/WWW/Mechanize.pm line 124
	WWW::Mechanize::get(Test::WWW::Mechanize::PSGI=HASH(0x8017fd228), "/wishlist") called at /home/cpan/bin/perl/lib/site_perl/5.43.3/Test/WWW/Mechanize.pm line 192
	Test::WWW::Mechanize::get_ok(Test::WWW::Mechanize::PSGI=HASH(0x8017fd228), "/wishlist", "Wishlist is still available") called at t/03_mech.t line 91
Secret string too short at /usr/home/cpan/.cpan/build/HTTP-Session2-1.10-0/blib/lib/HTTP/Session2/Base.pm line 79.
	HTTP::Session2::Base::__ANON__(HTTP::Session2::ServerStore=HASH(0x802ad7ae0), "s3cret") called at t/03_mech.t line 121
	main::server_session(HASH(0x802ad4f30)) called at t/03_mech.t line 17
	main::__ANON__(HASH(0x802ad4f30)) called at /home/cpan/bin/perl/lib/site_perl/5.43.3/Test/WWW/Mechanize/PSGI.pm line 46
	Test::WWW::Mechanize::PSGI::try {...} () called at /home/cpan/bin/perl/lib/site_perl/5.43.3/Try/Tiny.pm line 102
	eval {...} called at /home/cpan/bin/perl/lib/site_perl/5.43.3/Try/Tiny.pm line 93
	Try::Tiny::try(CODE(0x802ad4a98), Try::Tiny::Catch=REF(0x802ad7438)) called at /home/cpan/bin/perl/lib/site_perl/5.43.3/Test/WWW/Mechanize/PSGI.pm line 53
	Test::WWW::Mechanize::PSGI::simple_request(Test::WWW::Mechanize::PSGI=HASH(0x8017fd228), HTTP::Request=HASH(0x802ad7948), undef, undef) called at /home/cpan/bin/perl/lib/site_perl/5.43.3/LWP/UserAgent.pm line 310
	LWP::UserAgent::request(Test::WWW::Mechanize::PSGI=HASH(0x8017fd228), HTTP::Request=HASH(0x802ad7948)) called at /home/cpan/bin/perl/lib/site_perl/5.43.3/WWW/Mechanize.pm line 1699
	WWW::Mechanize::_make_request(Test::WWW::Mechanize::PSGI=HASH(0x8017fd228), HTTP::Request=HASH(0x802ad7948)) called at /home/cpan/bin/perl/lib/site_perl/5.43.3/WWW/Mechanize.pm line 1534
	WWW::Mechanize::request(Test::WWW::Mechanize::PSGI=HASH(0x8017fd228), HTTP::Request=HASH(0x802ad7948)) called at /home/cpan/bin/perl/lib/site_perl/5.43.3/LWP/UserAgent.pm line 454
	LWP::UserAgent::get(Test::WWW::Mechanize::PSGI=HASH(0x8017fd228), "http://localhost/my/name") called at /home/cpan/bin/perl/lib/site_perl/5.43.3/WWW/Mechanize.pm line 124
	WWW::Mechanize::get(Test::WWW::Mechanize::PSGI=HASH(0x8017fd228), "/my/name") called at /home/cpan/bin/perl/lib/site_perl/5.43.3/Test/WWW/Mechanize.pm line 192
	Test::WWW::Mechanize::get_ok(Test::WWW::Mechanize::PSGI=HASH(0x8017fd228), "/my/name") called at t/03_mech.t line 93
Secret string too short at /usr/home/cpan/.cpan/build/HTTP-Session2-1.10-0/blib/lib/HTTP/Session2/Base.pm line 79.
	HTTP::Session2::Base::__ANON__(HTTP::Session2::ServerStore=HASH(0x802ad72d0), "s3cret") called at t/03_mech.t line 121
	main::server_session(HASH(0x802ad7d50)) called at t/03_mech.t line 17
	main::__ANON__(HASH(0x802ad7d50)) called at /home/cpan/bin/perl/lib/site_perl/5.43.3/Test/WWW/Mechanize/PSGI.pm line 46
	Test::WWW::Mechanize::PSGI::try {...} () called at /home/cpan/bin/perl/lib/site_perl/5.43.3/Try/Tiny.pm line 102
	eval {...} called at /home/cpan/bin/perl/lib/site_perl/5.43.3/Try/Tiny.pm line 93
	Try::Tiny::try(CODE(0x802ad7360), Try::Tiny::Catch=REF(0x802ad7ab0)) called at /home/cpan/bin/perl/lib/site_perl/5.43.3/Test/WWW/Mechanize/PSGI.pm line 53
	Test::WWW::Mechanize::PSGI::simple_request(Test::WWW::Mechanize::PSGI=HASH(0x8017fd228), HTTP::Request=HASH(0x802ad7900), undef, undef) called at /home/cpan/bin/perl/lib/site_perl/5.43.3/LWP/UserAgent.pm line 310
	LWP::UserAgent::request(Test::WWW::Mechanize::PSGI=HASH(0x8017fd228), HTTP::Request=HASH(0x802ad7900)) called at /home/cpan/bin/perl/lib/site_perl/5.43.3/WWW/Mechanize.pm line 1699
	WWW::Mechanize::_make_request(Test::WWW::Mechanize::PSGI=HASH(0x8017fd228), HTTP::Request=HASH(0x802ad7900)) called at /home/cpan/bin/perl/lib/site_perl/5.43.3/WWW/Mechanize.pm line 1534
	WWW::Mechanize::request(Test::WWW::Mechanize::PSGI=HASH(0x8017fd228), HTTP::Request=HASH(0x802ad7900)) called at /home/cpan/bin/perl/lib/site_perl/5.43.3/LWP/UserAgent.pm line 500
	LWP::UserAgent::post(Test::WWW::Mechanize::PSGI=HASH(0x8017fd228), "http://localhost/account/logout?john") called at /home/cpan/bin/perl/lib/site_perl/5.43.3/WWW/Mechanize.pm line 136
	WWW::Mechanize::post(Test::WWW::Mechanize::PSGI=HASH(0x8017fd228), "/account/logout?john") called at t/03_mech.t line 97
Secret string too short at /usr/home/cpan/.cpan/build/HTTP-Session2-1.10-0/blib/lib/HTTP/Session2/Base.pm line 79.
	HTTP::Session2::Base::__ANON__(HTTP::Session2::ClientStore=HASH(0x802aa44e0), "s3cret") called at t/03_mech.t line 127
	main::client_session(HASH(0x802ada1c8)) called at t/03_mech.t line 17
	main::__ANON__(HASH(0x802ada1c8)) called at /home/cpan/bin/perl/lib/site_perl/5.43.3/Test/WWW/Mechanize/PSGI.pm line 46
	Test::WWW::Mechanize::PSGI::try {...} () called at /home/cpan/bin/perl/lib/site_perl/5.43.3/Try/Tiny.pm line 102
	eval {...} called at /home/cpan/bin/perl/lib/site_perl/5.43.3/Try/Tiny.pm line 93
	Try::Tiny::try(CODE(0x802aa1738), Try::Tiny::Catch=REF(0x8017fd2d0)) called at /home/cpan/bin/perl/lib/site_perl/5.43.3/Test/WWW/Mechanize/PSGI.pm line 53
	Test::WWW::Mechanize::PSGI::simple_request(Test::WWW::Mechanize::PSGI=HASH(0x802aa4ed0), HTTP::Request=HASH(0x802a9ff78), undef, undef) called at /home/cpan/bin/perl/lib/site_perl/5.43.3/LWP/UserAgent.pm line 310
	LWP::UserAgent::request(Test::WWW::Mechanize::PSGI=HASH(0x802aa4ed0), HTTP::Request=HASH(0x802a9ff78)) called at /home/cpan/bin/perl/lib/site_perl/5.43.3/WWW/Mechanize.pm line 1699
	WWW::Mechanize::_make_request(Test::WWW::Mechanize::PSGI=HASH(0x802aa4ed0), HTTP::Request=HASH(0x802a9ff78)) called at /home/cpan/bin/perl/lib/site_perl/5.43.3/WWW/Mechanize.pm line 1534
	WWW::Mechanize::request(Test::WWW::Mechanize::PSGI=HASH(0x802aa4ed0), HTTP::Request=HASH(0x802a9ff78)) called at /home/cpan/bin/perl/lib/site_perl/5.43.3/LWP/UserAgent.pm line 454
	LWP::UserAgent::get(Test::WWW::Mechanize::PSGI=HASH(0x802aa4ed0), "/") called at /home/cpan/bin/perl/lib/site_perl/5.43.3/WWW/Mechanize.pm line 124
	WWW::Mechanize::get(Test::WWW::Mechanize::PSGI=HASH(0x802aa4ed0), "/") called at /home/cpan/bin/perl/lib/site_perl/5.43.3/Test/WWW/Mechanize.pm line 192
	Test::WWW::Mechanize::get_ok(Test::WWW::Mechanize::PSGI=HASH(0x802aa4ed0), "/") called at t/03_mech.t line 74
Secret string too short at /usr/home/cpan/.cpan/build/HTTP-Session2-1.10-0/blib/lib/HTTP/Session2/Base.pm line 79.
	HTTP::Session2::Base::__ANON__(HTTP::Session2::ClientStore=HASH(0x802aa1ee8), "s3cret") called at t/03_mech.t line 127
	main::client_session(HASH(0x802ad4510)) called at t/03_mech.t line 17
	main::__ANON__(HASH(0x802ad4510)) called at /home/cpan/bin/perl/lib/site_perl/5.43.3/Test/WWW/Mechanize/PSGI.pm line 46
	Test::WWW::Mechanize::PSGI::try {...} () called at /home/cpan/bin/perl/lib/site_perl/5.43.3/Try/Tiny.pm line 102
	eval {...} called at /home/cpan/bin/perl/lib/site_perl/5.43.3/Try/Tiny.pm line 93
	Try::Tiny::try(CODE(0x802aa1528), Try::Tiny::Catch=REF(0x802aa4a20)) called at /home/cpan/bin/perl/lib/site_perl/5.43.3/Test/WWW/Mechanize/PSGI.pm line 53
	Test::WWW::Mechanize::PSGI::simple_request(Test::WWW::Mechanize::PSGI=HASH(0x802aa4ed0), HTTP::Request=HASH(0x802aa1600), undef, undef) called at /home/cpan/bin/perl/lib/site_perl/5.43.3/LWP/UserAgent.pm line 310
	LWP::UserAgent::request(Test::WWW::Mechanize::PSGI=HASH(0x802aa4ed0), HTTP::Request=HASH(0x802aa1600)) called at /home/cpan/bin/perl/lib/site_perl/5.43.3/WWW/Mechanize.pm line 1699
	WWW::Mechanize::_make_request(Test::WWW::Mechanize::PSGI=HASH(0x802aa4ed0), HTTP::Request=HASH(0x802aa1600)) called at /home/cpan/bin/perl/lib/site_perl/5.43.3/WWW/Mechanize.pm line 1534
	WWW::Mechanize::request(Test::WWW::Mechanize::PSGI=HASH(0x802aa4ed0), HTTP::Request=HASH(0x802aa1600)) called at /home/cpan/bin/perl/lib/site_perl/5.43.3/LWP/UserAgent.pm line 500
	LWP::UserAgent::post(Test::WWW::Mechanize::PSGI=HASH(0x802aa4ed0), "http://localhost/wishlist?foo", HASH(0x802538798)) called at /home/cpan/bin/perl/lib/site_perl/5.43.3/WWW/Mechanize.pm line 136
	WWW::Mechanize::post(Test::WWW::Mechanize::PSGI=HASH(0x802aa4ed0), "/wishlist?foo", HASH(0x802538798)) called at /home/cpan/bin/perl/lib/site_perl/5.43.3/Test/WWW/Mechanize.pm line 321
	Test::WWW::Mechanize::post_ok(Test::WWW::Mechanize::PSGI=HASH(0x802aa4ed0), "/wishlist?foo") called at t/03_mech.t line 75
Do not use HTTP::Session2::ClientStore. Use HTTP::Session2::ServerStore or HTTP::Session2::ClientStore2 instead. at /usr/home/cpan/.cpan/build/HTTP-Session2-1.10-0/blib/lib/HTTP/Session2/ClientStore.pm line 25.
Secret string too short at /usr/home/cpan/.cpan/build/HTTP-Session2-1.10-0/blib/lib/HTTP/Session2/Base.pm line 79.
	HTTP::Session2::Base::__ANON__(HTTP::Session2::ClientStore=HASH(0x802ad4108), "s3cret") called at t/03_mech.t line 127
	main::client_session(HASH(0x802aa41b0)) called at t/03_mech.t line 17
	main::__ANON__(HASH(0x802aa41b0)) called at /home/cpan/bin/perl/lib/site_perl/5.43.3/Test/WWW/Mechanize/PSGI.pm line 46
	Test::WWW::Mechanize::PSGI::try {...} () called at /home/cpan/bin/perl/lib/site_perl/5.43.3/Try/Tiny.pm line 102
	eval {...} called at /home/cpan/bin/perl/lib/site_perl/5.43.3/Try/Tiny.pm line 93
	Try::Tiny::try(CODE(0x802ad7f90), Try::Tiny::Catch=REF(0x802aa1f30)) called at /home/cpan/bin/perl/lib/site_perl/5.43.3/Test/WWW/Mechanize/PSGI.pm line 53
	Test::WWW::Mechanize::PSGI::simple_request(Test::WWW::Mechanize::PSGI=HASH(0x802aa4ed0), HTTP::Request=HASH(0x802ada318), undef, undef) called at /home/cpan/bin/perl/lib/site_perl/5.43.3/LWP/UserAgent.pm line 310
	LWP::UserAgent::request(Test::WWW::Mechanize::PSGI=HASH(0x802aa4ed0), HTTP::Request=HASH(0x802ada318)) called at /home/cpan/bin/perl/lib/site_perl/5.43.3/WWW/Mechanize.pm line 1699
	WWW::Mechanize::_make_request(Test::WWW::Mechanize::PSGI=HASH(0x802aa4ed0), HTTP::Request=HASH(0x802ada318)) called at /home/cpan/bin/perl/lib/site_perl/5.43.3/WWW/Mechanize.pm line 1534
	WWW::Mechanize::request(Test::WWW::Mechanize::PSGI=HASH(0x802aa4ed0), HTTP::Request=HASH(0x802ada318)) called at /home/cpan/bin/perl/lib/site_perl/5.43.3/LWP/UserAgent.pm line 454
	LWP::UserAgent::get(Test::WWW::Mechanize::PSGI=HASH(0x802aa4ed0), "http://localhost/wishlist") called at /home/cpan/bin/perl/lib/site_perl/5.43.3/WWW/Mechanize.pm line 124
	WWW::Mechanize::get(Test::WWW::Mechanize::PSGI=HASH(0x802aa4ed0), "/wishlist") called at /home/cpan/bin/perl/lib/site_perl/5.43.3/Test/WWW/Mechanize.pm line 192
	Test::WWW::Mechanize::get_ok(Test::WWW::Mechanize::PSGI=HASH(0x802aa4ed0), "/wishlist") called at t/03_mech.t line 76
Do not use HTTP::Session2::ClientStore. Use HTTP::Session2::ServerStore or HTTP::Session2::ClientStore2 instead. at /usr/home/cpan/.cpan/build/HTTP-Session2-1.10-0/blib/lib/HTTP/Session2/ClientStore.pm line 35.
Secret string too short at /usr/home/cpan/.cpan/build/HTTP-Session2-1.10-0/blib/lib/HTTP/Session2/Base.pm line 79.
	HTTP::Session2::Base::__ANON__(HTTP::Session2::ClientStore=HASH(0x802ad42a0), "s3cret") called at t/03_mech.t line 127
	main::client_session(HASH(0x802ad4f90)) called at t/03_mech.t line 17
	main::__ANON__(HASH(0x802ad4f90)) called at /home/cpan/bin/perl/lib/site_perl/5.43.3/Test/WWW/Mechanize/PSGI.pm line 46
	Test::WWW::Mechanize::PSGI::try {...} () called at /home/cpan/bin/perl/lib/site_perl/5.43.3/Try/Tiny.pm line 102
	eval {...} called at /home/cpan/bin/perl/lib/site_perl/5.43.3/Try/Tiny.pm line 93
	Try::Tiny::try(CODE(0x802aa1f30), Try::Tiny::Catch=REF(0x802aa4918)) called at /home/cpan/bin/perl/lib/site_perl/5.43.3/Test/WWW/Mechanize/PSGI.pm line 53
	Test::WWW::Mechanize::PSGI::simple_request(Test::WWW::Mechanize::PSGI=HASH(0x802aa4ed0), HTTP::Request=HASH(0x802ad4018), undef, undef) called at /home/cpan/bin/perl/lib/site_perl/5.43.3/LWP/UserAgent.pm line 310
	LWP::UserAgent::request(Test::WWW::Mechanize::PSGI=HASH(0x802aa4ed0), HTTP::Request=HASH(0x802ad4018)) called at /home/cpan/bin/perl/lib/site_perl/5.43.3/WWW/Mechanize.pm line 1699
	WWW::Mechanize::_make_request(Test::WWW::Mechanize::PSGI=HASH(0x802aa4ed0), HTTP::Request=HASH(0x802ad4018)) called at /home/cpan/bin/perl/lib/site_perl/5.43.3/WWW/Mechanize.pm line 1534
	WWW::Mechanize::request(Test::WWW::Mechanize::PSGI=HASH(0x802aa4ed0), HTTP::Request=HASH(0x802ad4018)) called at /home/cpan/bin/perl/lib/site_perl/5.43.3/LWP/UserAgent.pm line 500
	LWP::UserAgent::post(Test::WWW::Mechanize::PSGI=HASH(0x802aa4ed0), "http://localhost/wishlist?bar") called at /home/cpan/bin/perl/lib/site_perl/5.43.3/WWW/Mechanize.pm line 136
	WWW::Mechanize::post(Test::WWW::Mechanize::PSGI=HASH(0x802aa4ed0), "/wishlist?bar") called at t/03_mech.t line 78
Do not use HTTP::Session2::ClientStore. Use HTTP::Session2::ServerStore or HTTP::Session2::ClientStore2 instead. at /usr/home/cpan/.cpan/build/HTTP-Session2-1.10-0/blib/lib/HTTP/Session2/ClientStore.pm line 35.
Secret string too short at /usr/home/cpan/.cpan/build/HTTP-Session2-1.10-0/blib/lib/HTTP/Session2/Base.pm line 79.
	HTTP::Session2::Base::__ANON__(HTTP::Session2::ClientStore=HASH(0x802ad7630), "s3cret") called at t/03_mech.t line 127
	main::client_session(HASH(0x802ad7390)) called at t/03_mech.t line 17
	main::__ANON__(HASH(0x802ad7390)) called at /home/cpan/bin/perl/lib/site_perl/5.43.3/Test/WWW/Mechanize/PSGI.pm line 46
	Test::WWW::Mechanize::PSGI::try {...} () called at /home/cpan/bin/perl/lib/site_perl/5.43.3/Try/Tiny.pm line 102
	eval {...} called at /home/cpan/bin/perl/lib/site_perl/5.43.3/Try/Tiny.pm line 93
	Try::Tiny::try(CODE(0x802aa13f0), Try::Tiny::Catch=REF(0x802aa14e0)) called at /home/cpan/bin/perl/lib/site_perl/5.43.3/Test/WWW/Mechanize/PSGI.pm line 53
	Test::WWW::Mechanize::PSGI::simple_request(Test::WWW::Mechanize::PSGI=HASH(0x802aa4ed0), HTTP::Request=HASH(0x802ad76d8), undef, undef) called at /home/cpan/bin/perl/lib/site_perl/5.43.3/LWP/UserAgent.pm line 310
	LWP::UserAgent::request(Test::WWW::Mechanize::PSGI=HASH(0x802aa4ed0), HTTP::Request=HASH(0x802ad76d8)) called at /home/cpan/bin/perl/lib/site_perl/5.43.3/WWW/Mechanize.pm line 1699
	WWW::Mechanize::_make_request(Test::WWW::Mechanize::PSGI=HASH(0x802aa4ed0), HTTP::Request=HASH(0x802ad76d8)) called at /home/cpan/bin/perl/lib/site_perl/5.43.3/WWW/Mechanize.pm line 1534
	WWW::Mechanize::request(Test::WWW::Mechanize::PSGI=HASH(0x802aa4ed0), HTTP::Request=HASH(0x802ad76d8)) called at /home/cpan/bin/perl/lib/site_perl/5.43.3/LWP/UserAgent.pm line 500
	LWP::UserAgent::post(Test::WWW::Mechanize::PSGI=HASH(0x802aa4ed0), "http://localhost/wishlist?bar", HASH(0x802538798)) called at /home/cpan/bin/perl/lib/site_perl/5.43.3/WWW/Mechanize.pm line 136
	WWW::Mechanize::post(Test::WWW::Mechanize::PSGI=HASH(0x802aa4ed0), "/wishlist?bar", HASH(0x802538798)) called at /home/cpan/bin/perl/lib/site_perl/5.43.3/Test/WWW/Mechanize.pm line 321
	Test::WWW::Mechanize::post_ok(Test::WWW::Mechanize::PSGI=HASH(0x802aa4ed0), "/wishlist?bar") called at t/03_mech.t line 81
Do not use HTTP::Session2::ClientStore. Use HTTP::Session2::ServerStore or HTTP::Session2::ClientStore2 instead. at /usr/home/cpan/.cpan/build/HTTP-Session2-1.10-0/blib/lib/HTTP/Session2/ClientStore.pm line 35.
Do not use HTTP::Session2::ClientStore. Use HTTP::Session2::ServerStore or HTTP::Session2::ClientStore2 instead. at /usr/home/cpan/.cpan/build/HTTP-Session2-1.10-0/blib/lib/HTTP/Session2/ClientStore.pm line 25.
Secret string too short at /usr/home/cpan/.cpan/build/HTTP-Session2-1.10-0/blib/lib/HTTP/Session2/Base.pm line 79.
	HTTP::Session2::Base::__ANON__(HTTP::Session2::ClientStore=HASH(0x802aa4330), "s3cret") called at t/03_mech.t line 127
	main::client_session(HASH(0x802aa4930)) called at t/03_mech.t line 17
	main::__ANON__(HASH(0x802aa4930)) called at /home/cpan/bin/perl/lib/site_perl/5.43.3/Test/WWW/Mechanize/PSGI.pm line 46
	Test::WWW::Mechanize::PSGI::try {...} () called at /home/cpan/bin/perl/lib/site_perl/5.43.3/Try/Tiny.pm line 102
	eval {...} called at /home/cpan/bin/perl/lib/site_perl/5.43.3/Try/Tiny.pm line 93
	Try::Tiny::try(CODE(0x802a9f4e0), Try::Tiny::Catch=REF(0x802ad4b88)) called at /home/cpan/bin/perl/lib/site_perl/5.43.3/Test/WWW/Mechanize/PSGI.pm line 53
	Test::WWW::Mechanize::PSGI::simple_request(Test::WWW::Mechanize::PSGI=HASH(0x802aa4ed0), HTTP::Request=HASH(0x8017fd270), undef, undef) called at /home/cpan/bin/perl/lib/site_perl/5.43.3/LWP/UserAgent.pm line 310
	LWP::UserAgent::request(Test::WWW::Mechanize::PSGI=HASH(0x802aa4ed0), HTTP::Request=HASH(0x8017fd270)) called at /home/cpan/bin/perl/lib/site_perl/5.43.3/WWW/Mechanize.pm line 1699
	WWW::Mechanize::_make_request(Test::WWW::Mechanize::PSGI=HASH(0x802aa4ed0), HTTP::Request=HASH(0x8017fd270)) called at /home/cpan/bin/perl/lib/site_perl/5.43.3/WWW/Mechanize.pm line 1534
	WWW::Mechanize::request(Test::WWW::Mechanize::PSGI=HASH(0x802aa4ed0), HTTP::Request=HASH(0x8017fd270)) called at /home/cpan/bin/perl/lib/site_perl/5.43.3/LWP/UserAgent.pm line 454
	LWP::UserAgent::get(Test::WWW::Mechanize::PSGI=HASH(0x802aa4ed0), "http://localhost/wishlist") called at /home/cpan/bin/perl/lib/site_perl/5.43.3/WWW/Mechanize.pm line 124
	WWW::Mechanize::get(Test::WWW::Mechanize::PSGI=HASH(0x802aa4ed0), "/wishlist") called at /home/cpan/bin/perl/lib/site_perl/5.43.3/Test/WWW/Mechanize.pm line 192
	Test::WWW::Mechanize::get_ok(Test::WWW::Mechanize::PSGI=HASH(0x802aa4ed0), "/wishlist") called at t/03_mech.t line 82
Do not use HTTP::Session2::ClientStore. Use HTTP::Session2::ServerStore or HTTP::Session2::ClientStore2 instead. at /usr/home/cpan/.cpan/build/HTTP-Session2-1.10-0/blib/lib/HTTP/Session2/ClientStore.pm line 35.
Secret string too short at /usr/home/cpan/.cpan/build/HTTP-Session2-1.10-0/blib/lib/HTTP/Session2/Base.pm line 79.
	HTTP::Session2::Base::__ANON__(HTTP::Session2::ClientStore=HASH(0x802ad78e8), "s3cret") called at t/03_mech.t line 127
	main::client_session(HASH(0x8017fd8e8)) called at t/03_mech.t line 17
	main::__ANON__(HASH(0x8017fd8e8)) called at /home/cpan/bin/perl/lib/site_perl/5.43.3/Test/WWW/Mechanize/PSGI.pm line 46
	Test::WWW::Mechanize::PSGI::try {...} () called at /home/cpan/bin/perl/lib/site_perl/5.43.3/Try/Tiny.pm line 102
	eval {...} called at /home/cpan/bin/perl/lib/site_perl/5.43.3/Try/Tiny.pm line 93
	Try::Tiny::try(CODE(0x802ad4720), Try::Tiny::Catch=REF(0x8017fd138)) called at /home/cpan/bin/perl/lib/site_perl/5.43.3/Test/WWW/Mechanize/PSGI.pm line 53
	Test::WWW::Mechanize::PSGI::simple_request(Test::WWW::Mechanize::PSGI=HASH(0x802aa4ed0), HTTP::Request=HASH(0x802ad74f8), undef, undef) called at /home/cpan/bin/perl/lib/site_perl/5.43.3/LWP/UserAgent.pm line 310
	LWP::UserAgent::request(Test::WWW::Mechanize::PSGI=HASH(0x802aa4ed0), HTTP::Request=HASH(0x802ad74f8)) called at /home/cpan/bin/perl/lib/site_perl/5.43.3/WWW/Mechanize.pm line 1699
	WWW::Mechanize::_make_request(Test::WWW::Mechanize::PSGI=HASH(0x802aa4ed0), HTTP::Request=HASH(0x802ad74f8)) called at /home/cpan/bin/perl/lib/site_perl/5.43.3/WWW/Mechanize.pm line 1534
	WWW::Mechanize::request(Test::WWW::Mechanize::PSGI=HASH(0x802aa4ed0), HTTP::Request=HASH(0x802ad74f8)) called at /home/cpan/bin/perl/lib/site_perl/5.43.3/LWP/UserAgent.pm line 500
	LWP::UserAgent::post(Test::WWW::Mechanize::PSGI=HASH(0x802aa4ed0), "http://localhost/account/login?john", HASH(0x802538798)) called at /home/cpan/bin/perl/lib/site_perl/5.43.3/WWW/Mechanize.pm line 136
	WWW::Mechanize::post(Test::WWW::Mechanize::PSGI=HASH(0x802aa4ed0), "/account/login?john", HASH(0x802538798)) called at /home/cpan/bin/perl/lib/site_perl/5.43.3/Test/WWW/Mechanize.pm line 321
	Test::WWW::Mechanize::post_ok(Test::WWW::Mechanize::PSGI=HASH(0x802aa4ed0), "/account/login?john") called at t/03_mech.t line 84
Do not use HTTP::Session2::ClientStore. Use HTTP::Session2::ServerStore or HTTP::Session2::ClientStore2 instead. at /usr/home/cpan/.cpan/build/HTTP-Session2-1.10-0/blib/lib/HTTP/Session2/ClientStore.pm line 35.
Do not use HTTP::Session2::ClientStore. Use HTTP::Session2::ServerStore or HTTP::Session2::ClientStore2 instead. at /usr/home/cpan/.cpan/build/HTTP-Session2-1.10-0/blib/lib/HTTP/Session2/ClientStore.pm line 35.
Do not use HTTP::Session2::ClientStore. Use HTTP::Session2::ServerStore or HTTP::Session2::ClientStore2 instead. at /usr/home/cpan/.cpan/build/HTTP-Session2-1.10-0/blib/lib/HTTP/Session2/ClientStore.pm line 25.
Secret string too short at /usr/home/cpan/.cpan/build/HTTP-Session2-1.10-0/blib/lib/HTTP/Session2/Base.pm line 79.
	HTTP::Session2::Base::__ANON__(HTTP::Session2::ClientStore=HASH(0x800b12750), "s3cret") called at t/03_mech.t line 127
	main::client_session(HASH(0x802aa1648)) called at t/03_mech.t line 17
	main::__ANON__(HASH(0x802aa1648)) called at /home/cpan/bin/perl/lib/site_perl/5.43.3/Test/WWW/Mechanize/PSGI.pm line 46
	Test::WWW::Mechanize::PSGI::try {...} () called at /home/cpan/bin/perl/lib/site_perl/5.43.3/Try/Tiny.pm line 102
	eval {...} called at /home/cpan/bin/perl/lib/site_perl/5.43.3/Try/Tiny.pm line 93
	Try::Tiny::try(CODE(0x802aa45d0), Try::Tiny::Catch=REF(0x8029ac750)) called at /home/cpan/bin/perl/lib/site_perl/5.43.3/Test/WWW/Mechanize/PSGI.pm line 53
	Test::WWW::Mechanize::PSGI::simple_request(Test::WWW::Mechanize::PSGI=HASH(0x802aa4ed0), HTTP::Request=HASH(0x802ad74e0), undef, undef) called at /home/cpan/bin/perl/lib/site_perl/5.43.3/LWP/UserAgent.pm line 310
	LWP::UserAgent::request(Test::WWW::Mechanize::PSGI=HASH(0x802aa4ed0), HTTP::Request=HASH(0x802ad74e0)) called at /home/cpan/bin/perl/lib/site_perl/5.43.3/WWW/Mechanize.pm line 1699
	WWW::Mechanize::_make_request(Test::WWW::Mechanize::PSGI=HASH(0x802aa4ed0), HTTP::Request=HASH(0x802ad74e0)) called at /home/cpan/bin/perl/lib/site_perl/5.43.3/WWW/Mechanize.pm line 1534
	WWW::Mechanize::request(Test::WWW::Mechanize::PSGI=HASH(0x802aa4ed0), HTTP::Request=HASH(0x802ad74e0)) called at /home/cpan/bin/perl/lib/site_perl/5.43.3/LWP/UserAgent.pm line 454
	LWP::UserAgent::get(Test::WWW::Mechanize::PSGI=HASH(0x802aa4ed0), "http://localhost/wishlist") called at /home/cpan/bin/perl/lib/site_perl/5.43.3/WWW/Mechanize.pm line 124
	WWW::Mechanize::get(Test::WWW::Mechanize::PSGI=HASH(0x802aa4ed0), "/wishlist") called at /home/cpan/bin/perl/lib/site_perl/5.43.3/Test/WWW/Mechanize.pm line 192
	Test::WWW::Mechanize::get_ok(Test::WWW::Mechanize::PSGI=HASH(0x802aa4ed0), "/wishlist", "Wishlist is still available") called at t/03_mech.t line 85
Do not use HTTP::Session2::ClientStore. Use HTTP::Session2::ServerStore or HTTP::Session2::ClientStore2 instead. at /usr/home/cpan/.cpan/build/HTTP-Session2-1.10-0/blib/lib/HTTP/Session2/ClientStore.pm line 35.
Secret string too short at /usr/home/cpan/.cpan/build/HTTP-Session2-1.10-0/blib/lib/HTTP/Session2/Base.pm line 79.
	HTTP::Session2::Base::__ANON__(HTTP::Session2::ClientStore=HASH(0x802ad72a0), "s3cret") called at t/03_mech.t line 127
	main::client_session(HASH(0x802ad44c8)) called at t/03_mech.t line 17
	main::__ANON__(HASH(0x802ad44c8)) called at /home/cpan/bin/perl/lib/site_perl/5.43.3/Test/WWW/Mechanize/PSGI.pm line 46
	Test::WWW::Mechanize::PSGI::try {...} () called at /home/cpan/bin/perl/lib/site_perl/5.43.3/Try/Tiny.pm line 102
	eval {...} called at /home/cpan/bin/perl/lib/site_perl/5.43.3/Try/Tiny.pm line 93
	Try::Tiny::try(CODE(0x8029ac7f8), Try::Tiny::Catch=REF(0x8029a9d50)) called at /home/cpan/bin/perl/lib/site_perl/5.43.3/Test/WWW/Mechanize/PSGI.pm line 53
	Test::WWW::Mechanize::PSGI::simple_request(Test::WWW::Mechanize::PSGI=HASH(0x802aa4ed0), HTTP::Request=HASH(0x802aa1d20), undef, undef) called at /home/cpan/bin/perl/lib/site_perl/5.43.3/LWP/UserAgent.pm line 310
	LWP::UserAgent::request(Test::WWW::Mechanize::PSGI=HASH(0x802aa4ed0), HTTP::Request=HASH(0x802aa1d20)) called at /home/cpan/bin/perl/lib/site_perl/5.43.3/WWW/Mechanize.pm line 1699
	WWW::Mechanize::_make_request(Test::WWW::Mechanize::PSGI=HASH(0x802aa4ed0), HTTP::Request=HASH(0x802aa1d20)) called at /home/cpan/bin/perl/lib/site_perl/5.43.3/WWW/Mechanize.pm line 1534
	WWW::Mechanize::request(Test::WWW::Mechanize::PSGI=HASH(0x802aa4ed0), HTTP::Request=HASH(0x802aa1d20)) called at /home/cpan/bin/perl/lib/site_perl/5.43.3/LWP/UserAgent.pm line 500
	LWP::UserAgent::post(Test::WWW::Mechanize::PSGI=HASH(0x802aa4ed0), "http://localhost/wishlist?baz") called at /home/cpan/bin/perl/lib/site_perl/5.43.3/WWW/Mechanize.pm line 136
	WWW::Mechanize::post(Test::WWW::Mechanize::PSGI=HASH(0x802aa4ed0), "/wishlist?baz") called at t/03_mech.t line 87
Do not use HTTP::Session2::ClientStore. Use HTTP::Session2::ServerStore or HTTP::Session2::ClientStore2 instead. at /usr/home/cpan/.cpan/build/HTTP-Session2-1.10-0/blib/lib/HTTP/Session2/ClientStore.pm line 35.
Secret string too short at /usr/home/cpan/.cpan/build/HTTP-Session2-1.10-0/blib/lib/HTTP/Session2/Base.pm line 79.
	HTTP::Session2::Base::__ANON__(HTTP::Session2::ClientStore=HASH(0x802ad7570), "s3cret") called at t/03_mech.t line 127
	main::client_session(HASH(0x802ad7dc8)) called at t/03_mech.t line 17
	main::__ANON__(HASH(0x802ad7dc8)) called at /home/cpan/bin/perl/lib/site_perl/5.43.3/Test/WWW/Mechanize/PSGI.pm line 46
	Test::WWW::Mechanize::PSGI::try {...} () called at /home/cpan/bin/perl/lib/site_perl/5.43.3/Try/Tiny.pm line 102
	eval {...} called at /home/cpan/bin/perl/lib/site_perl/5.43.3/Try/Tiny.pm line 93
	Try::Tiny::try(CODE(0x802aa49f0), Try::Tiny::Catch=REF(0x802a9fc60)) called at /home/cpan/bin/perl/lib/site_perl/5.43.3/Test/WWW/Mechanize/PSGI.pm line 53
	Test::WWW::Mechanize::PSGI::simple_request(Test::WWW::Mechanize::PSGI=HASH(0x802aa4ed0), HTTP::Request=HASH(0x802ad7b88), undef, undef) called at /home/cpan/bin/perl/lib/site_perl/5.43.3/LWP/UserAgent.pm line 310
	LWP::UserAgent::request(Test::WWW::Mechanize::PSGI=HASH(0x802aa4ed0), HTTP::Request=HASH(0x802ad7b88)) called at /home/cpan/bin/perl/lib/site_perl/5.43.3/WWW/Mechanize.pm line 1699
	WWW::Mechanize::_make_request(Test::WWW::Mechanize::PSGI=HASH(0x802aa4ed0), HTTP::Request=HASH(0x802ad7b88)) called at /home/cpan/bin/perl/lib/site_perl/5.43.3/WWW/Mechanize.pm line 1534
	WWW::Mechanize::request(Test::WWW::Mechanize::PSGI=HASH(0x802aa4ed0), HTTP::Request=HASH(0x802ad7b88)) called at /home/cpan/bin/perl/lib/site_perl/5.43.3/LWP/UserAgent.pm line 500
	LWP::UserAgent::post(Test::WWW::Mechanize::PSGI=HASH(0x802aa4ed0), "http://localhost/wishlist?baz", HASH(0x802538798)) called at /home/cpan/bin/perl/lib/site_perl/5.43.3/WWW/Mechanize.pm line 136
	WWW::Mechanize::post(Test::WWW::Mechanize::PSGI=HASH(0x802aa4ed0), "/wishlist?baz", HASH(0x802538798)) called at /home/cpan/bin/perl/lib/site_perl/5.43.3/Test/WWW/Mechanize.pm line 321
	Test::WWW::Mechanize::post_ok(Test::WWW::Mechanize::PSGI=HASH(0x802aa4ed0), "/wishlist?baz") called at t/03_mech.t line 90
Do not use HTTP::Session2::ClientStore. Use HTTP::Session2::ServerStore or HTTP::Session2::ClientStore2 instead. at /usr/home/cpan/.cpan/build/HTTP-Session2-1.10-0/blib/lib/HTTP/Session2/ClientStore.pm line 35.
Do not use HTTP::Session2::ClientStore. Use HTTP::Session2::ServerStore or HTTP::Session2::ClientStore2 instead. at /usr/home/cpan/.cpan/build/HTTP-Session2-1.10-0/blib/lib/HTTP/Session2/ClientStore.pm line 25.
Secret string too short at /usr/home/cpan/.cpan/build/HTTP-Session2-1.10-0/blib/lib/HTTP/Session2/Base.pm line 79.
	HTTP::Session2::Base::__ANON__(HTTP::Session2::ClientStore=HASH(0x802ada7e0), "s3cret") called at t/03_mech.t line 127
	main::client_session(HASH(0x8017fd6f0)) called at t/03_mech.t line 17
	main::__ANON__(HASH(0x8017fd6f0)) called at /home/cpan/bin/perl/lib/site_perl/5.43.3/Test/WWW/Mechanize/PSGI.pm line 46
	Test::WWW::Mechanize::PSGI::try {...} () called at /home/cpan/bin/perl/lib/site_perl/5.43.3/Try/Tiny.pm line 102
	eval {...} called at /home/cpan/bin/perl/lib/site_perl/5.43.3/Try/Tiny.pm line 93
	Try::Tiny::try(CODE(0x802ad4cd8), Try::Tiny::Catch=REF(0x802ad7108)) called at /home/cpan/bin/perl/lib/site_perl/5.43.3/Test/WWW/Mechanize/PSGI.pm line 53
	Test::WWW::Mechanize::PSGI::simple_request(Test::WWW::Mechanize::PSGI=HASH(0x802aa4ed0), HTTP::Request=HASH(0x802ad7e40), undef, undef) called at /home/cpan/bin/perl/lib/site_perl/5.43.3/LWP/UserAgent.pm line 310
	LWP::UserAgent::request(Test::WWW::Mechanize::PSGI=HASH(0x802aa4ed0), HTTP::Request=HASH(0x802ad7e40)) called at /home/cpan/bin/perl/lib/site_perl/5.43.3/WWW/Mechanize.pm line 1699
	WWW::Mechanize::_make_request(Test::WWW::Mechanize::PSGI=HASH(0x802aa4ed0), HTTP::Request=HASH(0x802ad7e40)) called at /home/cpan/bin/perl/lib/site_perl/5.43.3/WWW/Mechanize.pm line 1534
	WWW::Mechanize::request(Test::WWW::Mechanize::PSGI=HASH(0x802aa4ed0), HTTP::Request=HASH(0x802ad7e40)) called at /home/cpan/bin/perl/lib/site_perl/5.43.3/LWP/UserAgent.pm line 454
	LWP::UserAgent::get(Test::WWW::Mechanize::PSGI=HASH(0x802aa4ed0), "http://localhost/wishlist") called at /home/cpan/bin/perl/lib/site_perl/5.43.3/WWW/Mechanize.pm line 124
	WWW::Mechanize::get(Test::WWW::Mechanize::PSGI=HASH(0x802aa4ed0), "/wishlist") called at /home/cpan/bin/perl/lib/site_perl/5.43.3/Test/WWW/Mechanize.pm line 192
	Test::WWW::Mechanize::get_ok(Test::WWW::Mechanize::PSGI=HASH(0x802aa4ed0), "/wishlist", "Wishlist is still available") called at t/03_mech.t line 91
Do not use HTTP::Session2::ClientStore. Use HTTP::Session2::ServerStore or HTTP::Session2::ClientStore2 instead. at /usr/home/cpan/.cpan/build/HTTP-Session2-1.10-0/blib/lib/HTTP/Session2/ClientStore.pm line 35.
Secret string too short at /usr/home/cpan/.cpan/build/HTTP-Session2-1.10-0/blib/lib/HTTP/Session2/Base.pm line 79.
	HTTP::Session2::Base::__ANON__(HTTP::Session2::ClientStore=HASH(0x802adabd0), "s3cret") called at t/03_mech.t line 127
	main::client_session(HASH(0x8029aa660)) called at t/03_mech.t line 17
	main::__ANON__(HASH(0x8029aa660)) called at /home/cpan/bin/perl/lib/site_perl/5.43.3/Test/WWW/Mechanize/PSGI.pm line 46
	Test::WWW::Mechanize::PSGI::try {...} () called at /home/cpan/bin/perl/lib/site_perl/5.43.3/Try/Tiny.pm line 102
	eval {...} called at /home/cpan/bin/perl/lib/site_perl/5.43.3/Try/Tiny.pm line 93
	Try::Tiny::try(CODE(0x802ada948), Try::Tiny::Catch=REF(0x802ada030)) called at /home/cpan/bin/perl/lib/site_perl/5.43.3/Test/WWW/Mechanize/PSGI.pm line 53
	Test::WWW::Mechanize::PSGI::simple_request(Test::WWW::Mechanize::PSGI=HASH(0x802aa4ed0), HTTP::Request=HASH(0x802ada1e0), undef, undef) called at /home/cpan/bin/perl/lib/site_perl/5.43.3/LWP/UserAgent.pm line 310
	LWP::UserAgent::request(Test::WWW::Mechanize::PSGI=HASH(0x802aa4ed0), HTTP::Request=HASH(0x802ada1e0)) called at /home/cpan/bin/perl/lib/site_perl/5.43.3/WWW/Mechanize.pm line 1699
	WWW::Mechanize::_make_request(Test::WWW::Mechanize::PSGI=HASH(0x802aa4ed0), HTTP::Request=HASH(0x802ada1e0)) called at /home/cpan/bin/perl/lib/site_perl/5.43.3/WWW/Mechanize.pm line 1534
	WWW::Mechanize::request(Test::WWW::Mechanize::PSGI=HASH(0x802aa4ed0), HTTP::Request=HASH(0x802ada1e0)) called at /home/cpan/bin/perl/lib/site_perl/5.43.3/LWP/UserAgent.pm line 454
	LWP::UserAgent::get(Test::WWW::Mechanize::PSGI=HASH(0x802aa4ed0), "http://localhost/my/name") called at /home/cpan/bin/perl/lib/site_perl/5.43.3/WWW/Mechanize.pm line 124
	WWW::Mechanize::get(Test::WWW::Mechanize::PSGI=HASH(0x802aa4ed0), "/my/name") called at /home/cpan/bin/perl/lib/site_perl/5.43.3/Test/WWW/Mechanize.pm line 192
	Test::WWW::Mechanize::get_ok(Test::WWW::Mechanize::PSGI=HASH(0x802aa4ed0), "/my/name") called at t/03_mech.t line 93
Do not use HTTP::Session2::ClientStore. Use HTTP::Session2::ServerStore or HTTP::Session2::ClientStore2 instead. at /usr/home/cpan/.cpan/build/HTTP-Session2-1.10-0/blib/lib/HTTP/Session2/ClientStore.pm line 35.
Secret string too short at /usr/home/cpan/.cpan/build/HTTP-Session2-1.10-0/blib/lib/HTTP/Session2/Base.pm line 79.
	HTTP::Session2::Base::__ANON__(HTTP::Session2::ClientStore=HASH(0x802ada990), "s3cret") called at t/03_mech.t line 127
	main::client_session(HASH(0x802adaf30)) called at t/03_mech.t line 17
	main::__ANON__(HASH(0x802adaf30)) called at /home/cpan/bin/perl/lib/site_perl/5.43.3/Test/WWW/Mechanize/PSGI.pm line 46
	Test::WWW::Mechanize::PSGI::try {...} () called at /home/cpan/bin/perl/lib/site_perl/5.43.3/Try/Tiny.pm line 102
	eval {...} called at /home/cpan/bin/perl/lib/site_perl/5.43.3/Try/Tiny.pm line 93
	Try::Tiny::try(CODE(0x802aad2a0), Try::Tiny::Catch=REF(0x802ad7378)) called at /home/cpan/bin/perl/lib/site_perl/5.43.3/Test/WWW/Mechanize/PSGI.pm line 53
	Test::WWW::Mechanize::PSGI::simple_request(Test::WWW::Mechanize::PSGI=HASH(0x802aa4ed0), HTTP::Request=HASH(0x802adaa38), undef, undef) called at /home/cpan/bin/perl/lib/site_perl/5.43.3/LWP/UserAgent.pm line 310
	LWP::UserAgent::request(Test::WWW::Mechanize::PSGI=HASH(0x802aa4ed0), HTTP::Request=HASH(0x802adaa38)) called at /home/cpan/bin/perl/lib/site_perl/5.43.3/WWW/Mechanize.pm line 1699
	WWW::Mechanize::_make_request(Test::WWW::Mechanize::PSGI=HASH(0x802aa4ed0), HTTP::Request=HASH(0x802adaa38)) called at /home/cpan/bin/perl/lib/site_perl/5.43.3/WWW/Mechanize.pm line 1534
	WWW::Mechanize::request(Test::WWW::Mechanize::PSGI=HASH(0x802aa4ed0), HTTP::Request=HASH(0x802adaa38)) called at /home/cpan/bin/perl/lib/site_perl/5.43.3/LWP/UserAgent.pm line 500
	LWP::UserAgent::post(Test::WWW::Mechanize::PSGI=HASH(0x802aa4ed0), "http://localhost/account/logout?john") called at /home/cpan/bin/perl/lib/site_perl/5.43.3/WWW/Mechanize.pm line 136
	WWW::Mechanize::post(Test::WWW::Mechanize::PSGI=HASH(0x802aa4ed0), "/account/logout?john") called at t/03_mech.t line 97
Do not use HTTP::Session2::ClientStore. Use HTTP::Session2::ServerStore or HTTP::Session2::ClientStore2 instead. at /usr/home/cpan/.cpan/build/HTTP-Session2-1.10-0/blib/lib/HTTP/Session2/ClientStore.pm line 35.
Do not use HTTP::Session2::ClientStore. Use HTTP::Session2::ServerStore or HTTP::Session2::ClientStore2 instead. at /usr/home/cpan/.cpan/build/HTTP-Session2-1.10-0/blib/lib/HTTP/Session2/ClientStore.pm line 35.
t/03_mech.t ................. ok
Do not use HTTP::Session2::ClientStore. Use HTTP::Session2::ServerStore or HTTP::Session2::ClientStore2 instead. at /usr/home/cpan/.cpan/build/HTTP-Session2-1.10-0/blib/lib/HTTP/Session2/ClientStore.pm line 25.
t/04_plack_response.t ....... ok
Secret string too short at /usr/home/cpan/.cpan/build/HTTP-Session2-1.10-0/blib/lib/HTTP/Session2/Base.pm line 79.
	HTTP::Session2::Base::__ANON__(HTTP::Session2::ClientStore=HASH(0x800b126d8), "s3cret") called at t/05_keep_me_signed_in.t line 20
Do not use HTTP::Session2::ClientStore. Use HTTP::Session2::ServerStore or HTTP::Session2::ClientStore2 instead. at /usr/home/cpan/.cpan/build/HTTP-Session2-1.10-0/blib/lib/HTTP/Session2/ClientStore.pm line 25.
t/05_keep_me_signed_in.t .... ok
Secret string too short at /usr/home/cpan/.cpan/build/HTTP-Session2-1.10-0/blib/lib/HTTP/Session2/Base.pm line 79.
	HTTP::Session2::Base::__ANON__(HTTP::Session2::Base=HASH(0x800ab6f78), "i am secret") called at t/06_base_abstract.t line 7
t/06_base_abstract.t ........ ok
Secret string too short at /usr/home/cpan/.cpan/build/HTTP-Session2-1.10-0/blib/lib/HTTP/Session2/Base.pm line 79.
	HTTP::Session2::Base::__ANON__(HTTP::Session2::ClientStore=HASH(0x802092900), "secret") called at t/07_client_store.t line 23
	main::__ANON__() called at /home/cpan/bin/perl/lib/5.43.3/Test/Builder.pm line 368
	eval {...} called at /home/cpan/bin/perl/lib/5.43.3/Test/Builder.pm line 368
	Test::Builder::subtest(Test::Builder=HASH(0x800b7e948), "get/set/remove", CODE(0x801bc2060)) called at /home/cpan/bin/perl/lib/5.43.3/Test/More.pm line 831
	Test::More::subtest("get/set/remove", CODE(0x801bc2060)) called at t/07_client_store.t line 31
Secret string too short at /usr/home/cpan/.cpan/build/HTTP-Session2-1.10-0/blib/lib/HTTP/Session2/Base.pm line 79.
	HTTP::Session2::Base::__ANON__(HTTP::Session2::ClientStore=HASH(0x802092eb8), "secret") called at t/07_client_store.t line 35
	main::__ANON__() called at /home/cpan/bin/perl/lib/5.43.3/Test/Builder.pm line 368
	eval {...} called at /home/cpan/bin/perl/lib/5.43.3/Test/Builder.pm line 368
	Test::Builder::subtest(Test::Builder=HASH(0x800b7e948), "validate_token", CODE(0x801bc2330)) called at /home/cpan/bin/perl/lib/5.43.3/Test/More.pm line 831
	Test::More::subtest("validate_token", CODE(0x801bc2330)) called at t/07_client_store.t line 71
Do not use HTTP::Session2::ClientStore. Use HTTP::Session2::ServerStore or HTTP::Session2::ClientStore2 instead. at /usr/home/cpan/.cpan/build/HTTP-Session2-1.10-0/blib/lib/HTTP/Session2/ClientStore.pm line 25.
Secret string too short at /usr/home/cpan/.cpan/build/HTTP-Session2-1.10-0/blib/lib/HTTP/Session2/Base.pm line 79.
	HTTP::Session2::Base::__ANON__(HTTP::Session2::ClientStore=HASH(0x8020988e8), "secret") called at t/07_client_store.t line 51
	main::__ANON__() called at /home/cpan/bin/perl/lib/5.43.3/Test/Builder.pm line 368
	eval {...} called at /home/cpan/bin/perl/lib/5.43.3/Test/Builder.pm line 368
	Test::Builder::subtest(Test::Builder=HASH(0x800b7e948), "bad", CODE(0x8020921c8)) called at /home/cpan/bin/perl/lib/5.43.3/Test/More.pm line 831
	Test::More::subtest("bad", CODE(0x8020921c8)) called at t/07_client_store.t line 57
	main::__ANON__() called at /home/cpan/bin/perl/lib/5.43.3/Test/Builder.pm line 368
	eval {...} called at /home/cpan/bin/perl/lib/5.43.3/Test/Builder.pm line 368
	Test::Builder::subtest(Test::Builder=HASH(0x800b7e948), "validate_token", CODE(0x801bc2330)) called at /home/cpan/bin/perl/lib/5.43.3/Test/More.pm line 831
	Test::More::subtest("validate_token", CODE(0x801bc2330)) called at t/07_client_store.t line 71
Do not use HTTP::Session2::ClientStore. Use HTTP::Session2::ServerStore or HTTP::Session2::ClientStore2 instead. at /usr/home/cpan/.cpan/build/HTTP-Session2-1.10-0/blib/lib/HTTP/Session2/ClientStore.pm line 35.
Secret string too short at /usr/home/cpan/.cpan/build/HTTP-Session2-1.10-0/blib/lib/HTTP/Session2/Base.pm line 79.
	HTTP::Session2::Base::__ANON__(HTTP::Session2::ClientStore=HASH(0x802092840), "secret") called at t/07_client_store.t line 65
	main::__ANON__() called at /home/cpan/bin/perl/lib/5.43.3/Test/Builder.pm line 368
	eval {...} called at /home/cpan/bin/perl/lib/5.43.3/Test/Builder.pm line 368
	Test::Builder::subtest(Test::Builder=HASH(0x800b7e948), "good", CODE(0x8020921c8)) called at /home/cpan/bin/perl/lib/5.43.3/Test/More.pm line 831
	Test::More::subtest("good", CODE(0x8020921c8)) called at t/07_client_store.t line 70
	main::__ANON__() called at /home/cpan/bin/perl/lib/5.43.3/Test/Builder.pm line 368
	eval {...} called at /home/cpan/bin/perl/lib/5.43.3/Test/Builder.pm line 368
	Test::Builder::subtest(Test::Builder=HASH(0x800b7e948), "validate_token", CODE(0x801bc2330)) called at /home/cpan/bin/perl/lib/5.43.3/Test/More.pm line 831
	Test::More::subtest("validate_token", CODE(0x801bc2330)) called at t/07_client_store.t line 71
Do not use HTTP::Session2::ClientStore. Use HTTP::Session2::ServerStore or HTTP::Session2::ClientStore2 instead. at /usr/home/cpan/.cpan/build/HTTP-Session2-1.10-0/blib/lib/HTTP/Session2/ClientStore.pm line 35.
Secret string too short at /usr/home/cpan/.cpan/build/HTTP-Session2-1.10-0/blib/lib/HTTP/Session2/Base.pm line 79.
	HTTP::Session2::Base::__ANON__(HTTP::Session2::ClientStore=HASH(0x8020984e0), "secret") called at t/07_client_store.t line 76
	main::__ANON__() called at /home/cpan/bin/perl/lib/5.43.3/Test/Builder.pm line 368
	eval {...} called at /home/cpan/bin/perl/lib/5.43.3/Test/Builder.pm line 368
	Test::Builder::subtest(Test::Builder=HASH(0x800b7e948), "ignore_old", CODE(0x802058c60)) called at /home/cpan/bin/perl/lib/5.43.3/Test/More.pm line 831
	Test::More::subtest("ignore_old", CODE(0x802058c60)) called at t/07_client_store.t line 106
Do not use HTTP::Session2::ClientStore. Use HTTP::Session2::ServerStore or HTTP::Session2::ClientStore2 instead. at /usr/home/cpan/.cpan/build/HTTP-Session2-1.10-0/blib/lib/HTTP/Session2/ClientStore.pm line 25.
Secret string too short at /usr/home/cpan/.cpan/build/HTTP-Session2-1.10-0/blib/lib/HTTP/Session2/Base.pm line 79.
	HTTP::Session2::Base::__ANON__(HTTP::Session2::ClientStore=HASH(0x8020908b8), "secret") called at t/07_client_store.t line 87
	main::__ANON__() called at /home/cpan/bin/perl/lib/5.43.3/Test/Builder.pm line 368
	eval {...} called at /home/cpan/bin/perl/lib/5.43.3/Test/Builder.pm line 368
	Test::Builder::subtest(Test::Builder=HASH(0x800b7e948), "ignore_old disabled", CODE(0x8020a6180)) called at /home/cpan/bin/perl/lib/5.43.3/Test/More.pm line 831
	Test::More::subtest("ignore_old disabled", CODE(0x8020a6180)) called at t/07_client_store.t line 95
	main::__ANON__() called at /home/cpan/bin/perl/lib/5.43.3/Test/Builder.pm line 368
	eval {...} called at /home/cpan/bin/perl/lib/5.43.3/Test/Builder.pm line 368
	Test::Builder::subtest(Test::Builder=HASH(0x800b7e948), "ignore_old", CODE(0x802058c60)) called at /home/cpan/bin/perl/lib/5.43.3/Test/More.pm line 831
	Test::More::subtest("ignore_old", CODE(0x802058c60)) called at t/07_client_store.t line 106
Do not use HTTP::Session2::ClientStore. Use HTTP::Session2::ServerStore or HTTP::Session2::ClientStore2 instead. at /usr/home/cpan/.cpan/build/HTTP-Session2-1.10-0/blib/lib/HTTP/Session2/ClientStore.pm line 35.
Secret string too short at /usr/home/cpan/.cpan/build/HTTP-Session2-1.10-0/blib/lib/HTTP/Session2/Base.pm line 79.
	HTTP::Session2::Base::__ANON__(HTTP::Session2::ClientStore=HASH(0x802092750), "secret") called at t/07_client_store.t line 97
	main::__ANON__() called at /home/cpan/bin/perl/lib/5.43.3/Test/Builder.pm line 368
	eval {...} called at /home/cpan/bin/perl/lib/5.43.3/Test/Builder.pm line 368
	Test::Builder::subtest(Test::Builder=HASH(0x800b7e948), "ignore_old enabled", CODE(0x8020a6180)) called at /home/cpan/bin/perl/lib/5.43.3/Test/More.pm line 831
	Test::More::subtest("ignore_old enabled", CODE(0x8020a6180)) called at t/07_client_store.t line 105
	main::__ANON__() called at /home/cpan/bin/perl/lib/5.43.3/Test/Builder.pm line 368
	eval {...} called at /home/cpan/bin/perl/lib/5.43.3/Test/Builder.pm line 368
	Test::Builder::subtest(Test::Builder=HASH(0x800b7e948), "ignore_old", CODE(0x802058c60)) called at /home/cpan/bin/perl/lib/5.43.3/Test/More.pm line 831
	Test::More::subtest("ignore_old", CODE(0x802058c60)) called at t/07_client_store.t line 106
t/07_client_store.t ......... ok
Secret string too short at /usr/home/cpan/.cpan/build/HTTP-Session2-1.10-0/blib/lib/HTTP/Session2/Base.pm line 79.
	HTTP::Session2::Base::__ANON__(HTTP::Session2::Expired=HASH(0x800b12618), 33333) called at t/08_expired.t line 7
t/08_expired.t .............. ok
# /dev/urandom available
# /dev/urandom(1): EQ3y0hgeShapHI8EjOXhcBivDfFXmPi
# /dev/urandom(2): 57RmX4ZMKi9bFNwZbgDbY5AW_ANBdzQ
# perl:            f9d7ff215b075ea74278208db79bc0f
t/09_random.t ............... ok
t/11_secret_string.t ........ ok
Secret string too short at /usr/home/cpan/.cpan/build/HTTP-Session2-1.10-0/blib/lib/HTTP/Session2/Base.pm line 79.
	HTTP::Session2::Base::__ANON__(HTTP::Session2::ClientStore2=HASH(0x801d5c0f0), "s3cret") called at t/client_store2/01_basic.t line 24
	main::__ANON__("client -> server: request without cookie", CODE(0x801d2b828)) called at t/client_store2/01_basic.t line 30
	main::__ANON__() called at /home/cpan/bin/perl/lib/5.43.3/Test/Builder.pm line 368
	eval {...} called at /home/cpan/bin/perl/lib/5.43.3/Test/Builder.pm line 368
	Test::Builder::subtest(Test::Builder=HASH(0x800b759d8), "First request", CODE(0x800aae6a8)) called at /home/cpan/bin/perl/lib/5.43.3/Test/More.pm line 831
	Test::More::subtest("First request", CODE(0x800aae6a8)) called at t/client_store2/01_basic.t line 9
	main::scenario("First request", CODE(0x800aae6a8)) called at t/client_store2/01_basic.t line 36
Secret string too short at /usr/home/cpan/.cpan/build/HTTP-Session2-1.10-0/blib/lib/HTTP/Session2/Base.pm line 79.
	HTTP::Session2::Base::__ANON__(HTTP::Session2::ClientStore2=HASH(0x801d5cc48), "s3cret") called at t/client_store2/01_basic.t line 41
	main::__ANON__("client -> server: request without cookie", CODE(0x801d5c2e8)) called at t/client_store2/01_basic.t line 47
	main::__ANON__() called at /home/cpan/bin/perl/lib/5.43.3/Test/Builder.pm line 368
	eval {...} called at /home/cpan/bin/perl/lib/5.43.3/Test/Builder.pm line 368
	Test::Builder::subtest(Test::Builder=HASH(0x800b759d8), "Store something without login", CODE(0x800aae6a8)) called at /home/cpan/bin/perl/lib/5.43.3/Test/More.pm line 831
	Test::More::subtest("Store something without login", CODE(0x800aae6a8)) called at t/client_store2/01_basic.t line 9
	main::scenario("Store something without login", CODE(0x800aae6a8)) called at t/client_store2/01_basic.t line 63
WARNING: The key derivation method "opensslv1" is deprecated. Using -pbkdf=>'pbkdf2' would be better.
Pass -nodeprecate=>1 to inhibit this message.
 at /usr/home/cpan/.cpan/build/HTTP-Session2-1.10-0/blib/lib/HTTP/Session2/ClientStore2.pm line 177.
Secret string too short at /usr/home/cpan/.cpan/build/HTTP-Session2-1.10-0/blib/lib/HTTP/Session2/Base.pm line 79.
	HTTP::Session2::Base::__ANON__(HTTP::Session2::ClientStore2=HASH(0x801d2bd20), "s3cret") called at t/client_store2/01_basic.t line 69
	main::__ANON__("client -> server: request without cookie", CODE(0x801d5cd98)) called at t/client_store2/01_basic.t line 76
	main::__ANON__() called at /home/cpan/bin/perl/lib/5.43.3/Test/Builder.pm line 368
	eval {...} called at /home/cpan/bin/perl/lib/5.43.3/Test/Builder.pm line 368
	Test::Builder::subtest(Test::Builder=HASH(0x800b759d8), "Login", CODE(0x800aae6a8)) called at /home/cpan/bin/perl/lib/5.43.3/Test/More.pm line 831
	Test::More::subtest("Login", CODE(0x800aae6a8)) called at t/client_store2/01_basic.t line 9
	main::scenario("Login", CODE(0x800aae6a8)) called at t/client_store2/01_basic.t line 96
Ciphertext does not begin with a valid header for 'salt' header mode at /usr/home/cpan/.cpan/build/HTTP-Session2-1.10-0/blib/lib/HTTP/Session2/ClientStore2.pm line 81.
Ciphertext does not begin with a valid header for 'salt' header mode at /usr/home/cpan/.cpan/build/HTTP-Session2-1.10-0/blib/lib/HTTP/Session2/ClientStore2.pm line 81.
WARNING: The key derivation method "opensslv1" is deprecated. Using -pbkdf=>'pbkdf2' would be better.
Pass -nodeprecate=>1 to inhibit this message.
 at /usr/home/cpan/.cpan/build/HTTP-Session2-1.10-0/blib/lib/HTTP/Session2/ClientStore2.pm line 177.
Secret string too short at /usr/home/cpan/.cpan/build/HTTP-Session2-1.10-0/blib/lib/HTTP/Session2/Base.pm line 79.
	HTTP::Session2::Base::__ANON__(HTTP::Session2::ClientStore2=HASH(0x801d64210), "s3cret") called at t/client_store2/01_basic.t line 102
	main::__ANON__("client -> server: request without cookie", CODE(0x801d2bd80)) called at t/client_store2/01_basic.t line 109
	main::__ANON__() called at /home/cpan/bin/perl/lib/5.43.3/Test/Builder.pm line 368
	eval {...} called at /home/cpan/bin/perl/lib/5.43.3/Test/Builder.pm line 368
	Test::Builder::subtest(Test::Builder=HASH(0x800b759d8), "In a login session", CODE(0x800aae6a8)) called at /home/cpan/bin/perl/lib/5.43.3/Test/More.pm line 831
	Test::More::subtest("In a login session", CODE(0x800aae6a8)) called at t/client_store2/01_basic.t line 9
	main::scenario("In a login session", CODE(0x800aae6a8)) called at t/client_store2/01_basic.t line 118
Ciphertext does not begin with a valid header for 'salt' header mode at /usr/home/cpan/.cpan/build/HTTP-Session2-1.10-0/blib/lib/HTTP/Session2/ClientStore2.pm line 81.
WARNING: The key derivation method "opensslv1" is deprecated. Using -pbkdf=>'pbkdf2' would be better.
Pass -nodeprecate=>1 to inhibit this message.
 at /usr/home/cpan/.cpan/build/HTTP-Session2-1.10-0/blib/lib/HTTP/Session2/ClientStore2.pm line 177.
Secret string too short at /usr/home/cpan/.cpan/build/HTTP-Session2-1.10-0/blib/lib/HTTP/Session2/Base.pm line 79.
	HTTP::Session2::Base::__ANON__(HTTP::Session2::ClientStore2=HASH(0x801c45060), "s3cret") called at t/client_store2/01_basic.t line 123
	main::__ANON__("client -> server: request without cookie", CODE(0x800aaea68)) called at t/client_store2/01_basic.t line 130
	main::__ANON__() called at /home/cpan/bin/perl/lib/5.43.3/Test/Builder.pm line 368
	eval {...} called at /home/cpan/bin/perl/lib/5.43.3/Test/Builder.pm line 368
	Test::Builder::subtest(Test::Builder=HASH(0x800b759d8), "Logout", CODE(0x800aae6a8)) called at /home/cpan/bin/perl/lib/5.43.3/Test/More.pm line 831
	Test::More::subtest("Logout", CODE(0x800aae6a8)) called at t/client_store2/01_basic.t line 9
	main::scenario("Logout", CODE(0x800aae6a8)) called at t/client_store2/01_basic.t line 143
Ciphertext does not begin with a valid header for 'salt' header mode at /usr/home/cpan/.cpan/build/HTTP-Session2-1.10-0/blib/lib/HTTP/Session2/ClientStore2.pm line 81.
t/client_store2/01_basic.t .. ok
WARNING: The key derivation method "opensslv1" is deprecated. Using -pbkdf=>'pbkdf2' would be better.
Pass -nodeprecate=>1 to inhibit this message.
 at /usr/home/cpan/.cpan/build/HTTP-Session2-1.10-0/blib/lib/HTTP/Session2/ClientStore2.pm line 177.
WARNING: The key derivation method "opensslv1" is deprecated. Using -pbkdf=>'pbkdf2' would be better.
Pass -nodeprecate=>1 to inhibit this message.
 at /usr/home/cpan/.cpan/build/HTTP-Session2-1.10-0/blib/lib/HTTP/Session2/ClientStore2.pm line 177.
WARNING: The key derivation method "opensslv1" is deprecated. Using -pbkdf=>'pbkdf2' would be better.
Pass -nodeprecate=>1 to inhibit this message.
 at /usr/home/cpan/.cpan/build/HTTP-Session2-1.10-0/blib/lib/HTTP/Session2/ClientStore2.pm line 177.
t/client_store2/02_mech.t ... ok
WARNING: The key derivation method "opensslv1" is deprecated. Using -pbkdf=>'pbkdf2' would be better.
Pass -nodeprecate=>1 to inhibit this message.
 at /usr/home/cpan/.cpan/build/HTTP-Session2-1.10-0/blib/lib/HTTP/Session2/ClientStore2.pm line 177.
t/client_store2/03_colon.t .. ok
All tests successful.
Files=14, Tests=84,  1 wallclock secs ( 0.02 usr  0.03 sys +  0.97 cusr  0.18 csys =  1.20 CPU)
Result: PASS

------------------------------
PREREQUISITES
------------------------------

Prerequisite modules loaded:

requires:

    Module                     Need     Have    
    -------------------------- -------- --------
    Cookie::Baker              0        0.12    
    Crypt::CBC                 0        3.07    
    Data::MessagePack          0        1.02    
    Digest::HMAC               0        1.05    
    Digest::SHA                0        6.04    
    Digest::SHA1               0        2.13    
    MIME::Base64               3.11     3.16_01 
    Mouse                      0        v2.5.11 
    parent                     0        0.244   
    perl                       5.008005 5.043003
    Time::HiRes                0        1.9779  

build_requires:

    Module                     Need     Have    
    -------------------------- -------- --------
    Crypt::Rijndael            0        1.16    
    Plack::Request             0        1.0051  
    Plack::Response            0        1.0051  
    Test::More                 0.98     1.302214
    Test::WWW::Mechanize::PSGI 0        0.39    

configure_requires:

    Module                     Need     Have    
    -------------------------- -------- --------
    Module::Build::Tiny        0.035    0.052   


------------------------------
ENVIRONMENT AND OTHER CONTEXT
------------------------------

Environment variables:

    AUTOMATED_TESTING = 1
    DATE_MANIP_TEST_DM5 = 1
    LC_ALL = C
    NONINTERACTIVE_TESTING = 1
    NO_NETWORK_TESTING = 1
    PATH = /home/cpan/bin/perl/bin:/home/cpan/bin:/sbin:/bin:/usr/sbin:/usr/bin:/usr/games:/usr/local/sbin:/usr/local/bin:/home/cpan/bin
    PERL5LIB = 
    PERL5OPT = 
    PERL5_CPANPLUS_IS_RUNNING = 4316
    PERL5_CPAN_IS_RUNNING = 4316
    PERL_MM_USE_DEFAULT = 1
    PERL_PERTURB_KEYS = 0
    PERL_USE_UNSAFE_INC = 1
    SHELL = /usr/local/bin/bash
    TERM = screen
    TMPDIR = /home/cpan/tmp

Perl special variables (and OS-specific diagnostics, for MSWin32):

    $^X = /usr/home/cpan/bin/perl/bin/perl5.43.3
    $UID/$EUID = 1002 / 1002
    $GID = 1002 1002
    $EGID = 1002 1002

Perl module toolchain versions installed:

    Module              Have    
    ------------------- --------
    CPAN                2.38    
    CPAN::Meta          2.150010
    Cwd                 3.94    
    ExtUtils::CBuilder  0.280242
    ExtUtils::Command   7.76    
    ExtUtils::Install   2.22    
    ExtUtils::MakeMaker 7.76    
    ExtUtils::Manifest  1.75    
    ExtUtils::ParseXS   3.60    
    File::Spec          3.94    
    JSON                4.10    
    JSON::PP            4.16    
    Module::Build       0.4234  
    Module::Signature   n/a     
    Parse::CPAN::Meta   2.150010
    Test2               1.302214
    Test::Harness       3.52    
    Test::More          1.302214
    YAML                1.31    
    YAML::Syck          1.34    
    version             0.9933  


--

Summary of my perl5 (revision 5 version 43 subversion 3) configuration:
  Commit id: bc675a263c13b6bbf3598a088c5d5c3414bb2903
  Platform:
    osname=midnightbsd
    osvers=3.2.1
    archname=amd64-midnightbsd
    uname='midnightbsd cjg-midnightbsd3 3.2.1 midnightbsd 3.2.1 #15n13132-0869ed7092(stable3.2)-dirty: wed nov 6 12:53:25 est 2024 root@m3264:usrobjusrsrcamd64.amd64sysgeneric amd64 '
    config_args='-des -Dprefix=/home/cpan/bin/perl -Dscriptdir=/home/cpan/bin/perl/bin -Dusedevel -Duse64bitall'
    hint=recommended
    useposix=true
    d_sigaction=define
    useithreads=undef
    usemultiplicity=undef
    use64bitint=define
    use64bitall=define
    uselongdouble=undef
    usemymalloc=n
    default_inc_excludes_dot=define
  Compiler:
    cc='cc'
    ccflags ='-DHAS_FPSETMASK -DHAS_FLOATINGPOINT_H -fno-strict-aliasing -pipe -fstack-protector-strong -I/usr/local/include'
    optimize='-O'
    cppflags='-DHAS_FPSETMASK -DHAS_FLOATINGPOINT_H -fno-strict-aliasing -pipe -fstack-protector-strong -I/usr/local/include'
    ccversion=''
    gccversion='MidnightBSD Clang 13.0.0 (git@github.com:llvm/llvm-project.git llvmorg-13.0.0-0-gd7b669b3a303)'
    gccosandvers=''
    intsize=4
    longsize=8
    ptrsize=8
    doublesize=8
    byteorder=12345678
    doublekind=3
    d_longlong=define
    longlongsize=8
    d_longdbl=define
    longdblsize=16
    longdblkind=3
    ivtype='long'
    ivsize=8
    nvtype='double'
    nvsize=8
    Off_t='off_t'
    lseeksize=8
    alignbytes=8
    prototype=define
  Linker and Libraries:
    ld='cc'
    ldflags ='-Wl,-E  -fstack-protector-strong -L/usr/local/lib'
    libpth=/usr/lib /usr/local/lib /usr/lib/clang/13.0.0/lib
    libs=-lpthread -lgdbm -ldl -lm -lcrypt -lutil -lc
    perllibs=-lpthread -ldl -lm -lcrypt -lutil -lc
    libc=
    so=so
    useshrplib=false
    libperl=libperl.a
    gnulibc_version=''
  Dynamic Linking:
    dlsrc=dl_dlopen.xs
    dlext=so
    d_dlsymun=undef
    ccdlflags=' '
    cccdlflags='-DPIC -fPIC'
    lddlflags='-shared  -L/usr/local/lib -fstack-protector-strong'


Characteristics of this binary (from libperl): 
  Compile-time options:
    HAS_LONG_DOUBLE
    HAS_STRTOLD
    HAS_TIMES
    PERLIO_LAYERS
    PERL_COPY_ON_WRITE
    PERL_DONT_CREATE_GVSV
    PERL_HASH_FUNC_SIPHASH13
    PERL_HASH_USE_SBOX32
    PERL_MALLOC_WRAP
    PERL_OP_PARENT
    PERL_PRESERVE_IVUV
    PERL_USE_DEVEL
    PERL_USE_SAFE_PUTENV
    USE_64_BIT_ALL
    USE_64_BIT_INT
    USE_LARGE_FILES
    USE_LOCALE
    USE_LOCALE_COLLATE
    USE_LOCALE_CTYPE
    USE_LOCALE_NUMERIC
    USE_LOCALE_TIME
    USE_PERLIO
    USE_PERL_ATOF
  Built under midnightbsd
  Compiled at Sep 21 2025 23:18:50
  %ENV:
    PERL5LIB=""
    PERL5OPT=""
    PERL5_CPANPLUS_IS_RUNNING="4316"
    PERL5_CPAN_IS_RUNNING="4316"
    PERL_MM_USE_DEFAULT="1"
    PERL_PERTURB_KEYS="0"
    PERL_USE_UNSAFE_INC="1"
  @INC:
    /home/cpan/bin/perl/lib/site_perl/5.43.3/amd64-midnightbsd
    /home/cpan/bin/perl/lib/site_perl/5.43.3
    /home/cpan/bin/perl/lib/5.43.3/amd64-midnightbsd
    /home/cpan/bin/perl/lib/5.43.3
    .