Back
From: metabase:user:314402c4-2aae-11df-837a-5e0a49663a4f
Subject: PASS Plack-Middleware-Auth-BrowserID-0.0.7 v5.20.2 RC1 GNU/Linux
Date: 2015-02-04T10:54:40Z
This distribution has been tested as part of the CPAN Testers
project, supporting the Perl programming language. See
http://wiki.cpantesters.org/ for more information or email
questions to cpan-testers-discuss@perl.org
--
Dear Joao Bolila,
This is a computer-generated report for Plack-Middleware-Auth-BrowserID-0.0.7
on perl 5.20.2, created by CPAN-Reporter-1.2011.
Thank you for uploading your work to CPAN. Congratulations!
All tests were successful.
Sections of this report:
* Tester comments
* Program output
* Prerequisites
* Environment and other context
------------------------------
TESTER COMMENTS
------------------------------
Additional comments from tester:
none provided
------------------------------
PROGRAM OUTPUT
------------------------------
Output from '/usr/bin/make test':
PERL_DL_NONLAZY=1 "/bbbike/perl-5.20.2-RC1/bin/perl" "-MExtUtils::Command::MM" "-MTest::Harness" "-e" "undef *Test::Harness::Switches; test_harness(0, 'blib/lib', 'blib/arch')" t/*.t
#
# Versions for all modules listed in MYMETA.json (including optional ones):
# Version Module
# -------- --------------------------
# 2.143240 CPAN::Meta
# 2.132 CPAN::Meta::Requirements
# 7.04 ExtUtils::MakeMaker
# 6.04 HTTP::Request::Common
# 2.90 JSON
# 6.06 LWP::Protocol::https
# 6.06 LWP::UserAgent
# 20141217 Mozilla::CA
# 2.43 Net::Ping
# 0.25 Plack::Middleware::Session
# 1.0033 Plack::Response
# undef Plack::Test
# undef Plack::Util::Accessor
# v1.2.1 Test::Compile
# 1.001014 Test::More
t/00-report-prereqs.t ..... ok
t/00_compile.t ............ ok
t/11_assertion.t .......... ok
t/release-distmeta.t ...... skipped: these tests are for release candidate testing
t/release-pod-coverage.t .. skipped: these tests are for release candidate testing
t/release-pod-syntax.t .... skipped: these tests are for release candidate testing
All tests successful.
Files=6, Tests=7, 2 wallclock secs ( 0.02 usr 0.03 sys + 0.40 cusr 0.13 csys = 0.58 CPU)
Result: PASS
------------------------------
PREREQUISITES
------------------------------
Prerequisite modules loaded:
requires:
Module Need Have
-------------------------- -------- --------
HTTP::Request::Common 6.04 6.04
JSON 2.90 2.90
LWP::Protocol::https 6.04 6.06
LWP::UserAgent 6.05 6.06
Mozilla::CA 20130114 20141217
Net::Ping 2.36 2.43
Plack::Middleware::Session 0.21 0.25
Plack::Response 1.0029 1.0033
Plack::Util::Accessor 0 0
build_requires:
Module Need Have
-------------------------- -------- --------
Plack::Test 0 0
Test::Compile 0 v1.2.1
Test::More 0.98 1.001014
configure_requires:
Module Need Have
-------------------------- -------- --------
ExtUtils::MakeMaker 6.30 7.04
------------------------------
ENVIRONMENT AND OTHER CONTEXT
------------------------------
Environment variables:
DBIC_NO_WARN_BAD_PERL = 1
LANG = C
LC_ALL = de_DE.UTF-8
PATH = /usr/local/bin:/usr/bin:/bin:/usr/local/sbin:/usr/sbin:/sbin:/home/eserte/bin/linux-gnu:/home/eserte/bin/sh:/home/eserte/bin:/usr/games:/home/eserte/devel:/home/eserte/src/srezic-misc/scripts
PERL5LIB = /home/eserte/.cpan/build/PDL-Graphics-PLplot-0.67-OhyzrN/blib/arch:/home/eserte/.cpan/build/PDL-Graphics-PLplot-0.67-OhyzrN/blib/lib
PERL5OPT =
PERL5_CPANPLUS_IS_RUNNING = 1220
PERL5_CPAN_IS_RUNNING = 1220
PERL5_CPAN_IS_RUNNING_IN_RECURSION = 12696,1220
PERLDOC = -MPod::Perldoc::ToTextOverstrike
PERL_BATCH = yes
PERL_CPAN_REPORTER_CONFIG = /var/tmp/cpansmoker-1001/eWmeF8RUfE_config.ini
PERL_EXTUTILS_AUTOINSTALL = --defaultdeps
PERL_HTML_DISPLAY_CLASS = HTML::Display::Mozilla
PERL_PARALLEL_SMOKER = yes
SHELL = /bin/zsh
TERM = screen
TMPDIR = /var/tmp/cpansmoker-1001
Perl special variables (and OS-specific diagnostics, for MSWin32):
$^X = /bbbike/perl-5.20.2-RC1/bin/perl
$UID/$EUID = 1001 / 1001
$GID = 1001 109 1001
$EGID = 1001 109 1001
Perl module toolchain versions installed:
Module Have
------------------- --------
CPAN 2.05
CPAN::Meta 2.143240
Cwd 3.47
ExtUtils::CBuilder 0.280220
ExtUtils::Command 1.18
ExtUtils::Install 2.04
ExtUtils::MakeMaker 7.04
ExtUtils::Manifest 1.70
ExtUtils::ParseXS 3.24
File::Spec 3.47
JSON 2.90
JSON::PP 2.27203
Module::Build 0.4211
Module::Signature n/a
Parse::CPAN::Meta 1.4414
Test::Harness 3.35
Test::More 1.001014
YAML 1.14
YAML::Syck 1.29
version 0.9912
--
Summary of my perl5 (revision 5 version 20 subversion 2) configuration:
Platform:
osname=linux, osvers=3.2.0-4-amd64, archname=x86_64-linux
uname='linux eserte 3.2.0-4-amd64 #1 smp debian 3.2.65-1+deb7u1 x86_64 gnulinux '
config_args='-ds -e -Dprefix=/opt/perl-5.20.2-RC1'
hint=recommended, useposix=true, d_sigaction=define
useithreads=undef, usemultiplicity=undef
use64bitint=define, use64bitall=define, uselongdouble=undef
usemymalloc=n, bincompat5005=undef
Compiler:
cc='cc', ccflags ='-fwrapv -fno-strict-aliasing -pipe -fstack-protector -I/usr/local/include -D_LARGEFILE_SOURCE -D_FILE_OFFSET_BITS=64',
optimize='-O2',
cppflags='-fwrapv -fno-strict-aliasing -pipe -fstack-protector -I/usr/local/include'
ccversion='', gccversion='4.7.2', gccosandvers=''
intsize=4, longsize=8, ptrsize=8, doublesize=8, byteorder=12345678
d_longlong=define, longlongsize=8, d_longdbl=define, longdblsize=16
ivtype='long', ivsize=8, nvtype='double', nvsize=8, Off_t='off_t', lseeksize=8
alignbytes=8, prototype=define
Linker and Libraries:
ld='cc', ldflags =' -fstack-protector -L/usr/local/lib'
libpth=/usr/local/lib /usr/lib/gcc/x86_64-linux-gnu/4.7/include-fixed /usr/include/x86_64-linux-gnu /usr/lib /lib/x86_64-linux-gnu /lib/../lib /usr/lib/x86_64-linux-gnu /usr/lib/../lib /lib
libs=-lnsl -ldb -ldl -lm -lcrypt -lutil -lc
perllibs=-lnsl -ldl -lm -lcrypt -lutil -lc
libc=libc-2.13.so, so=so, useshrplib=false, libperl=libperl.a
gnulibc_version='2.13'
Dynamic Linking:
dlsrc=dl_dlopen.xs, dlext=so, d_dlsymun=undef, ccdlflags='-Wl,-E'
cccdlflags='-fPIC', lddlflags='-shared -O2 -L/usr/local/lib -fstack-protector'
Characteristics of this binary (from libperl):
Compile-time options: HAS_TIMES PERLIO_LAYERS PERL_DONT_CREATE_GVSV
PERL_HASH_FUNC_ONE_AT_A_TIME_HARD PERL_MALLOC_WRAP
PERL_NEW_COPY_ON_WRITE PERL_PRESERVE_IVUV
USE_64_BIT_ALL USE_64_BIT_INT USE_LARGE_FILES
USE_LOCALE USE_LOCALE_COLLATE USE_LOCALE_CTYPE
USE_LOCALE_NUMERIC USE_PERLIO USE_PERL_ATOF
Locally applied patches:
RC1
Built under linux
Compiled at Feb 1 2015 10:21:29
%ENV:
PERL5LIB="/home/eserte/.cpan/build/PDL-Graphics-PLplot-0.67-OhyzrN/blib/arch:/home/eserte/.cpan/build/PDL-Graphics-PLplot-0.67-OhyzrN/blib/lib"
PERL5OPT=""
PERL5_CPANPLUS_IS_RUNNING="1220"
PERL5_CPAN_IS_RUNNING="1220"
PERL5_CPAN_IS_RUNNING_IN_RECURSION="12696,1220"
PERLDOC="-MPod::Perldoc::ToTextOverstrike"
PERL_BATCH="yes"
PERL_CPAN_REPORTER_CONFIG="/var/tmp/cpansmoker-1001/eWmeF8RUfE_config.ini"
PERL_EXTUTILS_AUTOINSTALL="--defaultdeps"
PERL_HTML_DISPLAY_CLASS="HTML::Display::Mozilla"
PERL_PARALLEL_SMOKER="yes"
@INC:
/home/eserte/.cpan/build/PDL-Graphics-PLplot-0.67-OhyzrN/blib/arch
/home/eserte/.cpan/build/PDL-Graphics-PLplot-0.67-OhyzrN/blib/lib
/opt/perl-5.20.2-RC1/lib/site_perl/5.20.2/x86_64-linux
/opt/perl-5.20.2-RC1/lib/site_perl/5.20.2
/opt/perl-5.20.2-RC1/lib/5.20.2/x86_64-linux
/opt/perl-5.20.2-RC1/lib/5.20.2
.