Data-Dump-Streamer v2.42 Perl 5 v5.42.0 x86_64-linux

Status
Pass
From
Slaven Rezić
Dist
Data-Dump-Streamer v2.42
Platform
Perl 5 v5.42.0 x86_64-linux
Date
2025-09-17 13:21:29
ID
3849fbec-93c9-11f0-a047-6c536e8775ea
This distribution has been tested as part of the CPAN Testers
project, supporting the Perl programming language.  See
http://wiki.cpantesters.org/ for more information or email
questions to cpan-testers-discuss@perl.org


--
Dear Yves,

This is a computer-generated report for Data-Dump-Streamer-2.42
on perl 5.42.0, created by CPAN-Reporter-1.2020.

Thank you for uploading your work to CPAN.  Congratulations!
All tests were successful.

Sections of this report:

    * Tester comments
    * Program output
    * Prerequisites
    * Environment and other context

------------------------------
TESTER COMMENTS
------------------------------

Additional comments from tester:

none provided

------------------------------
PROGRAM OUTPUT
------------------------------

Output from './Build test':

t/as.t .............. ok
t/blessed.t ......... ok
t/dogpound.t ........ ok
t/dump.t ............ ok
t/filter.t .......... ok
t/globtest.t ........ ok
t/hardrefs.t ........ ok
t/impure_madness.t .. ok
# 
# PadWalker 2.5 is installed
t/lexicals.t ........ ok
t/locked.t .......... ok
t/madness.t ......... ok
t/madness_json.t .... ok
t/madness_w.t ....... ok
t/names.t ........... ok
t/overload.t ........ ok
t/readonly.t ........ ok
t/refaddr.t ......... ok
t/refcount.t ........ ok
t/refelem.t ......... ok
t/reftype.t ......... ok
t/sortkeys.t ........ ok
t/stash.t ........... ok
t/terse.t ........... ok
t/tree.t ............ ok
t/usage.t ........... ok
t/xs_subs.t ......... ok
All tests successful.
Files=26, Tests=375,  5 wallclock secs ( 0.18 usr  0.10 sys +  3.86 cusr  0.61 csys =  4.75 CPU)
Result: PASS

------------------------------
PREREQUISITES
------------------------------

Prerequisite modules loaded:

requires:

    Module             Need  Have    
    ------------------ ----- --------
    B                  0     1.89    
    B::Deparse         0     1.85    
    B::Utils           0     0.27    
    Data::Dumper       0     2.192   
    DynaLoader         0     1.57    
    Exporter           0     5.79    
    Hash::Util         0     0.32    
    IO::File           0     1.55    
    overload           0     1.40    
    re                 0     0.48    
    strict             0     1.14    
    Symbol             0     1.09    
    Text::Abbrev       0     1.02    
    Text::Balanced     0     2.06    
    vars               0     1.05    
    warnings           0     1.74    
    warnings::register 0     1.06    

build_requires:

    Module             Need  Have    
    ------------------ ----- --------
    B::Deparse         0     1.85    
    base               0     2.27    
    Carp               0     1.54    
    Config             0     5.042000
    Data::Dumper       0     2.192   
    Devel::Peek        0     1.36    
    ExtUtils::CBuilder 0     0.280242
    overload           0     1.40    
    re                 0     0.48    
    strict             0     1.14    
    Symbol             0     1.09    
    Test::More         0     1.302210
    Text::Abbrev       0     1.02    
    utf8               0     1.27    
    vars               0     1.05    
    warnings           0     1.74    

configure_requires:

    Module             Need  Have    
    ------------------ ----- --------
    ExtUtils::Depends  0     0.8002  
    Module::Build      0     0.4234  
    perl               5.006 5.042000


------------------------------
ENVIRONMENT AND OTHER CONTEXT
------------------------------

Environment variables:

    LANG = C
    PATH = /usr/local/bin:/usr/bin:/bin:/usr/local/sbin:/usr/sbin:/sbin:/home/cpansand/bin/linux-gnu:/home/cpansand/bin/sh:/home/cpansand/bin:/usr/games:/home/cpansand/devel:/home/eserte/src/srezic-misc/scripts
    PERL5LIB = 
    PERL5OPT = 
    PERL5_CPANPLUS_IS_RUNNING = 760105
    PERL5_CPAN_IS_RUNNING = 760105
    PERL5_CPAN_IS_RUNNING_IN_RECURSION = 760041,760105
    PERLDOC = -MPod::Perldoc::ToTextOverstrike
    PERL_BATCH = yes
    PERL_CANARY_STABILITY_NOPROMPT = 1
    PERL_CPAN_REPORTER_CONFIG = /var/tmp/cpansmoker-1023/2025091713/cpanreporter_000_config.ini
    PERL_EXTUTILS_AUTOINSTALL = --defaultdeps
    PERL_USE_UNSAFE_INC = 1
    SHELL = /usr/bin/zsh
    TERM = screen
    TMPDIR = /var/tmp/cpansmoker-1023/2025091713

Perl special variables (and OS-specific diagnostics, for MSWin32):

    $^X = /opt/perl-5.42.0/bin/perl
    $UID/$EUID = 1023 / 1023
    $GID = 1023 1023
    $EGID = 1023 1023

Perl module toolchain versions installed:

    Module              Have    
    ------------------- --------
    CPAN                2.38    
    CPAN::Meta          2.150010
    Cwd                 3.94    
    ExtUtils::CBuilder  0.280242
    ExtUtils::Command   7.76    
    ExtUtils::Install   2.22    
    ExtUtils::MakeMaker 7.76    
    ExtUtils::Manifest  1.75    
    ExtUtils::ParseXS   3.57    
    File::Spec          3.94    
    JSON                4.10    
    JSON::PP            4.16    
    Module::Build       0.4234  
    Module::Signature   n/a     
    Parse::CPAN::Meta   2.150010
    Test2               1.302210
    Test::Harness       3.50    
    Test::More          1.302210
    YAML                1.31    
    YAML::Syck          1.34    
    version             0.9933  


--

Summary of my perl5 (revision 5 version 42 subversion 0) configuration:
   
  Platform:
    osname=linux
    osvers=6.1.0-37-amd64
    archname=x86_64-linux
    uname='linux cloud5.bbbike.org 6.1.0-37-amd64 #1 smp preempt_dynamic debian 6.1.140-1 (2025-05-22) x86_64 gnulinux '
    config_args='-ds -e -Dprefix=/opt/perl-5.42.0 -Uinstallusrbinperl -Dcf_email=srezic@cpan.org'
    hint=recommended
    useposix=true
    d_sigaction=define
    useithreads=undef
    usemultiplicity=undef
    use64bitint=define
    use64bitall=define
    uselongdouble=undef
    usemymalloc=n
    default_inc_excludes_dot=define
  Compiler:
    cc='cc'
    ccflags ='-fwrapv -fno-strict-aliasing -pipe -fstack-protector-strong -I/usr/local/include -D_LARGEFILE_SOURCE -D_FILE_OFFSET_BITS=64 -D_FORTIFY_SOURCE=2'
    optimize='-O2'
    cppflags='-fwrapv -fno-strict-aliasing -pipe -fstack-protector-strong -I/usr/local/include'
    ccversion=''
    gccversion='12.2.0'
    gccosandvers=''
    intsize=4
    longsize=8
    ptrsize=8
    doublesize=8
    byteorder=12345678
    doublekind=3
    d_longlong=define
    longlongsize=8
    d_longdbl=define
    longdblsize=16
    longdblkind=3
    ivtype='long'
    ivsize=8
    nvtype='double'
    nvsize=8
    Off_t='off_t'
    lseeksize=8
    alignbytes=8
    prototype=define
  Linker and Libraries:
    ld='cc'
    ldflags =' -fstack-protector-strong -L/usr/local/lib'
    libpth=/usr/local/lib /usr/lib/x86_64-linux-gnu /usr/lib /usr/lib64
    libs=-lpthread -lgdbm -ldb -ldl -lm -lcrypt -lutil -lc
    perllibs=-lpthread -ldl -lm -lcrypt -lutil -lc
    libc=/lib/x86_64-linux-gnu/libc.so.6
    so=so
    useshrplib=false
    libperl=libperl.a
    gnulibc_version='2.36'
  Dynamic Linking:
    dlsrc=dl_dlopen.xs
    dlext=so
    d_dlsymun=undef
    ccdlflags='-Wl,-E'
    cccdlflags='-fPIC'
    lddlflags='-shared -O2 -L/usr/local/lib -fstack-protector-strong'


Characteristics of this binary (from libperl): 
  Compile-time options:
    HAS_LONG_DOUBLE
    HAS_STRTOLD
    HAS_TIMES
    PERLIO_LAYERS
    PERL_COPY_ON_WRITE
    PERL_DONT_CREATE_GVSV
    PERL_HASH_FUNC_SIPHASH13
    PERL_HASH_USE_SBOX32
    PERL_MALLOC_WRAP
    PERL_OP_PARENT
    PERL_PRESERVE_IVUV
    PERL_USE_SAFE_PUTENV
    USE_64_BIT_ALL
    USE_64_BIT_INT
    USE_LARGE_FILES
    USE_LOCALE
    USE_LOCALE_COLLATE
    USE_LOCALE_CTYPE
    USE_LOCALE_NUMERIC
    USE_LOCALE_TIME
    USE_PERLIO
    USE_PERL_ATOF
  Built under linux
  Compiled at Jul  5 2025 18:17:19
  %ENV:
    PERL5LIB=""
    PERL5OPT=""
    PERL5_CPANPLUS_IS_RUNNING="760105"
    PERL5_CPAN_IS_RUNNING="760105"
    PERL5_CPAN_IS_RUNNING_IN_RECURSION="760041,760105"
    PERLDOC="-MPod::Perldoc::ToTextOverstrike"
    PERL_BATCH="yes"
    PERL_CANARY_STABILITY_NOPROMPT="1"
    PERL_CPAN_REPORTER_CONFIG="/var/tmp/cpansmoker-1023/2025091713/cpanreporter_000_config.ini"
    PERL_EXTUTILS_AUTOINSTALL="--defaultdeps"
    PERL_USE_UNSAFE_INC="1"
  @INC:
    /opt/perl-5.42.0/lib/site_perl/5.42.0/x86_64-linux
    /opt/perl-5.42.0/lib/site_perl/5.42.0
    /opt/perl-5.42.0/lib/5.42.0/x86_64-linux
    /opt/perl-5.42.0/lib/5.42.0
    .