Gtk2 v1.24992 Perl 5 v5.26.1 amd64-freebsd

Status
Pass
From
Slaven Rezić (SREZIC)
Dist
Gtk2 v1.24992
Platform
Perl 5 v5.26.1 amd64-freebsd
Date
2017-11-06 07:43:46
ID
38353a18-c2c6-11e7-8672-a05f9086f96e
This distribution has been tested as part of the CPAN Testers
project, supporting the Perl programming language.  See
http://wiki.cpantesters.org/ for more information or email
questions to cpan-testers-discuss@perl.org


--
Dear Brian Manning,

This is a computer-generated report for Gtk2-1.24992
on perl 5.26.1, created by CPAN-Reporter-1.2018.

Thank you for uploading your work to CPAN.  Congratulations!
All tests were successful.

Sections of this report:

    * Tester comments
    * Program output
    * Prerequisites
    * Environment and other context

------------------------------
TESTER COMMENTS
------------------------------

Additional comments from tester:

none provided

------------------------------
PROGRAM OUTPUT
------------------------------

Output from '/usr/bin/make test':

"/usr/perl5.26.1p/bin/perl" -MExtUtils::Command::MM -e 'cp_nonempty' -- Gtk2.bs blib/arch/auto/Gtk2/Gtk2.bs 644
PERL_DL_NONLAZY=1 "/usr/perl5.26.1p/bin/perl" "-MExtUtils::Command::MM" "-MTest::Harness" "-e" "undef *Test::Harness::Switches; test_harness(0, 'blib/lib', 'blib/arch')" t/*.t
# Testing Gtk2 1.24992
#    Running against gtk+ 2.24.31
#   Compiled against gtk+ 2.24.31
Xlib:  extension "RANDR" missing on display ":9".
t/00.Gtk2.t ........................ ok
Xlib:  extension "RANDR" missing on display ":9".
t/01.GtkWindow.t ................... ok
Xlib:  extension "RANDR" missing on display ":9".
t/02.GtkContainer.t ................ ok
t/constants.t ...................... ok
Xlib:  extension "RANDR" missing on display ":9".
t/Gdk.t ............................ ok
Xlib:  extension "RANDR" missing on display ":9".
t/GdkCairo.t ....................... ok
Xlib:  extension "RANDR" missing on display ":9".
t/GdkColor.t ....................... ok
Xlib:  extension "RANDR" missing on display ":9".
t/GdkCursor.t ...................... ok
Xlib:  extension "RANDR" missing on display ":9".
Xlib:  extension "RANDR" missing on display ":9".
Xlib:  extension "RANDR" missing on display ":9".
t/GdkDisplay.t ..................... ok
Xlib:  extension "RANDR" missing on display ":9".
t/GdkDisplayManager.t .............. ok
Xlib:  extension "RANDR" missing on display ":9".
t/GdkDrawable.t .................... ok
Xlib:  extension "RANDR" missing on display ":9".
t/GdkEvent.t ....................... ok
Xlib:  extension "RANDR" missing on display ":9".
t/GdkGC.t .......................... ok
Xlib:  extension "RANDR" missing on display ":9".
t/GdkImage.t ....................... ok
Xlib:  extension "RANDR" missing on display ":9".
t/GdkInput.t ....................... ok
Xlib:  extension "RANDR" missing on display ":9".
t/GdkKeys.t ........................ ok
Xlib:  extension "RANDR" missing on display ":9".
t/GdkPango.t ....................... ok
GdkPixbuf-LOG **: gdk_pixbuf_from_pixdata() called on: at t/GdkPixbuf.t line 185.
GdkPixbuf-LOG **: 	Encoding rle at t/GdkPixbuf.t line 185.
GdkPixbuf-LOG **: 	Dimensions: 4 x 5 at t/GdkPixbuf.t line 185.
GdkPixbuf-LOG **: 	Rowstride: 16, Length: 91 at t/GdkPixbuf.t line 185.
GdkPixbuf-LOG **: 	Copy pixels == true at t/GdkPixbuf.t line 185.
Xlib:  extension "RANDR" missing on display ":9".
t/GdkPixbuf.t ...................... ok
t/GdkPixbufLoader.t ................ ok
t/GdkPixbufSimpleAnim.t ............ ok
Xlib:  extension "RANDR" missing on display ":9".
Gdk-WARNING **: XID collision, trouble ahead at t/GdkPixmap.t line 16.
Gdk-WARNING **: XID collision, trouble ahead at t/GdkPixmap.t line 25.
Gdk-WARNING **: XID collision, trouble ahead at t/GdkPixmap.t line 40.
t/GdkPixmap.t ...................... ok
Xlib:  extension "RANDR" missing on display ":9".
t/GdkProperty.t .................... ok
t/GdkRegion.t ...................... ok
Xlib:  extension "RANDR" missing on display ":9".
t/GdkRgb.t ......................... ok
Xlib:  extension "RANDR" missing on display ":9".
t/GdkScreen.t ...................... ok
Xlib:  extension "RANDR" missing on display ":9".
t/GdkSelection.t ................... ok
Xlib:  extension "RANDR" missing on display ":9".
t/GdkVisual.t ...................... ok
Xlib:  extension "RANDR" missing on display ":9".
t/GdkWindow.t ...................... ok
Xlib:  extension "RANDR" missing on display ":9".
t/GdkX11.t ......................... ok
Xlib:  extension "RANDR" missing on display ":9".
t/GtkAboutDialog.t ................. ok
Xlib:  extension "RANDR" missing on display ":9".
t/GtkAccelGroup.t .................. ok
Xlib:  extension "RANDR" missing on display ":9".
t/GtkAccelLabel.t .................. ok
Xlib:  extension "RANDR" missing on display ":9".
t/GtkAccelMap.t .................... ok
Xlib:  extension "RANDR" missing on display ":9".
t/GtkAction.t ...................... ok
Xlib:  extension "RANDR" missing on display ":9".
t/GtkActionGroup.t ................. ok
Xlib:  extension "RANDR" missing on display ":9".
t/GtkActivatable.t ................. ok
t/GtkAdjustment.t .................. ok
t/GtkAlignment.t ................... ok
t/GtkArrow.t ....................... ok
t/GtkAspectFrame.t ................. ok
Xlib:  extension "RANDR" missing on display ":9".
t/GtkAssistant.t ................... ok
Xlib:  extension "RANDR" missing on display ":9".
t/GtkBin.t ......................... ok
Xlib:  extension "RANDR" missing on display ":9".
t/GtkBindings.t .................... ok
Xlib:  extension "RANDR" missing on display ":9".
t/GtkBox.t ......................... ok
Xlib:  extension "RANDR" missing on display ":9".
t/GtkBuildable.t ................... ok
Xlib:  extension "RANDR" missing on display ":9".
GLib-GObject-WARNING **: gsignal.c:1249: unable to lookup signal "changed" for non instantiatable type 'GtkBuildable' at /home/cpansand/.cpan/build/2017110615/Glib-1.326-0/blib/lib/Glib/Object/Subclass.pm line 235.
t/GtkBuildableIface.t .............. ok
Xlib:  extension "RANDR" missing on display ":9".
t/GtkBuilder.t ..................... ok
Xlib:  extension "RANDR" missing on display ":9".
t/GtkButton.t ...................... ok
Xlib:  extension "RANDR" missing on display ":9".
t/GtkButtonBox.t ................... ok
Xlib:  extension "RANDR" missing on display ":9".
t/GtkCalendar.t .................... ok
Xlib:  extension "RANDR" missing on display ":9".
GLib-GObject-CRITICAL **: Object class EditableTest doesn't implement property 'editing-canceled' from interface 'GtkCellEditable' at /home/cpansand/.cpan/build/2017110615/Glib-1.326-0/blib/lib/Glib/Object/Subclass.pm line 235.
t/GtkCellEditable.t ................ ok
Xlib:  extension "RANDR" missing on display ":9".
t/GtkCellLayout.t .................. ok
Xlib:  extension "RANDR" missing on display ":9".
t/GtkCellLayoutIface.t ............. ok
Xlib:  extension "RANDR" missing on display ":9".
t/GtkCellRenderer.t ................ ok
t/GtkCellRendererAccel.t ........... ok
t/GtkCellRendererCombo.t ........... ok
Xlib:  extension "RANDR" missing on display ":9".
t/GtkCellRendererIface-Chaining.t .. ok
t/GtkCellRendererPixbuf.t .......... ok
t/GtkCellRendererProgress.t ........ ok
t/GtkCellRendererSpin.t ............ ok
t/GtkCellRendererSpinner.t ......... ok
t/GtkCellRendererText.t ............ ok
t/GtkCellRendererToggle.t .......... ok
Xlib:  extension "RANDR" missing on display ":9".
t/GtkCellView.t .................... ok
Xlib:  extension "RANDR" missing on display ":9".
t/GtkCheckButton.t ................. ok
Xlib:  extension "RANDR" missing on display ":9".
t/GtkCheckMenuItem.t ............... ok
Xlib:  extension "RANDR" missing on display ":9".
t/GtkClipboard.t ................... ok
Xlib:  extension "RANDR" missing on display ":9".
t/GtkColorButton.t ................. ok
Xlib:  extension "RANDR" missing on display ":9".
t/GtkColorSelection.t .............. ok
Xlib:  extension "RANDR" missing on display ":9".
t/GtkColorSelectionDialog.t ........ ok
Xlib:  extension "RANDR" missing on display ":9".
t/GtkCombo.t ....................... ok
Xlib:  extension "RANDR" missing on display ":9".
t/GtkComboBox.t .................... ok
Xlib:  extension "RANDR" missing on display ":9".
t/GtkComboBoxEntry.t ............... ok
Xlib:  extension "RANDR" missing on display ":9".
t/GtkCurve.t ....................... ok
Xlib:  extension "RANDR" missing on display ":9".
t/GtkDialog.t ...................... ok
t/GtkDrawingArea.t ................. ok
Xlib:  extension "RANDR" missing on display ":9".
t/GtkEditable.t .................... ok
Xlib:  extension "RANDR" missing on display ":9".
t/GtkEntry.t ....................... ok
Xlib:  extension "RANDR" missing on display ":9".
t/GtkEntryBuffer.t ................. ok
Xlib:  extension "RANDR" missing on display ":9".
t/GtkEntryCompletion.t ............. ok
t/GtkEventBox.t .................... ok
Xlib:  extension "RANDR" missing on display ":9".
t/GtkExpander.t .................... ok
t/GtkFileChooser.t ................. skipped: this test is unreliable
Xlib:  extension "RANDR" missing on display ":9".
t/GtkFileChooserButton.t ........... ok
Xlib:  extension "RANDR" missing on display ":9".
t/GtkFileChooserDialog.t ........... ok
Xlib:  extension "RANDR" missing on display ":9".
t/GtkFileChooserWidget.t ........... ok
t/GtkFileFilter.t .................. ok
Xlib:  extension "RANDR" missing on display ":9".
t/GtkFileSelection.t ............... ok
t/GtkFixed.t ....................... ok
Xlib:  extension "RANDR" missing on display ":9".
t/GtkFontButton.t .................. ok
Xlib:  extension "RANDR" missing on display ":9".
t/GtkFontSelection.t ............... ok
t/GtkFrame.t ....................... ok
Xlib:  extension "RANDR" missing on display ":9".
GdkPixbuf-LOG **: gdk_pixbuf_from_pixdata() called on: at t/GtkGammaCurve.t line 20.
GdkPixbuf-LOG **: 	Encoding rle at t/GtkGammaCurve.t line 20.
GdkPixbuf-LOG **: 	Dimensions: 16 x 16 at t/GtkGammaCurve.t line 20.
GdkPixbuf-LOG **: 	Rowstride: 64, Length: 347 at t/GtkGammaCurve.t line 20.
GdkPixbuf-LOG **: 	Copy pixels == true at t/GtkGammaCurve.t line 20.
GdkPixbuf-LOG **: gdk_pixbuf_from_pixdata() called on: at t/GtkGammaCurve.t line 20.
GdkPixbuf-LOG **: 	Encoding rle at t/GtkGammaCurve.t line 20.
GdkPixbuf-LOG **: 	Dimensions: 16 x 16 at t/GtkGammaCurve.t line 20.
GdkPixbuf-LOG **: 	Rowstride: 64, Length: 206 at t/GtkGammaCurve.t line 20.
GdkPixbuf-LOG **: 	Copy pixels == true at t/GtkGammaCurve.t line 20.
GdkPixbuf-LOG **: gdk_pixbuf_from_pixdata() called on: at t/GtkGammaCurve.t line 20.
GdkPixbuf-LOG **: 	Encoding rle at t/GtkGammaCurve.t line 20.
GdkPixbuf-LOG **: 	Dimensions: 16 x 16 at t/GtkGammaCurve.t line 20.
GdkPixbuf-LOG **: 	Rowstride: 64, Length: 228 at t/GtkGammaCurve.t line 20.
GdkPixbuf-LOG **: 	Copy pixels == true at t/GtkGammaCurve.t line 20.
GdkPixbuf-LOG **: gdk_pixbuf_from_pixdata() called on: at t/GtkGammaCurve.t line 20.
GdkPixbuf-LOG **: 	Encoding rle at t/GtkGammaCurve.t line 20.
GdkPixbuf-LOG **: 	Dimensions: 16 x 16 at t/GtkGammaCurve.t line 20.
GdkPixbuf-LOG **: 	Rowstride: 64, Length: 242 at t/GtkGammaCurve.t line 20.
GdkPixbuf-LOG **: 	Copy pixels == true at t/GtkGammaCurve.t line 20.
GdkPixbuf-LOG **: gdk_pixbuf_from_pixdata() called on: at t/GtkGammaCurve.t line 20.
GdkPixbuf-LOG **: 	Encoding rle at t/GtkGammaCurve.t line 20.
GdkPixbuf-LOG **: 	Dimensions: 16 x 16 at t/GtkGammaCurve.t line 20.
GdkPixbuf-LOG **: 	Rowstride: 64, Length: 197 at t/GtkGammaCurve.t line 20.
GdkPixbuf-LOG **: 	Copy pixels == true at t/GtkGammaCurve.t line 20.
t/GtkGammaCurve.t .................. ok
Xlib:  extension "RANDR" missing on display ":9".
t/GtkGC.t .......................... ok
t/GtkHandleBox.t ................... ok
t/GtkHBox.t ........................ ok
t/GtkHButtonBox.t .................. ok
t/GtkHPaned.t ...................... ok
t/GtkHRuler.t ...................... ok
Xlib:  extension "RANDR" missing on display ":9".
t/GtkHScale.t ...................... ok
t/GtkHScrollbar.t .................. ok
t/GtkHSeparator.t .................. ok
t/GtkHSV.t ......................... ok
Xlib:  extension "RANDR" missing on display ":9".
t/GtkIconFactory.t ................. ok
Xlib:  extension "RANDR" missing on display ":9".
t/GtkIconTheme.t ................... ok
Xlib:  extension "RANDR" missing on display ":9".
t/GtkIconView.t .................... ok
Xlib:  extension "RANDR" missing on display ":9".
t/GtkImage.t ....................... ok
Xlib:  extension "RANDR" missing on display ":9".
t/GtkImageMenuItem.t ............... ok
Xlib:  extension "RANDR" missing on display ":9".
t/GtkIMContext.t ................... ok
Xlib:  extension "RANDR" missing on display ":9".
t/GtkInfoBar.t ..................... ok
Xlib:  extension "RANDR" missing on display ":9".
t/GtkInputDialog.t ................. ok
Xlib:  extension "RANDR" missing on display ":9".
t/GtkInvisible.t ................... ok
Xlib:  extension "RANDR" missing on display ":9".
t/GtkItemFactory.t ................. ok
Xlib:  extension "RANDR" missing on display ":9".
t/GtkLabel.t ....................... ok
Xlib:  extension "RANDR" missing on display ":9".
t/GtkLayout.t ...................... ok
Xlib:  extension "RANDR" missing on display ":9".
t/GtkLinkButton.t .................. ok
Xlib:  extension "RANDR" missing on display ":9".
t/GtkListStore.t ................... ok
Xlib:  extension "RANDR" missing on display ":9".
t/GtkMenu.t ........................ ok
t/GtkMenuBar.t ..................... ok
Xlib:  extension "RANDR" missing on display ":9".
t/GtkMenuItem.t .................... ok
Xlib:  extension "RANDR" missing on display ":9".
t/GtkMenuShell.t ................... ok
Xlib:  extension "RANDR" missing on display ":9".
t/GtkMenuToolButton.t .............. ok
Xlib:  extension "RANDR" missing on display ":9".
t/GtkMessageDialog.t ............... ok
t/GtkMisc.t ........................ ok
Xlib:  extension "RANDR" missing on display ":9".
t/GtkNotebook.t .................... ok
t/GtkObject.t ...................... ok
Xlib:  extension "RANDR" missing on display ":9".
t/GtkOffscreenWindow.t ............. ok
Xlib:  extension "RANDR" missing on display ":9".
t/GtkOptionMenu.t .................. ok
Xlib:  extension "RANDR" missing on display ":9".
t/GtkOrientable.t .................. ok
Xlib:  extension "RANDR" missing on display ":9".
t/GtkPageSetup.t ................... ok
Xlib:  extension "RANDR" missing on display ":9".
t/GtkPaned.t ....................... ok
Xlib:  extension "RANDR" missing on display ":9".
t/GtkPaperSize.t ................... ok
Xlib:  extension "RANDR" missing on display ":9".
t/GtkPrintContext.t ................ ok
Xlib:  extension "RANDR" missing on display ":9".
t/GtkPrintOperation.t .............. ok
Xlib:  extension "RANDR" missing on display ":9".
t/GtkPrintOperationPreview.t ....... ok
Xlib:  extension "RANDR" missing on display ":9".
t/GtkPrintSettings.t ............... ok
t/GtkProgressBar.t ................. ok
t/GtkRadioAction.t ................. ok
Xlib:  extension "RANDR" missing on display ":9".
t/GtkRadioButton.t ................. ok
Xlib:  extension "RANDR" missing on display ":9".
t/GtkRadioMenuItem.t ............... ok
Xlib:  extension "RANDR" missing on display ":9".
t/GtkRadioToolButton.t ............. ok
Xlib:  extension "RANDR" missing on display ":9".
t/GtkRange.t ....................... ok
Xlib:  extension "RANDR" missing on display ":9".
t/GtkRc.t .......................... ok
Xlib:  extension "RANDR" missing on display ":9".
t/GtkRecentAction.t ................ ok
Xlib:  extension "RANDR" missing on display ":9".
GLib-CRITICAL **: Source ID 6 was not found when attempting to remove it at t/GtkRecentChooser.t line 67.
GLib-CRITICAL **: Source ID 10 was not found when attempting to remove it at /home/cpansand/.cpan/build/2017110615/Gtk2-1.24992-0/blib/lib/Gtk2/TestHelper.pm line 84.
GLib-CRITICAL **: Source ID 13 was not found when attempting to remove it at t/GtkRecentChooser.t line 103.
t/GtkRecentChooser.t ............... ok
Xlib:  extension "RANDR" missing on display ":9".
t/GtkRecentChooserDialog.t ......... ok
Xlib:  extension "RANDR" missing on display ":9".
t/GtkRecentChooserMenu.t ........... ok
Xlib:  extension "RANDR" missing on display ":9".
t/GtkRecentChooserWidget.t ......... ok
Xlib:  extension "RANDR" missing on display ":9".
t/GtkRecentFilter.t ................ ok
Xlib:  extension "RANDR" missing on display ":9".
t/GtkRecentManager.t ............... ok
t/GtkRuler.t ....................... ok
Xlib:  extension "RANDR" missing on display ":9".
t/GtkScale.t ....................... ok
Xlib:  extension "RANDR" missing on display ":9".
t/GtkScaleButton.t ................. ok
Xlib:  extension "RANDR" missing on display ":9".
t/GtkScrolledWindow.t .............. ok
Xlib:  extension "RANDR" missing on display ":9".
t/GtkSelection.t ................... ok
t/GtkSeparatorMenuItem.t ........... ok
Xlib:  extension "RANDR" missing on display ":9".
t/GtkSeparatorToolItem.t ........... ok
t/GtkShow.t ........................ skipped: can only test interactively
Xlib:  extension "RANDR" missing on display ":9".
t/GtkSimpleList.t .................. ok
Xlib:  extension "RANDR" missing on display ":9".
t/GtkSimpleMenu.t .................. ok
t/GtkSizeGroup.t ................... ok
Xlib:  extension "RANDR" missing on display ":9".
t/GtkSpinButton.t .................. ok
t/GtkSpinner.t ..................... ok
t/GtkStatusbar.t ................... ok
Xlib:  extension "RANDR" missing on display ":9".
t/GtkStatusIcon.t .................. ok
t/GtkStock.t ....................... ok
Xlib:  extension "RANDR" missing on display ":9".
t/GtkStyle.t ....................... ok
Xlib:  extension "RANDR" missing on display ":9".
t/GtkTable.t ....................... ok
t/GtkTearoffMenuItem.t ............. ok
Xlib:  extension "RANDR" missing on display ":9".
t/GtkTextBuffer.t .................. ok
Xlib:  extension "RANDR" missing on display ":9".
GLib-WARNING **: (gerror.c:405):g_error_new_valist: runtime check failed: (domain != 0) at t/GtkTextBufferRichText.t line 210, <DATA> line 1.
t/GtkTextBufferRichText.t .......... ok
Xlib:  extension "RANDR" missing on display ":9".
t/GtkTextChildAnchor.t ............. ok
t/GtkTextIter.t .................... ok
t/GtkTextMark.t .................... ok
Xlib:  extension "RANDR" missing on display ":9".
t/GtkTextTag.t ..................... ok
t/GtkTextTagTable.t ................ ok
Xlib:  extension "RANDR" missing on display ":9".
t/GtkTextView.t .................... ok
Xlib:  extension "RANDR" missing on display ":9".
t/GtkToggleAction.t ................ ok
Xlib:  extension "RANDR" missing on display ":9".
t/GtkToggleButton.t ................ ok
Xlib:  extension "RANDR" missing on display ":9".
t/GtkToggleToolButton.t ............ ok
Xlib:  extension "RANDR" missing on display ":9".
t/GtkToolbar.t ..................... ok
Xlib:  extension "RANDR" missing on display ":9".
t/GtkToolButton.t .................. ok
Xlib:  extension "RANDR" missing on display ":9".
t/GtkToolItem.t .................... ok
Xlib:  extension "RANDR" missing on display ":9".
t/GtkToolItemGroup.t ............... ok
Xlib:  extension "RANDR" missing on display ":9".
t/GtkToolPalette.t ................. ok
Xlib:  extension "RANDR" missing on display ":9".
t/GtkToolShell.t ................... ok
Xlib:  extension "RANDR" missing on display ":9".
t/GtkTooltip.t ..................... ok
Xlib:  extension "RANDR" missing on display ":9".
t/GtkTooltips.t .................... ok
t/GtkTreeDnd.t ..................... ok
t/GtkTreeModel.t ................... ok
t/GtkTreeModelFilter.t ............. ok
t/GtkTreeModelIface.t .............. ok
t/GtkTreeModelSort.t ............... ok
Xlib:  extension "RANDR" missing on display ":9".
t/GtkTreeSelection.t ............... ok
t/GtkTreeSortable.t ................ ok
t/GtkTreeStore.t ................... ok
t/GtkTreeView-Dnd.t ................ skipped: this test is interactive
Xlib:  extension "RANDR" missing on display ":9".
t/GtkTreeView.t .................... ok
Xlib:  extension "RANDR" missing on display ":9".
t/GtkUIManager.t ................... ok
t/GtkVBox.t ........................ ok
t/GtkVButtonBox.t .................. ok
Xlib:  extension "RANDR" missing on display ":9".
t/GtkViewport.t .................... ok
Xlib:  extension "RANDR" missing on display ":9".
t/GtkVolumeButton.t ................ ok
t/GtkVPaned.t ...................... ok
t/GtkVRuler.t ...................... ok
Xlib:  extension "RANDR" missing on display ":9".
t/GtkVScale.t ...................... ok
t/GtkVScrollbar.t .................. ok
t/GtkVSeparator.t .................. ok
Xlib:  extension "RANDR" missing on display ":9".
t/GtkWidget.t ...................... ok
Xlib:  extension "RANDR" missing on display ":9".
t/options.t ........................ ok
Xlib:  extension "RANDR" missing on display ":9".
t/pango-compat.t ................... ok
Xlib:  extension "RANDR" missing on display ":9".
t/PangoAttributes.t ................ ok
t/PangoCairo.t ..................... ok
Xlib:  extension "RANDR" missing on display ":9".
t/PangoContext.t ................... ok
Xlib:  extension "RANDR" missing on display ":9".
t/PangoFont.t ...................... ok
Xlib:  extension "RANDR" missing on display ":9".
t/PangoFontMap.t ................... ok
Xlib:  extension "RANDR" missing on display ":9".
t/PangoFontset.t ................... ok
t/PangoGravity.t ................... ok
Xlib:  extension "RANDR" missing on display ":9".
t/PangoLayout.t .................... ok
t/PangoMatrix.t .................... ok
Xlib:  extension "RANDR" missing on display ":9".
t/PangoRenderer.t .................. ok
Xlib:  extension "RANDR" missing on display ":9".
t/PangoScript.t .................... ok
t/PangoTabs.t ...................... ok
t/PangoTypes.t ..................... ok
Xlib:  extension "RANDR" missing on display ":9".
t/set-scroll-adjustments-signal.t .. ok
Xlib:  extension "RANDR" missing on display ":9".
t/signal-chaining.t ................ ok
Xlib:  extension "RANDR" missing on display ":9".
t/tied-objects.t ................... ok
t/version-checks.t ................. ok
All tests successful.
Files=228, Tests=5063, 33 wallclock secs ( 0.84 usr  0.33 sys + 24.53 cusr  6.85 csys = 32.55 CPU)
Result: PASS

------------------------------
PREREQUISITES
------------------------------

Prerequisite modules loaded:

requires:

    Module              Need  Have 
    ------------------- ----- -----
    Cairo               1.000 1.106
    ExtUtils::Depends   0.300 0.405
    ExtUtils::PkgConfig 1.030 1.16 
    Glib                1.280 1.326
    Pango               1.220 1.227

build_requires:

    Module              Need  Have 
    ------------------- ----- -----
    ExtUtils::MakeMaker 0     7.24 

configure_requires:

    Module              Need  Have 
    ------------------- ----- -----
    Cairo               1.000 1.106
    ExtUtils::Depends   0.300 0.405
    ExtUtils::PkgConfig 1.030 1.16 
    Glib                1.280 1.326
    Pango               1.220 1.227


------------------------------
ENVIRONMENT AND OTHER CONTEXT
------------------------------

Environment variables:

    PATH = /usr/local/bin:/usr/bin:/bin:/usr/local/sbin:/usr/sbin:/sbin:/home/cpansand/bin/freebsd11.0:/home/cpansand/bin/sh:/home/cpansand/bin:/usr/games:/home/cpansand/devel:/home/eserte/src/srezic-misc/scripts
    PERL5LIB = /home/cpansand/.cpan/build/2017110615/Pango-1.227-0/blib/arch:/home/cpansand/.cpan/build/2017110615/Pango-1.227-0/blib/lib:/home/cpansand/.cpan/build/2017110615/Cairo-1.106-0/blib/arch:/home/cpansand/.cpan/build/2017110615/Cairo-1.106-0/blib/lib:/home/cpansand/.cpan/build/2017110615/Glib-Ex-ConnectProperties-19-0/blib/arch:/home/cpansand/.cpan/build/2017110615/Glib-Ex-ConnectProperties-19-0/blib/lib:/home/cpansand/.cpan/build/2017110615/Glib-Ex-ObjectBits-16-0/blib/arch:/home/cpansand/.cpan/build/2017110615/Glib-Ex-ObjectBits-16-0/blib/lib:/home/cpansand/.cpan/build/2017110615/Glib-1.326-0/blib/arch:/home/cpansand/.cpan/build/2017110615/Glib-1.326-0/blib/lib:/home/cpansand/.cpan/build/2017110615/ExtUtils-PkgConfig-1.16-0/blib/arch:/home/cpansand/.cpan/build/2017110615/ExtUtils-PkgConfig-1.16-0/blib/lib:/home/cpansand/.cpan/build/2017110615/Class-WeakSingleton-1.05-0/blib/arch:/home/cpansand/.cpan/build/2017110615/Class-WeakSingleton-1.05-0/blib/lib
    PERL5OPT = 
    PERL5_CPANPLUS_IS_RUNNING = 42172
    PERL5_CPAN_IS_RUNNING = 42172
    PERL5_CPAN_IS_RUNNING_IN_RECURSION = 42139,42172
    PERLDOC = -MPod::Perldoc::ToTextOverstrike
    PERL_BATCH = yes
    PERL_CANARY_STABILITY_NOPROMPT = 1
    PERL_CPAN_REPORTER_CONFIG = /var/tmp/cpansmoker-1023/2017110615/cpanreporter_000_config.ini
    PERL_EXTUTILS_AUTOINSTALL = --defaultdeps
    PERL_USE_UNSAFE_INC = 1
    SHELL = /usr/local/bin/zsh
    TERM = screen
    TMPDIR = /var/tmp/cpansmoker-1023/2017110615

Perl special variables (and OS-specific diagnostics, for MSWin32):

    $^X = /usr/perl5.26.1p/bin/perl
    $UID/$EUID = 1023 / 1023
    $GID = 1023 1023
    $EGID = 1023 1023

Perl module toolchain versions installed:

    Module              Have    
    ------------------- --------
    CPAN                2.18    
    CPAN::Meta          2.150010
    Cwd                 3.67    
    ExtUtils::CBuilder  0.280225
    ExtUtils::Command   7.24    
    ExtUtils::Install   2.04    
    ExtUtils::MakeMaker 7.24    
    ExtUtils::Manifest  1.70    
    ExtUtils::ParseXS   3.34    
    File::Spec          3.67    
    JSON                2.94    
    JSON::PP            2.94    
    Module::Build       0.4224  
    Module::Signature   n/a     
    Parse::CPAN::Meta   2.150010
    Test::Harness       3.38    
    Test::More          1.302106
    YAML                1.23    
    YAML::Syck          1.30    
    version             0.9917  


--

Summary of my perl5 (revision 5 version 26 subversion 1) configuration:
   
  Platform:
    osname=freebsd
    osvers=11.1-release-p2
    archname=amd64-freebsd
    uname='freebsd ali2.bbbike.org 11.1-release-p2 freebsd 11.1-release-p2 #0 r313908+e96f1f21705(releng11.1)-dirty: thu oct 19 12:14:33 utc 2017 root@ali2.bbbike.org:usrobjhomeprojectsfreebsdsysgeneric amd64 '
    config_args='-ds -e -Dprefix=/usr/perl5.26.1p -Dcf_email=srezic@cpan.org -Doptimize=-O2 -pipe'
    hint=recommended
    useposix=true
    d_sigaction=define
    useithreads=undef
    usemultiplicity=undef
    use64bitint=define
    use64bitall=define
    uselongdouble=undef
    usemymalloc=n
    default_inc_excludes_dot=define
    bincompat5005=undef
  Compiler:
    cc='cc'
    ccflags ='-DHAS_FPSETMASK -DHAS_FLOATINGPOINT_H -fno-strict-aliasing -pipe -fstack-protector-strong -I/usr/local/include -D_FORTIFY_SOURCE=2'
    optimize='-O2 -pipe'
    cppflags='-DHAS_FPSETMASK -DHAS_FLOATINGPOINT_H -fno-strict-aliasing -pipe -fstack-protector-strong -I/usr/local/include'
    ccversion=''
    gccversion='4.2.1 Compatible FreeBSD Clang 4.0.0 (tags/RELEASE_400/final 297347)'
    gccosandvers=''
    intsize=4
    longsize=8
    ptrsize=8
    doublesize=8
    byteorder=12345678
    doublekind=3
    d_longlong=define
    longlongsize=8
    d_longdbl=define
    longdblsize=16
    longdblkind=3
    ivtype='long'
    ivsize=8
    nvtype='double'
    nvsize=8
    Off_t='off_t'
    lseeksize=8
    alignbytes=8
    prototype=define
  Linker and Libraries:
    ld='cc'
    ldflags ='-pthread -Wl,-E  -fstack-protector-strong -L/usr/local/lib'
    libpth=/usr/lib /usr/local/lib /usr/bin/../lib/clang/4.0.0/lib /usr/lib
    libs=-lpthread -lgdbm -lm -lcrypt -lutil -lc
    perllibs=-lpthread -lm -lcrypt -lutil -lc
    libc=
    so=so
    useshrplib=false
    libperl=libperl.a
    gnulibc_version=''
  Dynamic Linking:
    dlsrc=dl_dlopen.xs
    dlext=so
    d_dlsymun=undef
    ccdlflags=' '
    cccdlflags='-DPIC -fPIC'
    lddlflags='-shared  -L/usr/local/lib -fstack-protector-strong'


Characteristics of this binary (from libperl): 
  Compile-time options:
    HAS_TIMES
    PERLIO_LAYERS
    PERL_COPY_ON_WRITE
    PERL_DONT_CREATE_GVSV
    PERL_MALLOC_WRAP
    PERL_OP_PARENT
    PERL_PRESERVE_IVUV
    USE_64_BIT_ALL
    USE_64_BIT_INT
    USE_LARGE_FILES
    USE_LOCALE
    USE_LOCALE_COLLATE
    USE_LOCALE_CTYPE
    USE_LOCALE_NUMERIC
    USE_LOCALE_TIME
    USE_PERLIO
    USE_PERL_ATOF
  Built under freebsd
  Compiled at Oct 28 2017 07:46:07
  %ENV:
    PERL5LIB="/home/cpansand/.cpan/build/2017110615/Pango-1.227-0/blib/arch:/home/cpansand/.cpan/build/2017110615/Pango-1.227-0/blib/lib:/home/cpansand/.cpan/build/2017110615/Cairo-1.106-0/blib/arch:/home/cpansand/.cpan/build/2017110615/Cairo-1.106-0/blib/lib:/home/cpansand/.cpan/build/2017110615/Glib-Ex-ConnectProperties-19-0/blib/arch:/home/cpansand/.cpan/build/2017110615/Glib-Ex-ConnectProperties-19-0/blib/lib:/home/cpansand/.cpan/build/2017110615/Glib-Ex-ObjectBits-16-0/blib/arch:/home/cpansand/.cpan/build/2017110615/Glib-Ex-ObjectBits-16-0/blib/lib:/home/cpansand/.cpan/build/2017110615/Glib-1.326-0/blib/arch:/home/cpansand/.cpan/build/2017110615/Glib-1.326-0/blib/lib:/home/cpansand/.cpan/build/2017110615/ExtUtils-PkgConfig-1.16-0/blib/arch:/home/cpansand/.cpan/build/2017110615/ExtUtils-PkgConfig-1.16-0/blib/lib:/home/cpansand/.cpan/build/2017110615/Class-WeakSingleton-1.05-0/blib/arch:/home/cpansand/.cpan/build/2017110615/Class-WeakSingleton-1.05-0/blib/lib"
    PERL5OPT=""
    PERL5_CPANPLUS_IS_RUNNING="42172"
    PERL5_CPAN_IS_RUNNING="42172"
    PERL5_CPAN_IS_RUNNING_IN_RECURSION="42139,42172"
    PERLDOC="-MPod::Perldoc::ToTextOverstrike"
    PERL_BATCH="yes"
    PERL_CANARY_STABILITY_NOPROMPT="1"
    PERL_CPAN_REPORTER_CONFIG="/var/tmp/cpansmoker-1023/2017110615/cpanreporter_000_config.ini"
    PERL_EXTUTILS_AUTOINSTALL="--defaultdeps"
    PERL_USE_UNSAFE_INC="1"
  @INC:
    /home/cpansand/.cpan/build/2017110615/Pango-1.227-0/blib/arch
    /home/cpansand/.cpan/build/2017110615/Pango-1.227-0/blib/lib
    /home/cpansand/.cpan/build/2017110615/Cairo-1.106-0/blib/arch
    /home/cpansand/.cpan/build/2017110615/Cairo-1.106-0/blib/lib
    /home/cpansand/.cpan/build/2017110615/Glib-Ex-ConnectProperties-19-0/blib/arch
    /home/cpansand/.cpan/build/2017110615/Glib-Ex-ConnectProperties-19-0/blib/lib
    /home/cpansand/.cpan/build/2017110615/Glib-Ex-ObjectBits-16-0/blib/arch
    /home/cpansand/.cpan/build/2017110615/Glib-Ex-ObjectBits-16-0/blib/lib
    /home/cpansand/.cpan/build/2017110615/Glib-1.326-0/blib/arch
    /home/cpansand/.cpan/build/2017110615/Glib-1.326-0/blib/lib
    /home/cpansand/.cpan/build/2017110615/ExtUtils-PkgConfig-1.16-0/blib/arch
    /home/cpansand/.cpan/build/2017110615/ExtUtils-PkgConfig-1.16-0/blib/lib
    /home/cpansand/.cpan/build/2017110615/Class-WeakSingleton-1.05-0/blib/arch
    /home/cpansand/.cpan/build/2017110615/Class-WeakSingleton-1.05-0/blib/lib
    /usr/perl5.26.1p/lib/site_perl/5.26.1/amd64-freebsd
    /usr/perl5.26.1p/lib/site_perl/5.26.1
    /usr/perl5.26.1p/lib/5.26.1/amd64-freebsd
    /usr/perl5.26.1p/lib/5.26.1
    .