Syntax-Feature-Try v1.005 Perl 5 v5.26.2 x86_64-linux

Status
Pass
From
Ioan Rogers
Dist
Syntax-Feature-Try v1.005
Platform
Perl 5 v5.26.2 x86_64-linux
Date
2018-04-16 22:48:02
ID
382f95fa-41c8-11e8-8bf5-90d82aa023fc
This distribution has been tested as part of the CPAN Testers
project, supporting the Perl programming language.  See
http://wiki.cpantesters.org/ for more information or email
questions to cpan-testers-discuss@perl.org


--
Dear TNT,

This is a computer-generated report for Syntax-Feature-Try-1.005
on perl 5.26.2, created by App::cpanminus::reporter 0.17 (1.7043).

Thank you for uploading your work to CPAN.  Congratulations!
All tests were successful.

Sections of this report:

    * Tester comments
    * Program output
    * Prerequisites
    * Environment and other context

------------------------------
TESTER COMMENTS
------------------------------

Additional comments from tester:

none provided

------------------------------
PROGRAM OUTPUT
------------------------------

Output from '':

Building and testing Syntax-Feature-Try-1.005
"/home/ioanrogers/.plenv/versions/5.26.2/bin/perl5.26.2" "/home/ioanrogers/.plenv/versions/5.26.2/lib/perl5/5.26.2/ExtUtils/xsubpp"  -typemap '/home/ioanrogers/.plenv/versions/5.26.2/lib/perl5/5.26.2/ExtUtils/typemap'  Try.xs > Try.xsc
Running Mkbootstrap for Try ()
chmod 644 "Try.bs"
"/home/ioanrogers/.plenv/versions/5.26.2/bin/perl5.26.2" -MExtUtils::Command::MM -e 'cp_nonempty' -- Try.bs blib/arch/auto/Syntax/Feature/Try/Try.bs 644
cp lib/Syntax/Feature/Try.pm blib/lib/Syntax/Feature/Try.pm
mv Try.xsc Try.c
clang -c  -Isrc -fno-strict-aliasing -pipe -fstack-protector-strong -I/usr/local/include -D_LARGEFILE_SOURCE -D_FILE_OFFSET_BITS=64 -D_FORTIFY_SOURCE=2 -O3   -DVERSION=\"1.005\" -DXS_VERSION=\"1.005\" -fPIC "-I/home/ioanrogers/.plenv/versions/5.26.2/lib/perl5/5.26.2/x86_64-linux/CORE"   Try.c
rm -f blib/arch/auto/Syntax/Feature/Try/Try.so
clang  -shared -O3 -L/usr/local/lib -fstack-protector-strong Try.o  -o blib/arch/auto/Syntax/Feature/Try/Try.so  \
      \
  
chmod 755 blib/arch/auto/Syntax/Feature/Try/Try.so
"/home/ioanrogers/.plenv/versions/5.26.2/bin/perl5.26.2" -MExtUtils::Command::MM -e 'cp_nonempty' -- Try.bs blib/arch/auto/Syntax/Feature/Try/Try.bs 644
PERL_DL_NONLAZY=1 "/home/ioanrogers/.plenv/versions/5.26.2/bin/perl5.26.2" "-MExtUtils::Command::MM" "-MTest::Harness" "-e" "undef *Test::Harness::Switches; test_harness(0, 'blib/lib', 'blib/arch')" t/*.t
[15:43:52] t/01_use_ok.t ..................... ok        2 ms ( 0.00 usr  0.00 sys +  0.07 cusr  0.01 csys =  0.08 CPU)
[15:43:52] t/author-critic.t ................. skipped: these tests are for testing by the author
[15:43:52] t/author-pod-coverage.t ........... skipped: these tests are for testing by the author
[15:43:52] t/author-pod-syntax.t ............. skipped: these tests are for testing by the author
[15:43:52] t/15_parser_syntax_ok.t ........... ok        6 ms ( 0.00 usr  0.00 sys +  0.14 cusr  0.02 csys =  0.16 CPU)
[15:43:52] t/10_parser_output.t .............. ok       11 ms ( 0.00 usr  0.00 sys +  0.30 cusr  0.03 csys =  0.33 CPU)
[15:43:52] t/20_parser_syntax_errors.t ....... ok        8 ms ( 0.01 usr  0.00 sys +  0.31 cusr  0.02 csys =  0.34 CPU)
[15:43:52] t/20_parser_warnings.t ............ ok        6 ms ( 0.00 usr  0.00 sys +  0.30 cusr  0.03 csys =  0.33 CPU)
[15:43:52] t/catch_isa.t ..................... ok        7 ms ( 0.00 usr  0.00 sys +  0.15 cusr  0.01 csys =  0.16 CPU)
[15:43:52] t/catch_others.t .................. ok        6 ms ( 0.00 usr  0.00 sys +  0.14 cusr  0.03 csys =  0.17 CPU)
[15:43:52] t/catch_variable.t ................ ok        8 ms ( 0.00 usr  0.00 sys +  0.28 cusr  0.05 csys =  0.33 CPU)
[15:43:52] t/exit.t .......................... ok       30 ms ( 0.00 usr  0.00 sys +  0.37 cusr  0.06 csys =  0.43 CPU)
[15:43:52] t/catch_without_variable.t ........ ok        7 ms ( 0.00 usr  0.00 sys +  0.16 cusr  0.02 csys =  0.18 CPU)
[15:43:52] t/customer_exception_matchers.t ... ok        8 ms ( 0.00 usr  0.00 sys +  0.30 cusr  0.04 csys =  0.34 CPU)
[15:43:52] t/exception_class.t ............... ok        4 ms ( 0.00 usr  0.00 sys +  0.15 cusr  0.02 csys =  0.17 CPU)
[15:43:52] t/finally.t ....................... ok       13 ms ( 0.00 usr  0.00 sys +  0.16 cusr  0.01 csys =  0.17 CPU)
[15:43:52] t/import.t ........................ ok        5 ms ( 0.00 usr  0.00 sys +  0.30 cusr  0.04 csys =  0.34 CPU)
[15:43:52] t/last_op_in_block.t .............. ok        7 ms ( 0.00 usr  0.00 sys +  0.14 cusr  0.03 csys =  0.17 CPU)
[15:43:52] t/line_numbers.t .................. ok       11 ms ( 0.01 usr  0.00 sys +  0.16 cusr  0.01 csys =  0.18 CPU)
[15:43:52] t/catch_moose_type_constraints.t .. ok        9 ms ( 0.00 usr  0.00 sys +  0.50 cusr  0.05 csys =  0.55 CPU)
[15:43:52] t/memory_leaks.t .................. ok        8 ms ( 0.00 usr  0.00 sys +  0.45 cusr  0.05 csys =  0.50 CPU)
[15:43:52] t/localized_error_variable.t ...... ok        6 ms ( 0.01 usr  0.00 sys +  0.15 cusr  0.02 csys =  0.18 CPU)
[15:43:52] t/loops.t ......................... ok        2 ms ( 0.00 usr  0.00 sys +  0.15 cusr  0.02 csys =  0.17 CPU)
[15:43:52] t/nested.t ........................ ok        2 ms ( 0.00 usr  0.00 sys +  0.12 cusr  0.01 csys =  0.13 CPU)
[15:43:52] t/recursive.t ..................... ok        4 ms ( 0.00 usr  0.00 sys +  0.15 cusr  0.02 csys =  0.17 CPU)
[15:43:52] t/subroutine_args.t ............... ok        2 ms ( 0.00 usr  0.01 sys +  0.14 cusr  0.02 csys =  0.17 CPU)
[15:43:52] t/statement.t ..................... ok        3 ms ( 0.00 usr  0.00 sys +  0.29 cusr  0.03 csys =  0.32 CPU)
[15:43:52] t/wantarray.t ..................... ok       10 ms ( 0.00 usr  0.00 sys +  0.14 cusr  0.01 csys =  0.15 CPU)
[15:43:52] t/return.t ........................ ok       41 ms ( 0.01 usr  0.01 sys +  0.62 cusr  0.06 csys =  0.70 CPU)
[15:43:53] t/moose_throwable.t ............... ok        5 ms ( 0.01 usr  0.00 sys +  0.29 cusr  0.04 csys =  0.34 CPU)
[15:43:53]
All tests successful.

Test Summary Report
-------------------
t/loops.t                       (Wstat: 0 Tests: 5 Failed: 0)
  TODO passed:   2, 4
Files=30, Tests=337,  1 wallclock secs ( 0.11 usr  0.03 sys +  4.36 cusr  0.53 csys =  5.03 CPU)
Result: PASS

------------------------------
PREREQUISITES
------------------------------

Prerequisite modules loaded:

    No requirements found

------------------------------
ENVIRONMENT AND OTHER CONTEXT
------------------------------

Environment variables:

    HARNESS_OPTIONS = j8
    HARNESS_TIMER = 1
    LANG = en_GB.UTF-8
    PATH = /home/ioanrogers/.plenv/versions/5.26.2/bin:/home/ioanrogers/.plenv/libexec:/home/ioanrogers/.plenv/plugins/perl-build/bin:/home/ioanrogers/.local/share/go/bin:/opt/rakudo-pkg/bin:/home/ioanrogers/.perl6/bin:/home/ioanrogers/.plenv/shims:~/.plenv/bin::/home/ioanrogers/bin:/home/ioanrogers/.local/bin:/usr/local/bin:/usr/bin:/bin:/usr/local/sbin:/sbin:/usr/sbin:/usr/games
    PERL_CPANM_OPT = --prompt --no-man-pages --verify --mirror https://cpan.metacpan.org
    SHELL = /bin/bash
    TERM = xterm-256color

Perl special variables (and OS-specific diagnostics, for MSWin32):

    EGID = 1854000021 10 135 190 972 981 1854000000 1854000021 1854000040 1854100503 1854100505
    EUID = 1854000021
    EXECUTABLE_NAME = /home/ioanrogers/.plenv/versions/5.26.2/bin/perl5.26.2
    GID = 1854000021 10 135 190 972 981 1854000000 1854000021 1854000040 1854100503 1854100505
    UID = 1854000021

Perl module toolchain versions installed:

    Module              Have      
    ------------------- ----------
    CPAN                2.18      
    CPAN::Meta          2.150010  
    Cwd                 3.67      
    ExtUtils::CBuilder  0.280225  
    ExtUtils::Command   7.24      
    ExtUtils::Install   2.04      
    ExtUtils::MakeMaker 7.24      
    ExtUtils::Manifest  1.70      
    ExtUtils::ParseXS   3.34      
    File::Spec          3.67      
    JSON                2.97001   
    JSON::PP            2.27400_02
    Module::Build       0.4224    
    Module::Signature   0.81      
    Parse::CPAN::Meta   2.150010  
    Test::Harness       3.38      
    Test::More          1.302122  
    YAML                n/a       
    YAML::Syck          n/a       
    version             0.9917    


--

Summary of my perl5 (revision 5 version 26 subversion 2) configuration:
   
  Platform:
    osname=linux
    osvers=4.15.14-300.fc27.x86_64
    archname=x86_64-linux
    uname='linux ioan-desktop.eng.sophos 4.15.14-300.fc27.x86_64 #1 smp thu mar 29 16:13:44 utc 2018 x86_64 x86_64 x86_64 gnulinux '
    config_args='-Dprefix=/home/ioanrogers/.plenv/versions/5.26.2 -de -Dusedevel -Dcc=clang -Doptimize=-O3 -Dccflags-march=native -flto -fstack-protector-strong -Wformat -Werror=format-security -Wl,-z,relro -pie -fPIE -Dcppflags=-Wdate-time -D_FORTIFY_SOURCE=2 -Dldflags=-Wl,-z,relro -Dman1dir=none -Dman3dir=none -A'eval:scriptdir=/home/ioanrogers/.plenv/versions/5.26.2/bin''
    hint=recommended
    useposix=true
    d_sigaction=define
    useithreads=undef
    usemultiplicity=undef
    use64bitint=define
    use64bitall=define
    uselongdouble=undef
    usemymalloc=n
    default_inc_excludes_dot=define
    bincompat5005=undef
  Compiler:
    cc='clang'
    ccflags ='-fno-strict-aliasing -pipe -fstack-protector-strong -I/usr/local/include -D_LARGEFILE_SOURCE -D_FILE_OFFSET_BITS=64 -D_FORTIFY_SOURCE=2'
    optimize='-O3'
    cppflags='-Wdate-time -D_FORTIFY_SOURCE=2 -fno-strict-aliasing -pipe -fstack-protector-strong -I/usr/local/include'
    ccversion=''
    gccversion='4.2.1 Compatible Clang 5.0.1 (tags/RELEASE_501/final)'
    gccosandvers=''
    intsize=4
    longsize=8
    ptrsize=8
    doublesize=8
    byteorder=12345678
    doublekind=3
    d_longlong=define
    longlongsize=8
    d_longdbl=define
    longdblsize=16
    longdblkind=3
    ivtype='long'
    ivsize=8
    nvtype='double'
    nvsize=8
    Off_t='off_t'
    lseeksize=8
    alignbytes=8
    prototype=define
  Linker and Libraries:
    ld='clang'
    ldflags ='-Wl,-z,relro -fstack-protector-strong -L/usr/local/lib'
    libpth=/usr/local/lib /usr/lib64/clang/5.0.1/lib /usr/lib /lib/../lib64 /usr/lib/../lib64 /lib /lib64 /usr/lib64 /usr/local/lib64
    libs=-lpthread -lnsl -lgdbm -ldb -ldl -lm -lcrypt -lutil -lc -lgdbm_compat
    perllibs=-lpthread -lnsl -ldl -lm -lcrypt -lutil -lc
    libc=libc-2.26.so
    so=so
    useshrplib=false
    libperl=libperl.a
    gnulibc_version='2.26'
  Dynamic Linking:
    dlsrc=dl_dlopen.xs
    dlext=so
    d_dlsymun=undef
    ccdlflags='-Wl,-E'
    cccdlflags='-fPIC'
    lddlflags='-shared -O3 -L/usr/local/lib -fstack-protector-strong'


Characteristics of this binary (from libperl): 
  Compile-time options:
    HAS_TIMES
    PERLIO_LAYERS
    PERL_COPY_ON_WRITE
    PERL_DONT_CREATE_GVSV
    PERL_MALLOC_WRAP
    PERL_OP_PARENT
    PERL_PRESERVE_IVUV
    PERL_USE_DEVEL
    USE_64_BIT_ALL
    USE_64_BIT_INT
    USE_LARGE_FILES
    USE_LOCALE
    USE_LOCALE_COLLATE
    USE_LOCALE_CTYPE
    USE_LOCALE_NUMERIC
    USE_LOCALE_TIME
    USE_PERLIO
    USE_PERL_ATOF
  Locally applied patches:
    Devel::PatchPerl 1.48
  Built under linux
  Compiled at Apr 16 2018 12:22:02
  %ENV:
    PERL_CPANM_OPT="--prompt --no-man-pages --verify --mirror https://cpan.metacpan.org"
  @INC:
    /home/ioanrogers/.plenv/versions/5.26.2/lib/perl5/site_perl/5.26.2/x86_64-linux
    /home/ioanrogers/.plenv/versions/5.26.2/lib/perl5/site_perl/5.26.2
    /home/ioanrogers/.plenv/versions/5.26.2/lib/perl5/5.26.2/x86_64-linux
    /home/ioanrogers/.plenv/versions/5.26.2/lib/perl5/5.26.2