Report for XML-Toolkit-0.15

Back
From: metabase:user:320bfe00-2aae-11df-837a-5e0a49663a4f
Subject: PASS XML-Toolkit-0.15 v5.22.2 GNU/Linux
Date: 2017-04-09T21:19:29Z

This distribution has been tested as part of the CPAN Testers
project, supporting the Perl programming language.  See
http://wiki.cpantesters.org/ for more information or email
questions to cpan-testers-discuss@perl.org


--
Dear Chris Prather,

This is a computer-generated report for XML-Toolkit-0.15
on perl 5.22.2, created by CPAN-Reporter-1.2018.

Thank you for uploading your work to CPAN.  Congratulations!
All tests were successful.

Sections of this report:

    * Tester comments
    * Program output
    * Prerequisites
    * Environment and other context

------------------------------
TESTER COMMENTS
------------------------------

Additional comments from tester:

this report is from an automated smoke testing program
and was not reviewed by a human for accuracy

------------------------------
PROGRAM OUTPUT
------------------------------

Output from '/usr/bin/make test':

PERL_DL_NONLAZY=1 "/home/sand/src/perl/repoperls/installed-perls/host/k93msid/v5.22.2/0a29/bin/perl" "-MExtUtils::Command::MM" "-MTest::Harness" "-e" "undef *Test::Harness::Switches; test_harness(0, 'blib/lib', 'blib/arch')" t/*.t t/02.namespaces/*.t t/06.reuse/*.t
t/00-compile.t ................................ ok
Class::MOP::load_class is deprecated at /home/sand/src/perl/repoperls/installed-perls/host/k93msid/v5.22.2/0a29/lib/site_perl/5.22.2/x86_64-linux-ld/Class/MOP.pm line 69.
	Class::MOP::load_class("MyTest::Note") called at /tmp/loop_over_bdir-30394-5FDtcA/XML-Toolkit-0.15-0/blib/lib/XML/Toolkit/Loader/Filter.pm line 44
	XML::Toolkit::Loader::Filter::load_class(XML::Toolkit::Loader::Filter=HASH(0x564e6f778fa8), "MyTest::Note") called at /tmp/loop_over_bdir-30394-5FDtcA/XML-Toolkit-0.15-0/blib/lib/XML/Toolkit/Loader/Filter.pm line 63
	XML::Toolkit::Loader::Filter::start_element(XML::Toolkit::Loader::Filter=HASH(0x564e6f778fa8), HASH(0x564e6f4130c0)) called at /home/sand/src/perl/repoperls/installed-perls/host/k93msid/v5.22.2/0a29/lib/site_perl/5.22.2/XML/SAX/Base.pm line 300
	XML::SAX::Base::start_element(XML::SAX::Expat=HASH(0x564e6f527380), HASH(0x564e6f4130c0)) called at /home/sand/src/perl/repoperls/installed-perls/host/k93msid/v5.22.2/0a29/lib/site_perl/5.22.2/XML/SAX/Expat.pm line 225
	XML::SAX::Expat::_handle_start(XML::Parser::Expat=HASH(0x564e6e9eee00), "note") called at /home/sand/src/perl/repoperls/installed-perls/host/k93msid/v5.22.2/0a29/lib/site_perl/5.22.2/x86_64-linux-ld/XML/Parser/Expat.pm line 479
	XML::Parser::Expat::parse(XML::Parser::Expat=HASH(0x564e6e9eee00), "<?xml version=\"1.0\"?>\x{a}<note>\x{a}    <to>Tove</to>\x{a}    <from>Jani"...) called at /home/sand/src/perl/repoperls/installed-perls/host/k93msid/v5.22.2/0a29/lib/site_perl/5.22.2/x86_64-linux-ld/XML/Parser.pm line 187
	eval {...} called at /home/sand/src/perl/repoperls/installed-perls/host/k93msid/v5.22.2/0a29/lib/site_perl/5.22.2/x86_64-linux-ld/XML/Parser.pm line 186
	XML::Parser::parse(XML::Parser=HASH(0x564e6e9f9c18), "<?xml version=\"1.0\"?>\x{a}<note>\x{a}    <to>Tove</to>\x{a}    <from>Jani"...) called at /home/sand/src/perl/repoperls/installed-perls/host/k93msid/v5.22.2/0a29/lib/site_perl/5.22.2/XML/SAX/Expat.pm line 60
	XML::SAX::Expat::_parse_string(XML::SAX::Expat=HASH(0x564e6f527380), "<?xml version=\"1.0\"?>\x{a}<note>\x{a}    <to>Tove</to>\x{a}    <from>Jani"...) called at /home/sand/src/perl/repoperls/installed-perls/host/k93msid/v5.22.2/0a29/lib/site_perl/5.22.2/XML/SAX/Base.pm line 2617
	XML::SAX::Base::parse(XML::SAX::Expat=HASH(0x564e6f527380), HASH(0x564e6f48f278)) called at /home/sand/src/perl/repoperls/installed-perls/host/k93msid/v5.22.2/0a29/lib/site_perl/5.22.2/XML/SAX/Base.pm line 2662
	XML::SAX::Base::parse_string(XML::SAX::Expat=HASH(0x564e6f527380), "<?xml version=\"1.0\"?>\x{a}<note>\x{a}    <to>Tove</to>\x{a}    <from>Jani"...) called at inline delegation in XML::Toolkit::Loader for parser->parse_string (attribute declared in /tmp/loop_over_bdir-30394-5FDtcA/XML-Toolkit-0.15-0/blib/lib/XML/Toolkit/Loader.pm at line 22) line 18
	XML::Toolkit::Loader::parse_string(XML::Toolkit::Loader=HASH(0x564e6f7766b8), "<?xml version=\"1.0\"?>\x{a}<note>\x{a}    <to>Tove</to>\x{a}    <from>Jani"...) called at /home/sand/src/perl/repoperls/installed-perls/host/k93msid/v5.22.2/0a29/lib/site_perl/5.22.2/x86_64-linux-ld/Class/MOP/Method/Wrapped.pm line 44
	XML::Toolkit::Loader::_wrapped_parse_string(XML::Toolkit::Loader=HASH(0x564e6f7766b8), "<?xml version=\"1.0\"?>\x{a}<note>\x{a}    <to>Tove</to>\x{a}    <from>Jani"...) called at /home/sand/src/perl/repoperls/installed-perls/host/k93msid/v5.22.2/0a29/lib/site_perl/5.22.2/x86_64-linux-ld/Class/MOP/Method/Wrapped.pm line 95
	XML::Toolkit::Loader::parse_string(XML::Toolkit::Loader=HASH(0x564e6f7766b8), "<?xml version=\"1.0\"?>\x{a}<note>\x{a}    <to>Tove</to>\x{a}    <from>Jani"...) called at t/01.basic.t line 31
t/01.basic.t .................................. ok
Class::MOP::load_class is deprecated at /home/sand/src/perl/repoperls/installed-perls/host/k93msid/v5.22.2/0a29/lib/site_perl/5.22.2/x86_64-linux-ld/Class/MOP.pm line 69.
	Class::MOP::load_class("XMLTK::Test::Foo") called at /tmp/loop_over_bdir-30394-5FDtcA/XML-Toolkit-0.15-0/blib/lib/XML/Toolkit/Loader/Filter.pm line 44
	XML::Toolkit::Loader::Filter::load_class(XML::Toolkit::Loader::Filter=HASH(0x556699b37650), "XMLTK::Test::Foo") called at /tmp/loop_over_bdir-30394-5FDtcA/XML-Toolkit-0.15-0/blib/lib/XML/Toolkit/Loader/Filter.pm line 63
	XML::Toolkit::Loader::Filter::start_element(XML::Toolkit::Loader::Filter=HASH(0x556699b37650), HASH(0x55669a06ba40)) called at /home/sand/src/perl/repoperls/installed-perls/host/k93msid/v5.22.2/0a29/lib/site_perl/5.22.2/XML/SAX/Base.pm line 300
	XML::SAX::Base::start_element(XML::SAX::Expat=HASH(0x556699dd7d68), HASH(0x55669a06ba40)) called at /home/sand/src/perl/repoperls/installed-perls/host/k93msid/v5.22.2/0a29/lib/site_perl/5.22.2/XML/SAX/Expat.pm line 225
	XML::SAX::Expat::_handle_start(XML::Parser::Expat=HASH(0x556699b316e0), "foo", "xmlns:my", "http://example.org/my/") called at /home/sand/src/perl/repoperls/installed-perls/host/k93msid/v5.22.2/0a29/lib/site_perl/5.22.2/x86_64-linux-ld/XML/Parser/Expat.pm line 479
	XML::Parser::Expat::parse(XML::Parser::Expat=HASH(0x556699b316e0), "<foo xmlns:my=\"http://example.org/my/\"><my:bar /></foo>") called at /home/sand/src/perl/repoperls/installed-perls/host/k93msid/v5.22.2/0a29/lib/site_perl/5.22.2/x86_64-linux-ld/XML/Parser.pm line 187
	eval {...} called at /home/sand/src/perl/repoperls/installed-perls/host/k93msid/v5.22.2/0a29/lib/site_perl/5.22.2/x86_64-linux-ld/XML/Parser.pm line 186
	XML::Parser::parse(XML::Parser=HASH(0x556699a6da48), "<foo xmlns:my=\"http://example.org/my/\"><my:bar /></foo>") called at /home/sand/src/perl/repoperls/installed-perls/host/k93msid/v5.22.2/0a29/lib/site_perl/5.22.2/XML/SAX/Expat.pm line 60
	XML::SAX::Expat::_parse_string(XML::SAX::Expat=HASH(0x556699dd7d68), "<foo xmlns:my=\"http://example.org/my/\"><my:bar /></foo>") called at /home/sand/src/perl/repoperls/installed-perls/host/k93msid/v5.22.2/0a29/lib/site_perl/5.22.2/XML/SAX/Base.pm line 2617
	XML::SAX::Base::parse(XML::SAX::Expat=HASH(0x556699dd7d68), HASH(0x556699dbcb50)) called at /home/sand/src/perl/repoperls/installed-perls/host/k93msid/v5.22.2/0a29/lib/site_perl/5.22.2/XML/SAX/Base.pm line 2662
	XML::SAX::Base::parse_string(XML::SAX::Expat=HASH(0x556699dd7d68), "<foo xmlns:my=\"http://example.org/my/\"><my:bar /></foo>") called at inline delegation in XML::Toolkit::Loader for parser->parse_string (attribute declared in /tmp/loop_over_bdir-30394-5FDtcA/XML-Toolkit-0.15-0/blib/lib/XML/Toolkit/Loader.pm at line 22) line 18
	XML::Toolkit::Loader::parse_string(XML::Toolkit::Loader=HASH(0x556699d8d750), "<foo xmlns:my=\"http://example.org/my/\"><my:bar /></foo>") called at /home/sand/src/perl/repoperls/installed-perls/host/k93msid/v5.22.2/0a29/lib/site_perl/5.22.2/x86_64-linux-ld/Class/MOP/Method/Wrapped.pm line 44
	XML::Toolkit::Loader::_wrapped_parse_string(XML::Toolkit::Loader=HASH(0x556699d8d750), "<foo xmlns:my=\"http://example.org/my/\"><my:bar /></foo>") called at /home/sand/src/perl/repoperls/installed-perls/host/k93msid/v5.22.2/0a29/lib/site_perl/5.22.2/x86_64-linux-ld/Class/MOP/Method/Wrapped.pm line 95
	XML::Toolkit::Loader::parse_string(XML::Toolkit::Loader=HASH(0x556699d8d750), "<foo xmlns:my=\"http://example.org/my/\"><my:bar /></foo>") called at t/02.namespaces/01.basic_namespace.t line 36
t/02.namespaces/01.basic_namespace.t .......... ok
Class::MOP::load_class is deprecated at /home/sand/src/perl/repoperls/installed-perls/host/k93msid/v5.22.2/0a29/lib/site_perl/5.22.2/x86_64-linux-ld/Class/MOP.pm line 69.
	Class::MOP::load_class("ABC::Root") called at /tmp/loop_over_bdir-30394-5FDtcA/XML-Toolkit-0.15-0/blib/lib/XML/Toolkit/Loader/Filter.pm line 44
	XML::Toolkit::Loader::Filter::load_class(XML::Toolkit::Loader::Filter=HASH(0x55fdfcafcf28), "ABC::Root") called at /tmp/loop_over_bdir-30394-5FDtcA/XML-Toolkit-0.15-0/blib/lib/XML/Toolkit/Loader/Filter.pm line 63
	XML::Toolkit::Loader::Filter::start_element(XML::Toolkit::Loader::Filter=HASH(0x55fdfcafcf28), HASH(0x55fdfcb3d5f0)) called at /home/sand/src/perl/repoperls/installed-perls/host/k93msid/v5.22.2/0a29/lib/site_perl/5.22.2/XML/SAX/Base.pm line 300
	XML::SAX::Base::start_element(XML::SAX::Expat=HASH(0x55fdfcb1a318), HASH(0x55fdfcb3d5f0)) called at /home/sand/src/perl/repoperls/installed-perls/host/k93msid/v5.22.2/0a29/lib/site_perl/5.22.2/XML/SAX/Expat.pm line 225
	XML::SAX::Expat::_handle_start(XML::Parser::Expat=HASH(0x55fdfc23cc18), "root", "xmlns", "abc") called at /home/sand/src/perl/repoperls/installed-perls/host/k93msid/v5.22.2/0a29/lib/site_perl/5.22.2/x86_64-linux-ld/XML/Parser/Expat.pm line 479
	XML::Parser::Expat::parse(XML::Parser::Expat=HASH(0x55fdfc23cc18), "<root xmlns=\"abc\">test1</root>") called at /home/sand/src/perl/repoperls/installed-perls/host/k93msid/v5.22.2/0a29/lib/site_perl/5.22.2/x86_64-linux-ld/XML/Parser.pm line 187
	eval {...} called at /home/sand/src/perl/repoperls/installed-perls/host/k93msid/v5.22.2/0a29/lib/site_perl/5.22.2/x86_64-linux-ld/XML/Parser.pm line 186
	XML::Parser::parse(XML::Parser=HASH(0x55fdfa445f18), "<root xmlns=\"abc\">test1</root>") called at /home/sand/src/perl/repoperls/installed-perls/host/k93msid/v5.22.2/0a29/lib/site_perl/5.22.2/XML/SAX/Expat.pm line 60
	XML::SAX::Expat::_parse_string(XML::SAX::Expat=HASH(0x55fdfcb1a318), "<root xmlns=\"abc\">test1</root>") called at /home/sand/src/perl/repoperls/installed-perls/host/k93msid/v5.22.2/0a29/lib/site_perl/5.22.2/XML/SAX/Base.pm line 2617
	XML::SAX::Base::parse(XML::SAX::Expat=HASH(0x55fdfcb1a318), HASH(0x55fdfcb1a0f0)) called at /home/sand/src/perl/repoperls/installed-perls/host/k93msid/v5.22.2/0a29/lib/site_perl/5.22.2/XML/SAX/Base.pm line 2662
	XML::SAX::Base::parse_string(XML::SAX::Expat=HASH(0x55fdfcb1a318), "<root xmlns=\"abc\">test1</root>") called at inline delegation in XML::Toolkit::Loader for parser->parse_string (attribute declared in /tmp/loop_over_bdir-30394-5FDtcA/XML-Toolkit-0.15-0/blib/lib/XML/Toolkit/Loader.pm at line 22) line 18
	XML::Toolkit::Loader::parse_string(XML::Toolkit::Loader=HASH(0x55fdfcb1a108), "<root xmlns=\"abc\">test1</root>") called at /home/sand/src/perl/repoperls/installed-perls/host/k93msid/v5.22.2/0a29/lib/site_perl/5.22.2/x86_64-linux-ld/Class/MOP/Method/Wrapped.pm line 44
	XML::Toolkit::Loader::_wrapped_parse_string(XML::Toolkit::Loader=HASH(0x55fdfcb1a108), "<root xmlns=\"abc\">test1</root>") called at /home/sand/src/perl/repoperls/installed-perls/host/k93msid/v5.22.2/0a29/lib/site_perl/5.22.2/x86_64-linux-ld/Class/MOP/Method/Wrapped.pm line 95
	XML::Toolkit::Loader::parse_string(XML::Toolkit::Loader=HASH(0x55fdfcb1a108), "<root xmlns=\"abc\">test1</root>") called at t/02.namespaces/02.root_namespace_equality.t line 26
t/02.namespaces/02.root_namespace_equality.t .. ok
Class::MOP::is_class_loaded is deprecated at /home/sand/src/perl/repoperls/installed-perls/host/k93msid/v5.22.2/0a29/lib/site_perl/5.22.2/x86_64-linux-ld/Class/MOP.pm line 87.
	Class::MOP::is_class_loaded("MyApp::Root") called at t/02.namespaces/03.namespaced_loading.t line 39
	eval {...} called at t/02.namespaces/03.namespaced_loading.t line 34
Class::MOP::load_class is deprecated at /home/sand/src/perl/repoperls/installed-perls/host/k93msid/v5.22.2/0a29/lib/site_perl/5.22.2/x86_64-linux-ld/Class/MOP.pm line 69.
	Class::MOP::load_class("MyApp::Root") called at /tmp/loop_over_bdir-30394-5FDtcA/XML-Toolkit-0.15-0/blib/lib/XML/Toolkit/Loader/Filter.pm line 44
	XML::Toolkit::Loader::Filter::load_class(XML::Toolkit::Loader::Filter=HASH(0x55c880b36b50), "MyApp::Root") called at /tmp/loop_over_bdir-30394-5FDtcA/XML-Toolkit-0.15-0/blib/lib/XML/Toolkit/Loader/Filter.pm line 63
	XML::Toolkit::Loader::Filter::start_element(XML::Toolkit::Loader::Filter=HASH(0x55c880b36b50), HASH(0x55c88099b390)) called at /home/sand/src/perl/repoperls/installed-perls/host/k93msid/v5.22.2/0a29/lib/site_perl/5.22.2/XML/SAX/Base.pm line 300
	XML::SAX::Base::start_element(XML::SAX::Expat=HASH(0x55c8809df978), HASH(0x55c88099b390)) called at /home/sand/src/perl/repoperls/installed-perls/host/k93msid/v5.22.2/0a29/lib/site_perl/5.22.2/XML/SAX/Expat.pm line 225
	XML::SAX::Expat::_handle_start(XML::Parser::Expat=HASH(0x55c88004afa8), "root", "xmlns:a", "a", "xmlns:b", "b") called at /home/sand/src/perl/repoperls/installed-perls/host/k93msid/v5.22.2/0a29/lib/site_perl/5.22.2/x86_64-linux-ld/XML/Parser/Expat.pm line 479
	XML::Parser::Expat::parse(XML::Parser::Expat=HASH(0x55c88004afa8), "<root xmlns:a=\"a\" xmlns:b=\"b\">\x{a}    <a:one>oneA</a:one>\x{a}    <b"...) called at /home/sand/src/perl/repoperls/installed-perls/host/k93msid/v5.22.2/0a29/lib/site_perl/5.22.2/x86_64-linux-ld/XML/Parser.pm line 187
	eval {...} called at /home/sand/src/perl/repoperls/installed-perls/host/k93msid/v5.22.2/0a29/lib/site_perl/5.22.2/x86_64-linux-ld/XML/Parser.pm line 186
	XML::Parser::parse(XML::Parser=HASH(0x55c88004ac00), "<root xmlns:a=\"a\" xmlns:b=\"b\">\x{a}    <a:one>oneA</a:one>\x{a}    <b"...) called at /home/sand/src/perl/repoperls/installed-perls/host/k93msid/v5.22.2/0a29/lib/site_perl/5.22.2/XML/SAX/Expat.pm line 60
	XML::SAX::Expat::_parse_string(XML::SAX::Expat=HASH(0x55c8809df978), "<root xmlns:a=\"a\" xmlns:b=\"b\">\x{a}    <a:one>oneA</a:one>\x{a}    <b"...) called at /home/sand/src/perl/repoperls/installed-perls/host/k93msid/v5.22.2/0a29/lib/site_perl/5.22.2/XML/SAX/Base.pm line 2617
	XML::SAX::Base::parse(XML::SAX::Expat=HASH(0x55c8809df978), HASH(0x55c88099b3d8)) called at /home/sand/src/perl/repoperls/installed-perls/host/k93msid/v5.22.2/0a29/lib/site_perl/5.22.2/XML/SAX/Base.pm line 2662
	XML::SAX::Base::parse_string(XML::SAX::Expat=HASH(0x55c8809df978), "<root xmlns:a=\"a\" xmlns:b=\"b\">\x{a}    <a:one>oneA</a:one>\x{a}    <b"...) called at inline delegation in XML::Toolkit::Loader for parser->parse_string (attribute declared in /tmp/loop_over_bdir-30394-5FDtcA/XML-Toolkit-0.15-0/blib/lib/XML/Toolkit/Loader.pm at line 22) line 18
	XML::Toolkit::Loader::parse_string(XML::Toolkit::Loader=HASH(0x55c880903a28), "<root xmlns:a=\"a\" xmlns:b=\"b\">\x{a}    <a:one>oneA</a:one>\x{a}    <b"...) called at /home/sand/src/perl/repoperls/installed-perls/host/k93msid/v5.22.2/0a29/lib/site_perl/5.22.2/x86_64-linux-ld/Class/MOP/Method/Wrapped.pm line 44
	XML::Toolkit::Loader::_wrapped_parse_string(XML::Toolkit::Loader=HASH(0x55c880903a28), "<root xmlns:a=\"a\" xmlns:b=\"b\">\x{a}    <a:one>oneA</a:one>\x{a}    <b"...) called at /home/sand/src/perl/repoperls/installed-perls/host/k93msid/v5.22.2/0a29/lib/site_perl/5.22.2/x86_64-linux-ld/Class/MOP/Method/Wrapped.pm line 95
	XML::Toolkit::Loader::parse_string(XML::Toolkit::Loader=HASH(0x55c880903a28), "<root xmlns:a=\"a\" xmlns:b=\"b\">\x{a}    <a:one>oneA</a:one>\x{a}    <b"...) called at t/02.namespaces/03.namespaced_loading.t line 47
	eval {...} called at t/02.namespaces/03.namespaced_loading.t line 45
t/02.namespaces/03.namespaced_loading.t ....... ok
Class::MOP::load_class is deprecated at /home/sand/src/perl/repoperls/installed-perls/host/k93msid/v5.22.2/0a29/lib/site_perl/5.22.2/x86_64-linux-ld/Class/MOP.pm line 69.
	Class::MOP::load_class("XML::XSPF::Playlist") called at /tmp/loop_over_bdir-30394-5FDtcA/XML-Toolkit-0.15-0/blib/lib/XML/Toolkit/Loader/Filter.pm line 44
	XML::Toolkit::Loader::Filter::load_class(XML::Toolkit::Loader::Filter=HASH(0x5562a3362ad8), "XML::XSPF::Playlist") called at /tmp/loop_over_bdir-30394-5FDtcA/XML-Toolkit-0.15-0/blib/lib/XML/Toolkit/Loader/Filter.pm line 63
	XML::Toolkit::Loader::Filter::start_element(XML::Toolkit::Loader::Filter=HASH(0x5562a3362ad8), HASH(0x5562a3075680)) called at /home/sand/src/perl/repoperls/installed-perls/host/k93msid/v5.22.2/0a29/lib/site_perl/5.22.2/XML/SAX/Base.pm line 300
	XML::SAX::Base::start_element(XML::SAX::Expat=HASH(0x5562a3106648), HASH(0x5562a3075680)) called at /home/sand/src/perl/repoperls/installed-perls/host/k93msid/v5.22.2/0a29/lib/site_perl/5.22.2/XML/SAX/Expat.pm line 225
	XML::SAX::Expat::_handle_start(XML::Parser::Expat=HASH(0x5562a25ae198), "playlist", "version", 1, "xmlns", "http://xspf.org/ns/0/") called at /home/sand/src/perl/repoperls/installed-perls/host/k93msid/v5.22.2/0a29/lib/site_perl/5.22.2/x86_64-linux-ld/XML/Parser/Expat.pm line 479
	XML::Parser::Expat::parse(XML::Parser::Expat=HASH(0x5562a25ae198), "<?xml version=\"1.0\" encoding=\"utf-8\"?>\x{a}<playlist version=\"1\" "...) called at /home/sand/src/perl/repoperls/installed-perls/host/k93msid/v5.22.2/0a29/lib/site_perl/5.22.2/x86_64-linux-ld/XML/Parser.pm line 187
	eval {...} called at /home/sand/src/perl/repoperls/installed-perls/host/k93msid/v5.22.2/0a29/lib/site_perl/5.22.2/x86_64-linux-ld/XML/Parser.pm line 186
	XML::Parser::parse(XML::Parser=HASH(0x5562a25b98b0), "<?xml version=\"1.0\" encoding=\"utf-8\"?>\x{a}<playlist version=\"1\" "...) called at /home/sand/src/perl/repoperls/installed-perls/host/k93msid/v5.22.2/0a29/lib/site_perl/5.22.2/XML/SAX/Expat.pm line 60
	XML::SAX::Expat::_parse_string(XML::SAX::Expat=HASH(0x5562a3106648), "<?xml version=\"1.0\" encoding=\"utf-8\"?>\x{a}<playlist version=\"1\" "...) called at /home/sand/src/perl/repoperls/installed-perls/host/k93msid/v5.22.2/0a29/lib/site_perl/5.22.2/XML/SAX/Base.pm line 2617
	XML::SAX::Base::parse(XML::SAX::Expat=HASH(0x5562a3106648), HASH(0x5562a0cf8a00)) called at /home/sand/src/perl/repoperls/installed-perls/host/k93msid/v5.22.2/0a29/lib/site_perl/5.22.2/XML/SAX/Base.pm line 2662
	XML::SAX::Base::parse_string(XML::SAX::Expat=HASH(0x5562a3106648), "<?xml version=\"1.0\" encoding=\"utf-8\"?>\x{a}<playlist version=\"1\" "...) called at inline delegation in XML::Toolkit::Loader for parser->parse_string (attribute declared in /tmp/loop_over_bdir-30394-5FDtcA/XML-Toolkit-0.15-0/blib/lib/XML/Toolkit/Loader.pm at line 22) line 18
	XML::Toolkit::Loader::parse_string(XML::Toolkit::Loader=HASH(0x5562a305a258), "<?xml version=\"1.0\" encoding=\"utf-8\"?>\x{a}<playlist version=\"1\" "...) called at /home/sand/src/perl/repoperls/installed-perls/host/k93msid/v5.22.2/0a29/lib/site_perl/5.22.2/x86_64-linux-ld/Class/MOP/Method/Wrapped.pm line 44
	XML::Toolkit::Loader::_wrapped_parse_string(XML::Toolkit::Loader=HASH(0x5562a305a258), "<?xml version=\"1.0\" encoding=\"utf-8\"?>\x{a}<playlist version=\"1\" "...) called at /home/sand/src/perl/repoperls/installed-perls/host/k93msid/v5.22.2/0a29/lib/site_perl/5.22.2/x86_64-linux-ld/Class/MOP/Method/Wrapped.pm line 95
	XML::Toolkit::Loader::parse_string(XML::Toolkit::Loader=HASH(0x5562a305a258), "<?xml version=\"1.0\" encoding=\"utf-8\"?>\x{a}<playlist version=\"1\" "...) called at t/03.xspf.t line 45
t/03.xspf.t ................................... ok
Class::MOP::load_class is deprecated at /home/sand/src/perl/repoperls/installed-perls/host/k93msid/v5.22.2/0a29/lib/site_perl/5.22.2/x86_64-linux-ld/Class/MOP.pm line 69.
	Class::MOP::load_class("XML::RDF::RDF") called at /tmp/loop_over_bdir-30394-5FDtcA/XML-Toolkit-0.15-0/blib/lib/XML/Toolkit/Loader/Filter.pm line 44
	XML::Toolkit::Loader::Filter::load_class(XML::Toolkit::Loader::Filter=HASH(0x558fdce89b60), "XML::RDF::RDF") called at /tmp/loop_over_bdir-30394-5FDtcA/XML-Toolkit-0.15-0/blib/lib/XML/Toolkit/Loader/Filter.pm line 63
	XML::Toolkit::Loader::Filter::start_element(XML::Toolkit::Loader::Filter=HASH(0x558fdce89b60), HASH(0x558fdce94af0)) called at /home/sand/src/perl/repoperls/installed-perls/host/k93msid/v5.22.2/0a29/lib/site_perl/5.22.2/XML/SAX/Base.pm line 300
	XML::SAX::Base::start_element(XML::SAX::Expat=HASH(0x558fdcb25d50), HASH(0x558fdce94af0)) called at /home/sand/src/perl/repoperls/installed-perls/host/k93msid/v5.22.2/0a29/lib/site_perl/5.22.2/XML/SAX/Expat.pm line 225
	XML::SAX::Expat::_handle_start(XML::Parser::Expat=HASH(0x558fdc5ae790), "rdf:RDF", "xmlns:rdf", "http://www.w3.org/1999/02/22-rdf-syntax-ns#", "xmlns:dc", "http://purl.org/dc/elements/1.1/") called at /home/sand/src/perl/repoperls/installed-perls/host/k93msid/v5.22.2/0a29/lib/site_perl/5.22.2/x86_64-linux-ld/XML/Parser/Expat.pm line 479
	XML::Parser::Expat::parse(XML::Parser::Expat=HASH(0x558fdc5ae790), "<?xml version=\"1.0\" encoding=\"utf-8\"?>\x{a}<rdf:RDF\x{a}  xmlns:rdf=\""...) called at /home/sand/src/perl/repoperls/installed-perls/host/k93msid/v5.22.2/0a29/lib/site_perl/5.22.2/x86_64-linux-ld/XML/Parser.pm line 187
	eval {...} called at /home/sand/src/perl/repoperls/installed-perls/host/k93msid/v5.22.2/0a29/lib/site_perl/5.22.2/x86_64-linux-ld/XML/Parser.pm line 186
	XML::Parser::parse(XML::Parser=HASH(0x558fdc1ce1e8), "<?xml version=\"1.0\" encoding=\"utf-8\"?>\x{a}<rdf:RDF\x{a}  xmlns:rdf=\""...) called at /home/sand/src/perl/repoperls/installed-perls/host/k93msid/v5.22.2/0a29/lib/site_perl/5.22.2/XML/SAX/Expat.pm line 60
	XML::SAX::Expat::_parse_string(XML::SAX::Expat=HASH(0x558fdcb25d50), "<?xml version=\"1.0\" encoding=\"utf-8\"?>\x{a}<rdf:RDF\x{a}  xmlns:rdf=\""...) called at /home/sand/src/perl/repoperls/installed-perls/host/k93msid/v5.22.2/0a29/lib/site_perl/5.22.2/XML/SAX/Base.pm line 2617
	XML::SAX::Base::parse(XML::SAX::Expat=HASH(0x558fdcb25d50), HASH(0x558fdd00f4f8)) called at /home/sand/src/perl/repoperls/installed-perls/host/k93msid/v5.22.2/0a29/lib/site_perl/5.22.2/XML/SAX/Base.pm line 2662
	XML::SAX::Base::parse_string(XML::SAX::Expat=HASH(0x558fdcb25d50), "<?xml version=\"1.0\" encoding=\"utf-8\"?>\x{a}<rdf:RDF\x{a}  xmlns:rdf=\""...) called at inline delegation in XML::Toolkit::Loader for parser->parse_string (attribute declared in /tmp/loop_over_bdir-30394-5FDtcA/XML-Toolkit-0.15-0/blib/lib/XML/Toolkit/Loader.pm at line 22) line 18
	XML::Toolkit::Loader::parse_string(XML::Toolkit::Loader=HASH(0x558fdd0be3d8), "<?xml version=\"1.0\" encoding=\"utf-8\"?>\x{a}<rdf:RDF\x{a}  xmlns:rdf=\""...) called at /home/sand/src/perl/repoperls/installed-perls/host/k93msid/v5.22.2/0a29/lib/site_perl/5.22.2/x86_64-linux-ld/Class/MOP/Method/Wrapped.pm line 44
	XML::Toolkit::Loader::_wrapped_parse_string(XML::Toolkit::Loader=HASH(0x558fdd0be3d8), "<?xml version=\"1.0\" encoding=\"utf-8\"?>\x{a}<rdf:RDF\x{a}  xmlns:rdf=\""...) called at /home/sand/src/perl/repoperls/installed-perls/host/k93msid/v5.22.2/0a29/lib/site_perl/5.22.2/x86_64-linux-ld/Class/MOP/Method/Wrapped.pm line 95
	XML::Toolkit::Loader::parse_string(XML::Toolkit::Loader=HASH(0x558fdd0be3d8), "<?xml version=\"1.0\" encoding=\"utf-8\"?>\x{a}<rdf:RDF\x{a}  xmlns:rdf=\""...) called at t/04.rdf.t line 42
t/04.rdf.t .................................... ok
Class::MOP::load_class is deprecated at /home/sand/src/perl/repoperls/installed-perls/host/k93msid/v5.22.2/0a29/lib/site_perl/5.22.2/x86_64-linux-ld/Class/MOP.pm line 69.
	Class::MOP::load_class("MyApp::Code") called at /tmp/loop_over_bdir-30394-5FDtcA/XML-Toolkit-0.15-0/blib/lib/XML/Toolkit/Loader/Filter.pm line 44
	XML::Toolkit::Loader::Filter::load_class(XML::Toolkit::Loader::Filter=HASH(0x55e6ff1e50f8), "MyApp::Code") called at /tmp/loop_over_bdir-30394-5FDtcA/XML-Toolkit-0.15-0/blib/lib/XML/Toolkit/Loader/Filter.pm line 63
	XML::Toolkit::Loader::Filter::start_element(XML::Toolkit::Loader::Filter=HASH(0x55e6ff1e50f8), HASH(0x55e6ff1bf540)) called at /home/sand/src/perl/repoperls/installed-perls/host/k93msid/v5.22.2/0a29/lib/site_perl/5.22.2/XML/SAX/Base.pm line 300
	XML::SAX::Base::start_element(XML::SAX::Expat=HASH(0x55e6ff1bfab0), HASH(0x55e6ff1bf540)) called at /home/sand/src/perl/repoperls/installed-perls/host/k93msid/v5.22.2/0a29/lib/site_perl/5.22.2/XML/SAX/Expat.pm line 225
	XML::SAX::Expat::_handle_start(XML::Parser::Expat=HASH(0x55e6fe93da58), "code") called at /home/sand/src/perl/repoperls/installed-perls/host/k93msid/v5.22.2/0a29/lib/site_perl/5.22.2/x86_64-linux-ld/XML/Parser/Expat.pm line 479
	XML::Parser::Expat::parse(XML::Parser::Expat=HASH(0x55e6fe93da58), "<code><![CDATA[<crackers \x{26} cheese>]]></code>") called at /home/sand/src/perl/repoperls/installed-perls/host/k93msid/v5.22.2/0a29/lib/site_perl/5.22.2/x86_64-linux-ld/XML/Parser.pm line 187
	eval {...} called at /home/sand/src/perl/repoperls/installed-perls/host/k93msid/v5.22.2/0a29/lib/site_perl/5.22.2/x86_64-linux-ld/XML/Parser.pm line 186
	XML::Parser::parse(XML::Parser=HASH(0x55e6fe9747d0), "<code><![CDATA[<crackers \x{26} cheese>]]></code>") called at /home/sand/src/perl/repoperls/installed-perls/host/k93msid/v5.22.2/0a29/lib/site_perl/5.22.2/XML/SAX/Expat.pm line 60
	XML::SAX::Expat::_parse_string(XML::SAX::Expat=HASH(0x55e6ff1bfab0), "<code><![CDATA[<crackers \x{26} cheese>]]></code>") called at /home/sand/src/perl/repoperls/installed-perls/host/k93msid/v5.22.2/0a29/lib/site_perl/5.22.2/XML/SAX/Base.pm line 2617
	XML::SAX::Base::parse(XML::SAX::Expat=HASH(0x55e6ff1bfab0), HASH(0x55e6fef099d0)) called at /home/sand/src/perl/repoperls/installed-perls/host/k93msid/v5.22.2/0a29/lib/site_perl/5.22.2/XML/SAX/Base.pm line 2662
	XML::SAX::Base::parse_string(XML::SAX::Expat=HASH(0x55e6ff1bfab0), "<code><![CDATA[<crackers \x{26} cheese>]]></code>") called at inline delegation in XML::Toolkit::Loader for parser->parse_string (attribute declared in /tmp/loop_over_bdir-30394-5FDtcA/XML-Toolkit-0.15-0/blib/lib/XML/Toolkit/Loader.pm at line 22) line 18
	XML::Toolkit::Loader::parse_string(XML::Toolkit::Loader=HASH(0x55e6ff2a36b0), "<code><![CDATA[<crackers \x{26} cheese>]]></code>") called at /home/sand/src/perl/repoperls/installed-perls/host/k93msid/v5.22.2/0a29/lib/site_perl/5.22.2/x86_64-linux-ld/Class/MOP/Method/Wrapped.pm line 44
	XML::Toolkit::Loader::_wrapped_parse_string(XML::Toolkit::Loader=HASH(0x55e6ff2a36b0), "<code><![CDATA[<crackers \x{26} cheese>]]></code>") called at /home/sand/src/perl/repoperls/installed-perls/host/k93msid/v5.22.2/0a29/lib/site_perl/5.22.2/x86_64-linux-ld/Class/MOP/Method/Wrapped.pm line 95
	XML::Toolkit::Loader::parse_string(XML::Toolkit::Loader=HASH(0x55e6ff2a36b0), "<code><![CDATA[<crackers \x{26} cheese>]]></code>") called at t/05.cdata.t line 26
t/05.cdata.t .................................. ok
Class::MOP::load_class is deprecated at /home/sand/src/perl/repoperls/installed-perls/host/k93msid/v5.22.2/0a29/lib/site_perl/5.22.2/x86_64-linux-ld/Class/MOP.pm line 69.
	Class::MOP::load_class("MyTest::Note") called at /tmp/loop_over_bdir-30394-5FDtcA/XML-Toolkit-0.15-0/blib/lib/XML/Toolkit/Loader/Filter.pm line 44
	XML::Toolkit::Loader::Filter::load_class(XML::Toolkit::Loader::Filter=HASH(0x55cddced1df8), "MyTest::Note") called at /tmp/loop_over_bdir-30394-5FDtcA/XML-Toolkit-0.15-0/blib/lib/XML/Toolkit/Loader/Filter.pm line 63
	XML::Toolkit::Loader::Filter::start_element(XML::Toolkit::Loader::Filter=HASH(0x55cddced1df8), HASH(0x55cddce90ec0)) called at /home/sand/src/perl/repoperls/installed-perls/host/k93msid/v5.22.2/0a29/lib/site_perl/5.22.2/XML/SAX/Base.pm line 300
	XML::SAX::Base::start_element(XML::SAX::Expat=HASH(0x55cddcc46160), HASH(0x55cddce90ec0)) called at /home/sand/src/perl/repoperls/installed-perls/host/k93msid/v5.22.2/0a29/lib/site_perl/5.22.2/XML/SAX/Expat.pm line 225
	XML::SAX::Expat::_handle_start(XML::Parser::Expat=HASH(0x55cddcb14c20), "note") called at /home/sand/src/perl/repoperls/installed-perls/host/k93msid/v5.22.2/0a29/lib/site_perl/5.22.2/x86_64-linux-ld/XML/Parser/Expat.pm line 479
	XML::Parser::Expat::parse(XML::Parser::Expat=HASH(0x55cddcb14c20), "<?xml version=\"1.0\"?>\x{a}<note>\x{a}    <to>Tove</to>\x{a}    <from>Jani"...) called at /home/sand/src/perl/repoperls/installed-perls/host/k93msid/v5.22.2/0a29/lib/site_perl/5.22.2/x86_64-linux-ld/XML/Parser.pm line 187
	eval {...} called at /home/sand/src/perl/repoperls/installed-perls/host/k93msid/v5.22.2/0a29/lib/site_perl/5.22.2/x86_64-linux-ld/XML/Parser.pm line 186
	XML::Parser::parse(XML::Parser=HASH(0x55cddcb79c68), "<?xml version=\"1.0\"?>\x{a}<note>\x{a}    <to>Tove</to>\x{a}    <from>Jani"...) called at /home/sand/src/perl/repoperls/installed-perls/host/k93msid/v5.22.2/0a29/lib/site_perl/5.22.2/XML/SAX/Expat.pm line 60
	XML::SAX::Expat::_parse_string(XML::SAX::Expat=HASH(0x55cddcc46160), "<?xml version=\"1.0\"?>\x{a}<note>\x{a}    <to>Tove</to>\x{a}    <from>Jani"...) called at /home/sand/src/perl/repoperls/installed-perls/host/k93msid/v5.22.2/0a29/lib/site_perl/5.22.2/XML/SAX/Base.pm line 2617
	XML::SAX::Base::parse(XML::SAX::Expat=HASH(0x55cddcc46160), HASH(0x55cddcdc23d0)) called at /home/sand/src/perl/repoperls/installed-perls/host/k93msid/v5.22.2/0a29/lib/site_perl/5.22.2/XML/SAX/Base.pm line 2662
	XML::SAX::Base::parse_string(XML::SAX::Expat=HASH(0x55cddcc46160), "<?xml version=\"1.0\"?>\x{a}<note>\x{a}    <to>Tove</to>\x{a}    <from>Jani"...) called at inline delegation in XML::Toolkit::Loader for parser->parse_string (attribute declared in /tmp/loop_over_bdir-30394-5FDtcA/XML-Toolkit-0.15-0/blib/lib/XML/Toolkit/Loader.pm at line 22) line 18
	XML::Toolkit::Loader::parse_string(XML::Toolkit::Loader=HASH(0x55cddd13a248), "<?xml version=\"1.0\"?>\x{a}<note>\x{a}    <to>Tove</to>\x{a}    <from>Jani"...) called at /home/sand/src/perl/repoperls/installed-perls/host/k93msid/v5.22.2/0a29/lib/site_perl/5.22.2/x86_64-linux-ld/Class/MOP/Method/Wrapped.pm line 44
	XML::Toolkit::Loader::_wrapped_parse_string(XML::Toolkit::Loader=HASH(0x55cddd13a248), "<?xml version=\"1.0\"?>\x{a}<note>\x{a}    <to>Tove</to>\x{a}    <from>Jani"...) called at /home/sand/src/perl/repoperls/installed-perls/host/k93msid/v5.22.2/0a29/lib/site_perl/5.22.2/x86_64-linux-ld/Class/MOP/Method/Wrapped.pm line 95
	XML::Toolkit::Loader::parse_string(XML::Toolkit::Loader=HASH(0x55cddd13a248), "<?xml version=\"1.0\"?>\x{a}<note>\x{a}    <to>Tove</to>\x{a}    <from>Jani"...) called at t/06.reuse/06.reuse_generator.t line 41
t/06.reuse/06.reuse_generator.t ............... ok
Class::MOP::load_class is deprecated at /home/sand/src/perl/repoperls/installed-perls/host/k93msid/v5.22.2/0a29/lib/site_perl/5.22.2/x86_64-linux-ld/Class/MOP.pm line 69.
	Class::MOP::load_class() called at /tmp/loop_over_bdir-30394-5FDtcA/XML-Toolkit-0.15-0/blib/lib/XML/Toolkit/Loader/Filter.pm line 44
	XML::Toolkit::Loader::Filter::load_class() called at /tmp/loop_over_bdir-30394-5FDtcA/XML-Toolkit-0.15-0/blib/lib/XML/Toolkit/Loader/Filter.pm line 63
	XML::Toolkit::Loader::Filter::start_element() called at /home/sand/src/perl/repoperls/installed-perls/host/k93msid/v5.22.2/0a29/lib/site_perl/5.22.2/XML/SAX/Base.pm line 300
	XML::SAX::Base::start_element() called at /home/sand/src/perl/repoperls/installed-perls/host/k93msid/v5.22.2/0a29/lib/site_perl/5.22.2/XML/SAX/Expat.pm line 225
	XML::SAX::Expat::_handle_start() called at /home/sand/src/perl/repoperls/installed-perls/host/k93msid/v5.22.2/0a29/lib/site_perl/5.22.2/x86_64-linux-ld/XML/Parser/Expat.pm line 479
	XML::Parser::Expat::parse() called at /home/sand/src/perl/repoperls/installed-perls/host/k93msid/v5.22.2/0a29/lib/site_perl/5.22.2/x86_64-linux-ld/XML/Parser.pm line 187
	eval {...} called at /home/sand/src/perl/repoperls/installed-perls/host/k93msid/v5.22.2/0a29/lib/site_perl/5.22.2/x86_64-linux-ld/XML/Parser.pm line 186
	XML::Parser::parse() called at /home/sand/src/perl/repoperls/installed-perls/host/k93msid/v5.22.2/0a29/lib/site_perl/5.22.2/XML/SAX/Expat.pm line 60
	XML::SAX::Expat::_parse_string() called at /home/sand/src/perl/repoperls/installed-perls/host/k93msid/v5.22.2/0a29/lib/site_perl/5.22.2/XML/SAX/Base.pm line 2617
	XML::SAX::Base::parse() called at /home/sand/src/perl/repoperls/installed-perls/host/k93msid/v5.22.2/0a29/lib/site_perl/5.22.2/XML/SAX/Base.pm line 2662
	XML::SAX::Base::parse_string() called at inline delegation in XML::Toolkit::Loader for parser->parse_string (attribute declared in /tmp/loop_over_bdir-30394-5FDtcA/XML-Toolkit-0.15-0/blib/lib/XML/Toolkit/Loader.pm at line 22) line 18
	XML::Toolkit::Loader::parse_string() called at /home/sand/src/perl/repoperls/installed-perls/host/k93msid/v5.22.2/0a29/lib/site_perl/5.22.2/x86_64-linux-ld/Class/MOP/Method/Wrapped.pm line 44
	XML::Toolkit::Loader::_wrapped_parse_string() called at /home/sand/src/perl/repoperls/installed-perls/host/k93msid/v5.22.2/0a29/lib/site_perl/5.22.2/x86_64-linux-ld/Class/MOP/Method/Wrapped.pm line 95
	XML::Toolkit::Loader::parse_string() called at t/06.reuse/06.reuse_loader.t line 42
	Test::Exception::lives_ok() called at t/06.reuse/06.reuse_loader.t line 42
t/06.reuse/06.reuse_loader.t .................. ok
t/release-pod-coverage.t ...................... skipped: these tests are for release candidate testing
t/release-pod-syntax.t ........................ skipped: these tests are for release candidate testing
All tests successful.
Files=12, Tests=91, 38 wallclock secs ( 0.06 usr  0.06 sys + 18.30 cusr  1.84 csys = 20.26 CPU)
Result: PASS

------------------------------
PREREQUISITES
------------------------------

Prerequisite modules loaded:

requires:

    Module                                   Need Have    
    ---------------------------------------- ---- --------
    aliased                                  0    0.34    
    Bread::Board                             0    0.34    
    Bread::Board::Container                  0    0.34    
    Devel::PackagePath                       0.01 0.03    
    Encode                                   0    2.88    
    Moose                                    0.92 2.2004  
    Moose::Role                              0    2.2004  
    Moose::Util::TypeConstraints             0    2.2004  
    MooseX::Aliases                          0    0.11    
    MooseX::App::Cmd                         0    0.32    
    MooseX::App::Cmd::Command                0    0.32    
    MooseX::Getopt::Dashes                   0    0.71    
    MooseX::MetaDescription                  0.03 0.06    
    MooseX::MetaDescription::Description     0    0.06    
    MooseX::MetaDescription::Meta::Attribute 0    0.06    
    MooseX::MetaDescription::Meta::Trait     0    0.06    
    MooseX::NonMoose                         0    0.26    
    MooseX::Types::Path::Class               0.04 0.09    
    namespace::autoclean                     0    0.28    
    strict                                   0    1.09    
    Template                                 2.20 2.26    
    warnings                                 0    1.34    
    XML::SAX                                 0.96 0.99    
    XML::SAX::Base                           0    1.08    
    XML::SAX::Writer                         0.50 0.56    

build_requires:

    Module                                   Need Have    
    ---------------------------------------- ---- --------
    File::Find                               0    1.29    
    File::Temp                               0    0.2304  
    Path::Class                              0    0.37    
    Test::Deep                               0    1.126   
    Test::Exception                          0    0.43    
    Test::More                               0    1.302079
    Test::Simple                             0.94 1.302079
    Test::XML                                0.00 0.08    

configure_requires:

    Module                                   Need Have    
    ---------------------------------------- ---- --------
    ExtUtils::MakeMaker                      6.30 7.24    


------------------------------
ENVIRONMENT AND OTHER CONTEXT
------------------------------

Environment variables:

    AUTOMATED_TESTING = 1
    LANG = en_US.UTF-8
    PATH = /home/sand/bin:/usr/local/bin:/usr/bin:/bin:/usr/games:/usr/local/perl/bin:/usr/X11/bin:/sbin:/usr/sbin
    PERL5LIB = 
    PERL5OPT = 
    PERL5_CPANPLUS_IS_RUNNING = 30400
    PERL5_CPAN_IS_RUNNING = 30400
    PERL_CANARY_STABILITY_NOPROMPT = 1
    PERL_MM_USE_DEFAULT = 1
    PERL_USE_UNSAFE_INC = 1
    SHELL = /usr/bin/zsh
    TERM = screen

Perl special variables (and OS-specific diagnostics, for MSWin32):

    $^X = /home/sand/src/perl/repoperls/installed-perls/host/k93msid/v5.22.2/0a29/bin/perl
    $UID/$EUID = 1005 / 1005
    $GID = 1005 1005
    $EGID = 1005 1005

Perl module toolchain versions installed:

    Module              Have    
    ------------------- --------
    CPAN                2.18    
    CPAN::Meta          2.150010
    Cwd                 3.62    
    ExtUtils::CBuilder  0.280224
    ExtUtils::Command   7.24    
    ExtUtils::Install   2.04    
    ExtUtils::MakeMaker 7.24    
    ExtUtils::Manifest  1.70    
    ExtUtils::ParseXS   3.28    
    File::Spec          3.62    
    JSON                2.90    
    JSON::PP            2.27400 
    Module::Build       0.42_21 
    Module::Signature   0.81    
    Parse::CPAN::Meta   2.150010
    Test::Harness       3.39    
    Test::More          1.302079
    YAML                1.23    
    YAML::Syck          1.29    
    version             0.9909  


--

Summary of my perl5 (revision 5 version 22 subversion 2) configuration:
  Derived from: 9cbffb38735712e3a34e6f537892b6ef06fb815f
  Platform:
    osname=linux, osvers=4.9.0-2-amd64, archname=x86_64-linux-ld
    uname='linux k93msid 4.9.0-2-amd64 #1 smp debian 4.9.13-1 (2017-02-27) x86_64 gnulinux '
    config_args='-Dprefix=/home/sand/src/perl/repoperls/installed-perls/host/k93msid/v5.22.2/0a29 -Dmyhostname=k93msid -Dinstallusrbinperl=n -Uversiononly -Dusedevel -des -Ui_db -Dlibswanted=cl pthread socket inet nsl gdbm dbm malloc dl ld sun m crypt sec util c cposix posix ucb BSD gdbm_compat -Uuseithreads -Duselongdouble -DDEBUGGING=both'
    hint=recommended, useposix=true, d_sigaction=define
    useithreads=undef, usemultiplicity=undef
    use64bitint=define, use64bitall=define, uselongdouble=define
    usemymalloc=n, bincompat5005=undef
  Compiler:
    cc='cc', ccflags ='-fwrapv -DDEBUGGING -fno-strict-aliasing -pipe -fstack-protector-strong -I/usr/local/include -D_LARGEFILE_SOURCE -D_FILE_OFFSET_BITS=64',
    optimize='-O2 -g',
    cppflags='-fwrapv -DDEBUGGING -fno-strict-aliasing -pipe -fstack-protector-strong -I/usr/local/include'
    ccversion='', gccversion='6.3.0 20170316', gccosandvers=''
    intsize=4, longsize=8, ptrsize=8, doublesize=8, byteorder=12345678, doublekind=3
    d_longlong=define, longlongsize=8, d_longdbl=define, longdblsize=16, longdblkind=3
    ivtype='long', ivsize=8, nvtype='long double', nvsize=16, Off_t='off_t', lseeksize=8
    alignbytes=16, prototype=define
  Linker and Libraries:
    ld='cc', ldflags =' -fstack-protector-strong -L/usr/local/lib'
    libpth=/usr/local/lib /usr/lib/gcc/x86_64-linux-gnu/6/include-fixed /usr/include/x86_64-linux-gnu /usr/lib /lib/x86_64-linux-gnu /lib/../lib /usr/lib/x86_64-linux-gnu /usr/lib/../lib /lib
    libs=-lpthread -lnsl -ldl -lm -lcrypt -lutil -lc
    perllibs=-lpthread -lnsl -ldl -lm -lcrypt -lutil -lc
    libc=libc-2.24.so, so=so, useshrplib=false, libperl=libperl.a
    gnulibc_version='2.24'
  Dynamic Linking:
    dlsrc=dl_dlopen.xs, dlext=so, d_dlsymun=undef, ccdlflags='-Wl,-E'
    cccdlflags='-fPIC', lddlflags='-shared -O2 -g -L/usr/local/lib -fstack-protector-strong'


Characteristics of this binary (from libperl): 
  Compile-time options: DEBUGGING HAS_TIMES PERLIO_LAYERS
                        PERL_DONT_CREATE_GVSV
                        PERL_HASH_FUNC_ONE_AT_A_TIME_HARD PERL_MALLOC_WRAP
                        PERL_NEW_COPY_ON_WRITE PERL_PRESERVE_IVUV
                        PERL_USE_DEVEL USE_64_BIT_ALL USE_64_BIT_INT
                        USE_LARGE_FILES USE_LOCALE USE_LOCALE_COLLATE
                        USE_LOCALE_CTYPE USE_LOCALE_NUMERIC USE_LOCALE_TIME
                        USE_LONG_DOUBLE USE_PERLIO USE_PERL_ATOF
  Locally applied patches:
	uncommitted-changes
  Built under linux
  Compiled at Mar 19 2017 11:15:20
  %ENV:
    PERL5LIB=""
    PERL5OPT=""
    PERL5_CPANPLUS_IS_RUNNING="30400"
    PERL5_CPAN_IS_RUNNING="30400"
    PERL_CANARY_STABILITY_NOPROMPT="1"
    PERL_MM_USE_DEFAULT="1"
    PERL_USE_UNSAFE_INC="1"
  @INC:
    /home/sand/src/perl/repoperls/installed-perls/host/k93msid/v5.22.2/0a29/lib/site_perl/5.22.2/x86_64-linux-ld
    /home/sand/src/perl/repoperls/installed-perls/host/k93msid/v5.22.2/0a29/lib/site_perl/5.22.2
    /home/sand/src/perl/repoperls/installed-perls/host/k93msid/v5.22.2/0a29/lib/5.22.2/x86_64-linux-ld
    /home/sand/src/perl/repoperls/installed-perls/host/k93msid/v5.22.2/0a29/lib/5.22.2
    .