JSON-Pointer v0.07 Perl 5 v5.27.3 amd64-freebsd

Status
Pass
From
Slaven Rezić (SREZIC)
Dist
JSON-Pointer v0.07
Platform
Perl 5 v5.27.3 amd64-freebsd
Date
2017-08-29 02:39:02
ID
37d416d2-8c63-11e7-ad6c-de6f5375e5cc
This distribution has been tested as part of the CPAN Testers
project, supporting the Perl programming language.  See
http://wiki.cpantesters.org/ for more information or email
questions to cpan-testers-discuss@perl.org


--
Dear Toru Yamaguchi,

This is a computer-generated report for JSON-Pointer-0.07
on perl 5.27.3, created by CPAN-Reporter-1.2018.

Thank you for uploading your work to CPAN.  Congratulations!
All tests were successful.

Sections of this report:

    * Tester comments
    * Program output
    * Prerequisites
    * Environment and other context

------------------------------
TESTER COMMENTS
------------------------------

Additional comments from tester:

none provided

------------------------------
PROGRAM OUTPUT
------------------------------

Output from './Build test':

t/000_load.t ............................. ok
t/001_traverse.t ......................... ok
t/002_get.t .............................. ok
t/003_mojo_json_pointer_compat.t ......... ok
t/004_add.t .............................. ok
t/005_remove.t ........................... ok
t/006_replace.t .......................... ok
t/007_copy.t ............................. ok
t/008_move.t ............................. ok
t/009_test.t ............................. ok
t/010_get_relative.t ..................... ok
t/rt/89773.t ............................. ok
t/syntax/001_unescape_reference_token.t .. ok
t/syntax/002_escape_reference_token.t .... ok
t/syntax/003_tokenize.t .................. ok
t/syntax/004_as_pointer.t ................ ok
t/syntax/005_is_array_numeric_index.t .... ok
All tests successful.
Files=17, Tests=63,  2 wallclock secs ( 0.01 usr  0.09 sys +  0.12 cusr  0.86 csys =  1.08 CPU)
Result: PASS

------------------------------
PREREQUISITES
------------------------------

Prerequisite modules loaded:

requires:

    Module                Need     Have    
    --------------------- -------- --------
    B                     0        1.69    
    Carp                  1.20     1.43    
    Class::Accessor::Lite 0.05     0.08    
    Clone                 0.36     0.39    
    Exporter              0        5.72    
    JSON                  2.53     2.94    
    perl                  5.008001 5.027003
    URI::Escape           3.31     3.31    

build_requires:

    Module                Need     Have    
    --------------------- -------- --------
    ExtUtils::CBuilder    0        0.280228
    Test::Exception       0.31     0.43    
    Test::More            0.98     1.302086

configure_requires:

    Module                Need     Have    
    --------------------- -------- --------
    CPAN::Meta            0        2.150010
    CPAN::Meta::Prereqs   0        2.150010
    Module::Build         0.38     0.4224  


------------------------------
ENVIRONMENT AND OTHER CONTEXT
------------------------------

Environment variables:

    LC_ALL = de_DE.ISO8859-1
    PATH = /usr/local/bin:/usr/bin:/bin:/usr/local/sbin:/usr/sbin:/sbin:/home/cpansand/bin/freebsd10.3:/home/cpansand/bin/sh:/home/cpansand/bin:/usr/games:/home/cpansand/devel:/home/eserte/src/srezic-misc/scripts
    PERL5LIB = /home/cpansand/.cpan/build/2017082903/HTML-Escape-1.10-0/blib/arch:/home/cpansand/.cpan/build/2017082903/HTML-Escape-1.10-0/blib/lib:/home/cpansand/.cpan/build/2017082903/Module-Build-Pluggable-PPPort-0.04-0/blib/arch:/home/cpansand/.cpan/build/2017082903/Module-Build-Pluggable-PPPort-0.04-0/blib/lib:/home/cpansand/.cpan/build/2017082903/Module-Build-Pluggable-0.10-0/blib/arch:/home/cpansand/.cpan/build/2017082903/Module-Build-Pluggable-0.10-0/blib/lib:/home/cpansand/.cpan/build/2017082903/Class-Accessor-Lite-Lazy-0.03-0/blib/arch:/home/cpansand/.cpan/build/2017082903/Class-Accessor-Lite-Lazy-0.03-0/blib/lib
    PERL5OPT = 
    PERL5_CPANPLUS_IS_RUNNING = 55401
    PERL5_CPAN_IS_RUNNING = 55401
    PERL5_CPAN_IS_RUNNING_IN_RECURSION = 55362,55401
    PERLDOC = -MPod::Perldoc::ToTextOverstrike
    PERL_BATCH = yes
    PERL_CANARY_STABILITY_NOPROMPT = 1
    PERL_CPAN_REPORTER_CONFIG = /var/tmp/cpansmoker-1023/2017082903/cpanreporter_000_config.ini
    PERL_EXTUTILS_AUTOINSTALL = --defaultdeps
    PERL_USE_UNSAFE_INC = 1
    SHELL = /usr/local/bin/zsh
    TERM = screen
    TMPDIR = /var/tmp/cpansmoker-1023/2017082903

Perl special variables (and OS-specific diagnostics, for MSWin32):

    $^X = /usr/perl5.27.3p/bin/perl5.27.3
    $UID/$EUID = 1023 / 1023
    $GID = 1023 1023
    $EGID = 1023 1023

Perl module toolchain versions installed:

    Module              Have    
    ------------------- --------
    CPAN                2.18    
    CPAN::Meta          2.150010
    Cwd                 3.68    
    ExtUtils::CBuilder  0.280228
    ExtUtils::Command   7.30    
    ExtUtils::Install   2.14    
    ExtUtils::MakeMaker 7.30    
    ExtUtils::Manifest  1.70    
    ExtUtils::ParseXS   3.35    
    File::Spec          3.68    
    JSON                2.94    
    JSON::PP            2.94    
    Module::Build       0.4224  
    Module::Signature   0.81    
    Parse::CPAN::Meta   2.150010
    Test::Harness       3.39    
    Test::More          1.302086
    YAML                1.23    
    YAML::Syck          1.30    
    version             0.9918  


--

Summary of my perl5 (revision 5 version 27 subversion 3) configuration:
   
  Platform:
    osname=freebsd
    osvers=10.3-release-p11
    archname=amd64-freebsd
    uname='freebsd cvrsnica-freebsd-101.herceg.de 10.3-release-p11 freebsd 10.3-release-p11 #0: mon oct 24 18:49:24 utc 2016 root@amd64-builder.daemonology.net:usrobjusrsrcsysgeneric amd64 '
    config_args='-ds -e -Dprefix=/usr/perl5.27.3p -Dusedevel -Dusemallocwrap=no -Dcf_email=srezic@cpan.org -Doptimize=-O2 -pipe'
    hint=recommended
    useposix=true
    d_sigaction=define
    useithreads=undef
    usemultiplicity=undef
    use64bitint=define
    use64bitall=define
    uselongdouble=undef
    usemymalloc=n
    default_inc_excludes_dot=define
    bincompat5005=undef
  Compiler:
    cc='cc'
    ccflags ='-DHAS_FPSETMASK -DHAS_FLOATINGPOINT_H -fno-strict-aliasing -pipe -fstack-protector -I/usr/local/include -D_FORTIFY_SOURCE=2'
    optimize='-O2 -pipe'
    cppflags='-DHAS_FPSETMASK -DHAS_FLOATINGPOINT_H -fno-strict-aliasing -pipe -fstack-protector -I/usr/local/include'
    ccversion=''
    gccversion='4.2.1 Compatible FreeBSD Clang 3.4.1 (tags/RELEASE_34/dot1-final 208032)'
    gccosandvers=''
    intsize=4
    longsize=8
    ptrsize=8
    doublesize=8
    byteorder=12345678
    doublekind=3
    d_longlong=define
    longlongsize=8
    d_longdbl=define
    longdblsize=16
    longdblkind=3
    ivtype='long'
    ivsize=8
    nvtype='double'
    nvsize=8
    Off_t='off_t'
    lseeksize=8
    alignbytes=8
    prototype=define
  Linker and Libraries:
    ld='cc'
    ldflags ='-pthread -Wl,-E  -fstack-protector -L/usr/local/lib'
    libpth=/usr/lib /usr/local/lib /usr/include/clang/3.4.1 /usr/lib
    libs=-lpthread -lgdbm -lm -lcrypt -lutil -lc -lelf
    perllibs=-lpthread -lm -lcrypt -lutil -lc -lelf
    libc=
    so=so
    useshrplib=false
    libperl=libperl.a
    gnulibc_version=''
  Dynamic Linking:
    dlsrc=dl_dlopen.xs
    dlext=so
    d_dlsymun=undef
    ccdlflags=' '
    cccdlflags='-DPIC -fPIC'
    lddlflags='-shared  -L/usr/local/lib -fstack-protector'


Characteristics of this binary (from libperl): 
  Compile-time options:
    HAS_TIMES
    PERLIO_LAYERS
    PERL_COPY_ON_WRITE
    PERL_DONT_CREATE_GVSV
    PERL_OP_PARENT
    PERL_PRESERVE_IVUV
    PERL_USE_DEVEL
    USE_64_BIT_ALL
    USE_64_BIT_INT
    USE_LARGE_FILES
    USE_LOCALE
    USE_LOCALE_COLLATE
    USE_LOCALE_CTYPE
    USE_LOCALE_NUMERIC
    USE_LOCALE_TIME
    USE_PERLIO
    USE_PERL_ATOF
  Built under freebsd
  Compiled at Aug 21 2017 23:30:22
  %ENV:
    PERL5LIB="/home/cpansand/.cpan/build/2017082903/HTML-Escape-1.10-0/blib/arch:/home/cpansand/.cpan/build/2017082903/HTML-Escape-1.10-0/blib/lib:/home/cpansand/.cpan/build/2017082903/Module-Build-Pluggable-PPPort-0.04-0/blib/arch:/home/cpansand/.cpan/build/2017082903/Module-Build-Pluggable-PPPort-0.04-0/blib/lib:/home/cpansand/.cpan/build/2017082903/Module-Build-Pluggable-0.10-0/blib/arch:/home/cpansand/.cpan/build/2017082903/Module-Build-Pluggable-0.10-0/blib/lib:/home/cpansand/.cpan/build/2017082903/Class-Accessor-Lite-Lazy-0.03-0/blib/arch:/home/cpansand/.cpan/build/2017082903/Class-Accessor-Lite-Lazy-0.03-0/blib/lib"
    PERL5OPT=""
    PERL5_CPANPLUS_IS_RUNNING="55401"
    PERL5_CPAN_IS_RUNNING="55401"
    PERL5_CPAN_IS_RUNNING_IN_RECURSION="55362,55401"
    PERLDOC="-MPod::Perldoc::ToTextOverstrike"
    PERL_BATCH="yes"
    PERL_CANARY_STABILITY_NOPROMPT="1"
    PERL_CPAN_REPORTER_CONFIG="/var/tmp/cpansmoker-1023/2017082903/cpanreporter_000_config.ini"
    PERL_EXTUTILS_AUTOINSTALL="--defaultdeps"
    PERL_USE_UNSAFE_INC="1"
  @INC:
    /home/cpansand/.cpan/build/2017082903/HTML-Escape-1.10-0/blib/arch
    /home/cpansand/.cpan/build/2017082903/HTML-Escape-1.10-0/blib/lib
    /home/cpansand/.cpan/build/2017082903/Module-Build-Pluggable-PPPort-0.04-0/blib/arch
    /home/cpansand/.cpan/build/2017082903/Module-Build-Pluggable-PPPort-0.04-0/blib/lib
    /home/cpansand/.cpan/build/2017082903/Module-Build-Pluggable-0.10-0/blib/arch
    /home/cpansand/.cpan/build/2017082903/Module-Build-Pluggable-0.10-0/blib/lib
    /home/cpansand/.cpan/build/2017082903/Class-Accessor-Lite-Lazy-0.03-0/blib/arch
    /home/cpansand/.cpan/build/2017082903/Class-Accessor-Lite-Lazy-0.03-0/blib/lib
    /usr/perl5.27.3p/lib/site_perl/5.27.3/amd64-freebsd
    /usr/perl5.27.3p/lib/site_perl/5.27.3
    /usr/perl5.27.3p/lib/5.27.3/amd64-freebsd
    /usr/perl5.27.3p/lib/5.27.3
    .