UDDI-Lite v0.718 Perl 5 v5.27.3 amd64-freebsd

Status
Pass
From
Slaven Rezić (SREZIC)
Dist
UDDI-Lite v0.718
Platform
Perl 5 v5.27.3 amd64-freebsd
Date
2017-08-24 09:40:08
ID
37c952bc-88b0-11e7-8438-c5555cf4f14d
This distribution has been tested as part of the CPAN Testers
project, supporting the Perl programming language.  See
http://wiki.cpantesters.org/ for more information or email
questions to cpan-testers-discuss@perl.org


--
Dear Fred Moyer,

This is a computer-generated report for UDDI-Lite-0.718
on perl 5.27.3, created by CPAN-Reporter-1.2018.

Thank you for uploading your work to CPAN.  Congratulations!
All tests were successful.

Sections of this report:

    * Tester comments
    * Program output
    * Prerequisites
    * Environment and other context

------------------------------
TESTER COMMENTS
------------------------------

Additional comments from tester:

none provided

------------------------------
PROGRAM OUTPUT
------------------------------

Output from '/usr/bin/make test':

PERL_DL_NONLAZY=1 "/opt/perl-5.27.3/bin/perl5.27.3" "-MExtUtils::Command::MM" "-MTest::Harness" "-e" "undef *Test::Harness::Switches; test_harness(0, 'blib/lib', 'blib/arch')" t/*.t
t/25-uddi.t ............. skipped: 500 Can't connect to uddi.microsoft.com:80
t/28-uddi_search.t ...... skipped: 500 Can't connect to www-3.ibm.com:80
t/29-uddi_publishing.t .. skipped: 500 Can't connect to uddi.xmethods.net:8005
Files=3, Tests=0,  6 wallclock secs ( 0.01 usr  0.01 sys +  0.25 cusr  0.03 csys =  0.30 CPU)
Result: NOTESTS

------------------------------
PREREQUISITES
------------------------------

Prerequisite modules loaded:

requires:

    Module              Need  Have
    ------------------- ----- ----
  ! SOAP::Lite          0.716     

build_requires:

    Module              Need  Have
    ------------------- ----- ----
  ! ExtUtils::MakeMaker 0         

configure_requires:

    Module              Need  Have
    ------------------- ----- ----
  ! ExtUtils::MakeMaker 0         


------------------------------
ENVIRONMENT AND OTHER CONTEXT
------------------------------

Environment variables:

    LANG = C
    LC_ALL = de_DE.UTF-8
    PATH = /usr/local/bin:/usr/bin:/bin:/usr/local/sbin:/usr/sbin:/sbin:/home/cpansand/bin/linux-gnu:/home/cpansand/bin/sh:/home/cpansand/bin:/usr/games:/home/cpansand/devel:/home/eserte/src/srezic-misc/scripts
    PERL5LIB = 
    PERL5OPT = 
    PERL5_CPANPLUS_IS_RUNNING = 20384
    PERL5_CPAN_IS_RUNNING = 20384
    PERL5_CPAN_IS_RUNNING_IN_RECURSION = 29109,20384
    PERLDOC = -MPod::Perldoc::ToTextOverstrike
    PERL_BATCH = yes
    PERL_CANARY_STABILITY_NOPROMPT = 1
    PERL_CPAN_REPORTER_CONFIG = /var/tmp/cpansmoker-1023/2017082406/cpanreporter_001_config.ini
    PERL_EXTUTILS_AUTOINSTALL = --defaultdeps
    PERL_PARALLEL_SMOKER = yes
    PERL_USE_UNSAFE_INC = 1
    SHELL = /usr/bin/zsh
    TERM = screen
    TMPDIR = /var/tmp/cpansmoker-1023/2017082406

Perl special variables (and OS-specific diagnostics, for MSWin32):

    $^X = /opt/perl-5.27.3/bin/perl5.27.3
    $UID/$EUID = 1023 / 1023
    $GID = 1023 1023
    $EGID = 1023 1023

Perl module toolchain versions installed:

    Module Have
     


--