SVG-Estimate v1.0108 Perl 5 v5.24.0 x86_64-linux

Status
Pass
From
Slaven Rezić (SREZIC)
Dist
SVG-Estimate v1.0108
Platform
Perl 5 v5.24.0 x86_64-linux
Date
2018-10-09 18:00:33
ID
37c91c80-cbed-11e8-bd72-c4e7b7c676d3
This distribution has been tested as part of the CPAN Testers
project, supporting the Perl programming language.  See
http://wiki.cpantesters.org/ for more information or email
questions to cpan-testers-discuss@perl.org


--
Dear Colin Kuskie,

This is a computer-generated report for SVG-Estimate-1.0108
on perl 5.24.0, created by CPAN-Reporter-1.2018.

Thank you for uploading your work to CPAN.  Congratulations!
All tests were successful.

Sections of this report:

    * Tester comments
    * Program output
    * Prerequisites
    * Environment and other context

------------------------------
TESTER COMMENTS
------------------------------

Additional comments from tester:

none provided

------------------------------
PROGRAM OUTPUT
------------------------------

Output from '/usr/bin/make test':

PERL_DL_NONLAZY=1 "/opt/perl-5.24.0/bin/perl" "-MExtUtils::Command::MM" "-MTest::Harness" "-e" "undef *Test::Harness::Switches; test_harness(0, 'blib/lib', 'blib/arch')" t/*.t t/Path/*.t
Use of uninitialized value in addition (+) at lib/SVG/Estimate/Rect.pm line 86.
Use of uninitialized value in addition (+) at lib/SVG/Estimate/Rect.pm line 86.
t/01_rect.t ............................... ok
t/01_rect_with_units.t .................... ok
t/02_circle.t ............................. ok
t/02_circle_with_units.t .................. ok
t/03_ellipse.t ............................ ok
t/03_ellipse_with_units.t ................. ok
t/04_line.t ............................... ok
t/05_polyline.t ........................... ok
t/06_polygon.t ............................ ok
t/07_path.t ............................... ok
t/31_rect.t ............................... ok
t/32_circle.t ............................. ok
t/33_ellipse.t ............................ ok
t/34_line_transform.t ..................... ok
t/35_polyline_transform.t ................. ok
t/36_polygon.t ............................ ok
t/37_path.t ............................... ok
t/50_estimate.t ........................... ok
t/51_estimate_transforms.t ................ ok
t/52_estimate_transforms_groups.t ......... ok
t/53_estimate_transforms_groups_shapes.t .. ok
t/54_estimate_groupfun.t .................. ok
t/55_estimate_with_units.t ................ ok
t/Path/01_lineto.t ........................ ok
t/Path/02_horiz.t ......................... ok
t/Path/03_vert.t .......................... ok
t/Path/04_quadratic.t ..................... ok
t/Path/05_cubic.t ......................... ok
t/Path/06_arc.t ........................... ok
t/Path/07_moveto.t ........................ ok
t/Path/31_lineto.t ........................ ok
t/Path/32_horiz.t ......................... ok
t/Path/33_vert.t .......................... ok
t/Path/34_quadratic.t ..................... ok
t/Path/35_cubic.t ......................... ok
t/Path/36_arc.t ........................... ok
t/Path/37_moveto.t ........................ ok
All tests successful.
Files=37, Tests=377,  4 wallclock secs ( 0.05 usr  0.04 sys +  2.44 cusr  0.41 csys =  2.94 CPU)
Result: PASS

------------------------------
PREREQUISITES
------------------------------

Prerequisite modules loaded:

requires:

    Module                Need Have    
    --------------------- ---- --------
    Clone                 0    0.38    
    File::Slurp           0    9999.19 
    Image::SVG::Path      0.23 0.32    
    Image::SVG::Transform 0.04 0.04    
    List::MoreUtils       0    0.416   
    List::Util            0    1.45    
    Math::Trig            0    1.23    
    Moo                   0    2.002004
    Ouch                  0    0.0409  
    Test::Exception       0    0.43    
    Test::More            0    1.302052
    XML::Hash::LX         0    0.0603  
    XML::LibXML           0    2.0128  

build_requires:

    Module                Need Have    
    --------------------- ---- --------
    ExtUtils::MakeMaker   0    7.24    

configure_requires:

    Module                Need Have    
    --------------------- ---- --------
    ExtUtils::MakeMaker   0    7.24    


------------------------------
ENVIRONMENT AND OTHER CONTEXT
------------------------------

Environment variables:

    LANG = en_US.UTF-8
    LANGUAGE = en_US:en
    LC_ALL = en_US.UTF-8
    PATH = /usr/local/bin:/usr/bin:/bin:/usr/local/sbin:/usr/sbin:/sbin:/home/cpansand/bin/linux-gnu:/home/cpansand/bin/sh:/home/cpansand/bin:/usr/games:/home/cpansand/devel:/home/eserte/src/srezic-misc/scripts
    PERL5LIB = /home/cpansand/.cpan/build/2018100919/Image-SVG-Path-0.32-0/blib/arch:/home/cpansand/.cpan/build/2018100919/Image-SVG-Path-0.32-0/blib/lib:/home/cpansand/.cpan/build/2018100919/WebService-GarminConnect-1.0.7-2/blib/arch:/home/cpansand/.cpan/build/2018100919/WebService-GarminConnect-1.0.7-2/blib/lib:/home/cpansand/.cpan/build/2018100919/Mojo-Webqq-2.2.4-11/blib/arch:/home/cpansand/.cpan/build/2018100919/Mojo-Webqq-2.2.4-11/blib/lib:/home/cpansand/.cpan/build/2018100919/Mojolicious-8.02-11/blib/arch:/home/cpansand/.cpan/build/2018100919/Mojolicious-8.02-11/blib/lib
    PERL5OPT = 
    PERL5_CPANPLUS_IS_RUNNING = 10093
    PERL5_CPAN_IS_RUNNING = 10093
    PERL5_CPAN_IS_RUNNING_IN_RECURSION = 8855,10093
    PERLDOC = -MPod::Perldoc::ToTextOverstrike
    PERL_BATCH = yes
    PERL_CANARY_STABILITY_NOPROMPT = 1
    PERL_CPAN_REPORTER_CONFIG = /var/tmp/cpansmoker-1023/2018100919/cpanreporter_000_config.ini
    PERL_EXTUTILS_AUTOINSTALL = --defaultdeps
    PERL_PARALLEL_SMOKER = yes
    PERL_USE_UNSAFE_INC = 1
    SHELL = /bin/zsh
    TERM = screen
    TMPDIR = /var/tmp/cpansmoker-1023/2018100919

Perl special variables (and OS-specific diagnostics, for MSWin32):

    $^X = /opt/perl-5.24.0/bin/perl
    $UID/$EUID = 1023 / 1023
    $GID = 1023 1023
    $EGID = 1023 1023

Perl module toolchain versions installed:

    Module              Have    
    ------------------- --------
    CPAN                2.14    
    CPAN::Meta          2.150010
    Cwd                 3.63    
    ExtUtils::CBuilder  0.280225
    ExtUtils::Command   7.24    
    ExtUtils::Install   2.04    
    ExtUtils::MakeMaker 7.24    
    ExtUtils::Manifest  1.70    
    ExtUtils::ParseXS   3.31    
    File::Spec          3.63    
    JSON                2.90    
    JSON::PP            2.27300 
    Module::Build       0.4220  
    Module::Signature   0.80    
    Parse::CPAN::Meta   2.150010
    Test::Harness       3.36    
    Test::More          1.302052
    YAML                1.17    
    YAML::Syck          1.29    
    version             0.9916  


--

Summary of my perl5 (revision 5 version 24 subversion 0) configuration:
   
  Platform:
    osname=linux, osvers=3.2.0-4-amd64, archname=x86_64-linux
    uname='linux cvrsnica-wheezy 3.2.0-4-amd64 #1 smp debian 3.2.54-2 x86_64 gnulinux '
    config_args='-ds -e -Dprefix=/opt/perl-5.24.0 -Dcf_email=srezic@cpan.org'
    hint=recommended, useposix=true, d_sigaction=define
    useithreads=undef, usemultiplicity=undef
    use64bitint=define, use64bitall=define, uselongdouble=undef
    usemymalloc=n, bincompat5005=undef
  Compiler:
    cc='cc', ccflags ='-fwrapv -fno-strict-aliasing -pipe -fstack-protector -I/usr/local/include -D_LARGEFILE_SOURCE -D_FILE_OFFSET_BITS=64 -D_FORTIFY_SOURCE=2',
    optimize='-O2',
    cppflags='-fwrapv -fno-strict-aliasing -pipe -fstack-protector -I/usr/local/include'
    ccversion='', gccversion='4.7.2', gccosandvers=''
    intsize=4, longsize=8, ptrsize=8, doublesize=8, byteorder=12345678, doublekind=3
    d_longlong=define, longlongsize=8, d_longdbl=define, longdblsize=16, longdblkind=3
    ivtype='long', ivsize=8, nvtype='double', nvsize=8, Off_t='off_t', lseeksize=8
    alignbytes=8, prototype=define
  Linker and Libraries:
    ld='cc', ldflags =' -fstack-protector -L/usr/local/lib'
    libpth=/usr/local/lib /usr/lib/gcc/x86_64-linux-gnu/4.7/include-fixed /usr/include/x86_64-linux-gnu /usr/lib /lib/x86_64-linux-gnu /lib/../lib /usr/lib/x86_64-linux-gnu /usr/lib/../lib /lib
    libs=-lpthread -lnsl -ldb -ldl -lm -lcrypt -lutil -lc
    perllibs=-lpthread -lnsl -ldl -lm -lcrypt -lutil -lc
    libc=libc-2.13.so, so=so, useshrplib=false, libperl=libperl.a
    gnulibc_version='2.13'
  Dynamic Linking:
    dlsrc=dl_dlopen.xs, dlext=so, d_dlsymun=undef, ccdlflags='-Wl,-E'
    cccdlflags='-fPIC', lddlflags='-shared -O2 -L/usr/local/lib -fstack-protector'


Characteristics of this binary (from libperl): 
  Compile-time options: HAS_TIMES PERLIO_LAYERS PERL_COPY_ON_WRITE
                        PERL_DONT_CREATE_GVSV
                        PERL_HASH_FUNC_ONE_AT_A_TIME_HARD PERL_MALLOC_WRAP
                        PERL_PRESERVE_IVUV USE_64_BIT_ALL USE_64_BIT_INT
                        USE_LARGE_FILES USE_LOCALE USE_LOCALE_COLLATE
                        USE_LOCALE_CTYPE USE_LOCALE_NUMERIC USE_LOCALE_TIME
                        USE_PERLIO USE_PERL_ATOF
  Built under linux
  Compiled at May 30 2016 08:43:25
  %ENV:
    PERL5LIB="/home/cpansand/.cpan/build/2018100919/Image-SVG-Path-0.32-0/blib/arch:/home/cpansand/.cpan/build/2018100919/Image-SVG-Path-0.32-0/blib/lib:/home/cpansand/.cpan/build/2018100919/WebService-GarminConnect-1.0.7-2/blib/arch:/home/cpansand/.cpan/build/2018100919/WebService-GarminConnect-1.0.7-2/blib/lib:/home/cpansand/.cpan/build/2018100919/Mojo-Webqq-2.2.4-11/blib/arch:/home/cpansand/.cpan/build/2018100919/Mojo-Webqq-2.2.4-11/blib/lib:/home/cpansand/.cpan/build/2018100919/Mojolicious-8.02-11/blib/arch:/home/cpansand/.cpan/build/2018100919/Mojolicious-8.02-11/blib/lib"
    PERL5OPT=""
    PERL5_CPANPLUS_IS_RUNNING="10093"
    PERL5_CPAN_IS_RUNNING="10093"
    PERL5_CPAN_IS_RUNNING_IN_RECURSION="8855,10093"
    PERLDOC="-MPod::Perldoc::ToTextOverstrike"
    PERL_BATCH="yes"
    PERL_CANARY_STABILITY_NOPROMPT="1"
    PERL_CPAN_REPORTER_CONFIG="/var/tmp/cpansmoker-1023/2018100919/cpanreporter_000_config.ini"
    PERL_EXTUTILS_AUTOINSTALL="--defaultdeps"
    PERL_PARALLEL_SMOKER="yes"
    PERL_USE_UNSAFE_INC="1"
  @INC:
    /home/cpansand/.cpan/build/2018100919/Image-SVG-Path-0.32-0/blib/arch
    /home/cpansand/.cpan/build/2018100919/Image-SVG-Path-0.32-0/blib/lib
    /home/cpansand/.cpan/build/2018100919/WebService-GarminConnect-1.0.7-2/blib/arch
    /home/cpansand/.cpan/build/2018100919/WebService-GarminConnect-1.0.7-2/blib/lib
    /home/cpansand/.cpan/build/2018100919/Mojo-Webqq-2.2.4-11/blib/arch
    /home/cpansand/.cpan/build/2018100919/Mojo-Webqq-2.2.4-11/blib/lib
    /home/cpansand/.cpan/build/2018100919/Mojolicious-8.02-11/blib/arch
    /home/cpansand/.cpan/build/2018100919/Mojolicious-8.02-11/blib/lib
    /opt/perl-5.24.0/lib/site_perl/5.24.0/x86_64-linux
    /opt/perl-5.24.0/lib/site_perl/5.24.0
    /opt/perl-5.24.0/lib/5.24.0/x86_64-linux
    /opt/perl-5.24.0/lib/5.24.0
    .