Mail-Mbox-MessageParser v1.5111 Perl 5 v5.39.9 x86_64-linux-ld

Status
Pass
From
Andreas J. König (ANDK)
Dist
Mail-Mbox-MessageParser v1.5111
Platform
Perl 5 v5.39.9 x86_64-linux-ld
Date
2024-04-18 23:56:04
ID
37a5268e-fddf-11ee-8dca-f7bbc05e1c1b
This distribution has been tested as part of the CPAN Testers
project, supporting the Perl programming language.  See
http://wiki.cpantesters.org/ for more information or email
questions to cpan-testers-discuss@perl.org


--
Dear David Coppit,

This is a computer-generated report for Mail-Mbox-MessageParser-1.5111
on perl 5.39.9, created by CPAN-Reporter-1.2019.

Thank you for uploading your work to CPAN.  Congratulations!
All tests were successful.

Sections of this report:

    * Tester comments
    * Program output
    * Prerequisites
    * Environment and other context

------------------------------
TESTER COMMENTS
------------------------------

Additional comments from tester:

this report is from an automated smoke testing program
and was not reviewed by a human for accuracy

------------------------------
PROGRAM OUTPUT
------------------------------

Output from '/usr/bin/make test':

PERL_DL_NONLAZY=1 "/tmp/basesmoker-reloperl-6YfT/bin/perl" "-MExtUtils::Command::MM" "-MTest::Harness" "-e" "undef *Test::Harness::Switches; test_harness(1, 'blib/lib', 'blib/arch')" t/*.t
t/000_standard__compile.t ....... 
1..6
ok 1 - blib/lib/Mail/Mbox/MessageParser.pm compiles
ok 2 - blib/lib/Mail/Mbox/MessageParser/Cache.pm compiles
ok 3 - blib/lib/Mail/Mbox/MessageParser/Config.pm compiles
ok 4 - blib/lib/Mail/Mbox/MessageParser/Grep.pm compiles
ok 5 - blib/lib/Mail/Mbox/MessageParser/MetaInfo.pm compiles
ok 6 - blib/lib/Mail/Mbox/MessageParser/Perl.pm compiles
ok
t/000_standard__perl_critic.t ... skipped: Author test. Set $ENV{TEST_AUTHOR} to a true value to run.
t/000_standard__pod.t ........... 
1..6
ok 1 - POD test for blib/lib/Mail/Mbox/MessageParser.pm
ok 2 - POD test for blib/lib/Mail/Mbox/MessageParser/Grep.pm
ok 3 - POD test for blib/lib/Mail/Mbox/MessageParser/MetaInfo.pm
ok 4 - POD test for blib/lib/Mail/Mbox/MessageParser/Cache.pm
ok 5 - POD test for blib/lib/Mail/Mbox/MessageParser/Config.pm
ok 6 - POD test for blib/lib/Mail/Mbox/MessageParser/Perl.pm
ok
t/000_standard__pod_coverage.t .. 
1..6
ok 1 - Pod coverage on Mail::Mbox::MessageParser
ok 2 - Pod coverage on Mail::Mbox::MessageParser::Grep
ok 3 - Pod coverage on Mail::Mbox::MessageParser::MetaInfo
ok 4 - Pod coverage on Mail::Mbox::MessageParser::Cache
ok 5 - Pod coverage on Mail::Mbox::MessageParser::Config
ok 6 - Pod coverage on Mail::Mbox::MessageParser::Perl
ok
t/appended_mailbox.t ............ 
1..6
Testing modified mailbox with Perl implementation
Comparing /tmp/XAHoFWU3hw to t/mailboxes/mailarc-1.txt
Output /tmp/XAHoFWU3hw looks good.
ok 1 - Computing differences
Testing modified mailbox with Cache implementation
Comparing /tmp/g6pW19fdGT to t/mailboxes/mailarc-1.txt
Output /tmp/g6pW19fdGT looks good.
ok 2 - Computing differences
Testing modified mailbox with Grep implementation
ok 3 # skip GNU grep not available
Testing modified mailbox with Perl implementation
Comparing /tmp/h0d0RT_Kd9 to t/mailboxes/mailarc-1.txt
Output /tmp/h0d0RT_Kd9 looks good.
ok 4 - Computing differences
Testing modified mailbox with Cache implementation
Comparing /tmp/kTEh1HEzWy to t/mailboxes/mailarc-1.txt
Output /tmp/kTEh1HEzWy looks good.
ok 5 - Computing differences
Testing modified mailbox with Grep implementation
ok 6 # skip GNU grep not available
ok
t/bzip2.t ....................... 
1..1
Running test:
  "/usr/bin/cat" "t/mailboxes/mailarc-2.txt.bz2" | "/usr/bin/bzip2" -cd
Comparing /tmp/4X3bQ_Glcr to t/results/mailarc-2.txt
Output /tmp/4X3bQ_Glcr looks good.
Comparing /tmp/6j6DAokWkz to t/results/none
Output /tmp/6j6DAokWkz looks good.
ok 1 - Computing differences
ok
t/endline.t ..................... 
1..8
Testing filename: t/mailboxes/mailarc-1-dos.txt
ok 1 - Dos endline expected
ok 2 - Dos endline expected
ok 3 - Dos endline expected
ok 4 # skip GNU grep not available
Testing filename: t/mailboxes/mailarc-1.txt
ok 5 - Unix endline expected
ok 6 - Unix endline expected
ok 7 - Unix endline expected
ok 8 # skip GNU grep not available
ok
t/filehandle_compressed.t ....... 
1..16
Testing filename: t/mailboxes/mailarc-2.txt.bz2
Comparing /tmp/lJsLvx7TLB to t/mailboxes/mailarc-2.txt
Output /tmp/lJsLvx7TLB looks good.
ok 1 - Computing differences
Comparing /tmp/0z01bC3fq9 to t/mailboxes/mailarc-2.txt
Output /tmp/0z01bC3fq9 looks good.
ok 2 - Computing differences
Comparing /tmp/oI1TNJyC07 to t/mailboxes/mailarc-2.txt
Output /tmp/oI1TNJyC07 looks good.
ok 3 - Computing differences
ok 4 # skip GNU grep not available
Testing filename: t/mailboxes/mailarc-2.txt.gz
Comparing /tmp/4jqr_tFIFM to t/mailboxes/mailarc-2.txt
Output /tmp/4jqr_tFIFM looks good.
ok 5 - Computing differences
Comparing /tmp/Bl6ZaKISye to t/mailboxes/mailarc-2.txt
Output /tmp/Bl6ZaKISye looks good.
ok 6 - Computing differences
Comparing /tmp/GYYMSWW1wY to t/mailboxes/mailarc-2.txt
Output /tmp/GYYMSWW1wY looks good.
ok 7 - Computing differences
ok 8 # skip GNU grep not available
Testing filename: t/mailboxes/mailarc-2.txt.lz
ok 9 # skip lzip not available
ok 10 # skip lzip not available
ok 11 # skip lzip not available
ok 12 # skip lzip not available
Testing filename: t/mailboxes/mailarc-2.txt.xz
Comparing /tmp/85l4TFXKhq to t/mailboxes/mailarc-2.txt
Output /tmp/85l4TFXKhq looks good.
ok 13 - Computing differences
Comparing /tmp/lbYfMCKbU4 to t/mailboxes/mailarc-2.txt
Output /tmp/lbYfMCKbU4 looks good.
ok 14 - Computing differences
Comparing /tmp/lFyYQ4AWvu to t/mailboxes/mailarc-2.txt
Output /tmp/lFyYQ4AWvu looks good.
ok 15 - Computing differences
ok 16 # skip GNU grep not available
ok
t/filehandle_noncompressed.t .... 
1..44
Testing filename: t/mailboxes/binary_body.txt
Comparing /tmp/DsEAEwd6gU to t/mailboxes/binary_body.txt
Output /tmp/DsEAEwd6gU looks good.
ok 1 - Computing differences
Comparing /tmp/eVZiXUz0no to t/mailboxes/binary_body.txt
Output /tmp/eVZiXUz0no looks good.
ok 2 - Computing differences
Comparing /tmp/7aLZJnAotq to t/mailboxes/binary_body.txt
Output /tmp/7aLZJnAotq looks good.
ok 3 - Computing differences
ok 4 # skip GNU grep not available
Testing filename: t/mailboxes/hessbug.txt
Comparing /tmp/uGiqyRF7gV to t/mailboxes/hessbug.txt
Output /tmp/uGiqyRF7gV looks good.
ok 5 - Computing differences
Comparing /tmp/beSvnXmnrJ to t/mailboxes/hessbug.txt
Output /tmp/beSvnXmnrJ looks good.
ok 6 - Computing differences
Comparing /tmp/1cK3NZwF2z to t/mailboxes/hessbug.txt
Output /tmp/1cK3NZwF2z looks good.
ok 7 - Computing differences
ok 8 # skip GNU grep not available
Testing filename: t/mailboxes/invalid-boundaries.txt
Comparing /tmp/tpJo6brozB to t/mailboxes/invalid-boundaries.txt
Output /tmp/tpJo6brozB looks good.
ok 9 - Computing differences
Comparing /tmp/SLG4Lf1e5y to t/mailboxes/invalid-boundaries.txt
Output /tmp/SLG4Lf1e5y looks good.
ok 10 - Computing differences
Comparing /tmp/ugB1AYoE1l to t/mailboxes/invalid-boundaries.txt
Output /tmp/ugB1AYoE1l looks good.
ok 11 - Computing differences
ok 12 # skip GNU grep not available
Testing filename: t/mailboxes/mailarc-1-dos.txt
Comparing /tmp/0vFV4MbXzZ to t/mailboxes/mailarc-1-dos.txt
Output /tmp/0vFV4MbXzZ looks good.
ok 13 - Computing differences
Comparing /tmp/9rqKlCPSZV to t/mailboxes/mailarc-1-dos.txt
Output /tmp/9rqKlCPSZV looks good.
ok 14 - Computing differences
Comparing /tmp/uMxhL0Qx58 to t/mailboxes/mailarc-1-dos.txt
Output /tmp/uMxhL0Qx58 looks good.
ok 15 - Computing differences
ok 16 # skip GNU grep not available
Testing filename: t/mailboxes/mailarc-1.txt
Comparing /tmp/zPY2Bt_V_5 to t/mailboxes/mailarc-1.txt
Output /tmp/zPY2Bt_V_5 looks good.
ok 17 - Computing differences
Comparing /tmp/dMcEQQ415Z to t/mailboxes/mailarc-1.txt
Output /tmp/dMcEQQ415Z looks good.
ok 18 - Computing differences
Comparing /tmp/qTyxyTl2BT to t/mailboxes/mailarc-1.txt
Output /tmp/qTyxyTl2BT looks good.
ok 19 - Computing differences
ok 20 # skip GNU grep not available
Testing filename: t/mailboxes/mailarc-2.txt
Comparing /tmp/UkLXPTBiKw to t/mailboxes/mailarc-2.txt
Output /tmp/UkLXPTBiKw looks good.
ok 21 - Computing differences
Comparing /tmp/tI5iwG2JCl to t/mailboxes/mailarc-2.txt
Output /tmp/tI5iwG2JCl looks good.
ok 22 - Computing differences
Comparing /tmp/2Qf9zu0B8w to t/mailboxes/mailarc-2.txt
Output /tmp/2Qf9zu0B8w looks good.
ok 23 - Computing differences
ok 24 # skip GNU grep not available
Testing filename: t/mailboxes/mailarc-3.txt
Comparing /tmp/Eds29k3m7D to t/mailboxes/mailarc-3.txt
Output /tmp/Eds29k3m7D looks good.
ok 25 - Computing differences
Comparing /tmp/NeIWtaNC3Z to t/mailboxes/mailarc-3.txt
Output /tmp/NeIWtaNC3Z looks good.
ok 26 - Computing differences
Comparing /tmp/Y99Iiy14yB to t/mailboxes/mailarc-3.txt
Output /tmp/Y99Iiy14yB looks good.
ok 27 - Computing differences
ok 28 # skip GNU grep not available
Testing filename: t/mailboxes/mailseparators.txt
Comparing /tmp/XV5mrX6L8v to t/mailboxes/mailseparators.txt
Output /tmp/XV5mrX6L8v looks good.
ok 29 - Computing differences
Comparing /tmp/uBxryXHvLm to t/mailboxes/mailseparators.txt
Output /tmp/uBxryXHvLm looks good.
ok 30 - Computing differences
Comparing /tmp/LYqZfx7hWr to t/mailboxes/mailseparators.txt
Output /tmp/LYqZfx7hWr looks good.
ok 31 - Computing differences
ok 32 # skip GNU grep not available
Testing filename: t/mailboxes/malformed.txt
Comparing /tmp/V69c2CiGuP to t/mailboxes/malformed.txt
Output /tmp/V69c2CiGuP looks good.
ok 33 - Computing differences
Comparing /tmp/huRO7i4VBe to t/mailboxes/malformed.txt
Output /tmp/huRO7i4VBe looks good.
ok 34 - Computing differences
Comparing /tmp/n7kX1s5qz5 to t/mailboxes/malformed.txt
Output /tmp/n7kX1s5qz5 looks good.
ok 35 - Computing differences
ok 36 # skip GNU grep not available
Testing filename: t/mailboxes/newlines_at_beginning.txt
Comparing /tmp/TMDqPZLgcq to t/mailboxes/newlines_at_beginning.txt
Output /tmp/TMDqPZLgcq looks good.
ok 37 - Computing differences
Comparing /tmp/5VzV2ds04X to t/mailboxes/newlines_at_beginning.txt
Output /tmp/5VzV2ds04X looks good.
ok 38 - Computing differences
Comparing /tmp/CF_tsYN9iP to t/mailboxes/newlines_at_beginning.txt
Output /tmp/CF_tsYN9iP looks good.
ok 39 - Computing differences
ok 40 # skip GNU grep not available
Testing filename: t/mailboxes/vm-emacs.txt
Comparing /tmp/s5Y6g6cVV2 to t/mailboxes/vm-emacs.txt
Output /tmp/s5Y6g6cVV2 looks good.
ok 41 - Computing differences
Comparing /tmp/zYRuiimG_H to t/mailboxes/vm-emacs.txt
Output /tmp/zYRuiimG_H looks good.
ok 42 - Computing differences
Comparing /tmp/GTaFj7yuuF to t/mailboxes/vm-emacs.txt
Output /tmp/GTaFj7yuuF looks good.
ok 43 - Computing differences
ok 44 # skip GNU grep not available
ok
t/filename_compressed.t ......... 
1..4
Testing filename: t/mailboxes/mailarc-2.txt.bz2
Comparing /tmp/GpLo32rxeN to t/mailboxes/mailarc-2.txt
Output /tmp/GpLo32rxeN looks good.
ok 1 - Computing differences
Testing filename: t/mailboxes/mailarc-2.txt.gz
Comparing /tmp/X7eOT3DF15 to t/mailboxes/mailarc-2.txt
Output /tmp/X7eOT3DF15 looks good.
ok 2 - Computing differences
Testing filename: t/mailboxes/mailarc-2.txt.lz
ok 3 # skip lzip not available
Testing filename: t/mailboxes/mailarc-2.txt.xz
Comparing /tmp/OGJhsNzyUg to t/mailboxes/mailarc-2.txt
Output /tmp/OGJhsNzyUg looks good.
ok 4 - Computing differences
ok
t/filename_noncompressed.t ...... 
1..11
Testing filename: t/mailboxes/binary_body.txt
Comparing /tmp/Dsiix9xkVI to t/mailboxes/binary_body.txt
Output /tmp/Dsiix9xkVI looks good.
ok 1 - Computing differences
Testing filename: t/mailboxes/hessbug.txt
Comparing /tmp/ThPx5ux__E to t/mailboxes/hessbug.txt
Output /tmp/ThPx5ux__E looks good.
ok 2 - Computing differences
Testing filename: t/mailboxes/invalid-boundaries.txt
Comparing /tmp/aKapdHtkH8 to t/mailboxes/invalid-boundaries.txt
Output /tmp/aKapdHtkH8 looks good.
ok 3 - Computing differences
Testing filename: t/mailboxes/mailarc-1-dos.txt
Comparing /tmp/kL39cFwNwB to t/mailboxes/mailarc-1-dos.txt
Output /tmp/kL39cFwNwB looks good.
ok 4 - Computing differences
Testing filename: t/mailboxes/mailarc-1.txt
Comparing /tmp/brpAsfPC3B to t/mailboxes/mailarc-1.txt
Output /tmp/brpAsfPC3B looks good.
ok 5 - Computing differences
Testing filename: t/mailboxes/mailarc-2.txt
Comparing /tmp/i3tXvn4Jpu to t/mailboxes/mailarc-2.txt
Output /tmp/i3tXvn4Jpu looks good.
ok 6 - Computing differences
Testing filename: t/mailboxes/mailarc-3.txt
Comparing /tmp/sZSRjdAoAe to t/mailboxes/mailarc-3.txt
Output /tmp/sZSRjdAoAe looks good.
ok 7 - Computing differences
Testing filename: t/mailboxes/mailseparators.txt
Comparing /tmp/cnYxmSQbpF to t/mailboxes/mailseparators.txt
Output /tmp/cnYxmSQbpF looks good.
ok 8 - Computing differences
Testing filename: t/mailboxes/malformed.txt
Comparing /tmp/R_yctA0jEj to t/mailboxes/malformed.txt
Output /tmp/R_yctA0jEj looks good.
ok 9 - Computing differences
Testing filename: t/mailboxes/newlines_at_beginning.txt
Comparing /tmp/v0D4B8ogWY to t/mailboxes/newlines_at_beginning.txt
Output /tmp/v0D4B8ogWY looks good.
ok 10 - Computing differences
Testing filename: t/mailboxes/vm-emacs.txt
Comparing /tmp/CTvNtSIb3B to t/mailboxes/vm-emacs.txt
Output /tmp/CTvNtSIb3B looks good.
ok 11 - Computing differences
ok
t/grep.t ........................ 
1..4
Running test:
  unset LC_ALL LC_COLLATE LANG LC_CTYPE LC_MESSAGES; grep --extended-regexp --line-number --byte-offset --binary-files=text "^From [^:]+(:[0-9][0-9]){1,2}(  *([A-Z]{2,6}|[+-]?[0-9]{4})){1,3}( remote from .*)?
?$" t/mailboxes/mailarc-1.txt
ok 1 # skip 1
Running test:
  unset LC_ALL LC_COLLATE LANG LC_CTYPE LC_MESSAGES; grep --extended-regexp --line-number --byte-offset --binary-files=text "^From [^:]+(:[0-9][0-9]){1,2}(  *([A-Z]{2,6}|[+-]?[0-9]{4})){1,3}( remote from .*)?
?$" t/mailboxes/mailarc-2.txt
ok 2 # skip 1
Running test:
  unset LC_ALL LC_COLLATE LANG LC_CTYPE LC_MESSAGES; grep --extended-regexp --line-number --byte-offset --binary-files=text "^From [^:]+(:[0-9][0-9]){1,2}(  *([A-Z]{2,6}|[+-]?[0-9]{4})){1,3}( remote from .*)?
?$" t/mailboxes/mailarc-3.txt
ok 3 # skip 1
Running test:
  unset LC_ALL LC_COLLATE LANG LC_CTYPE LC_MESSAGES; grep --extended-regexp --line-number --byte-offset --binary-files=text "^From [^:]+(:[0-9][0-9]){1,2}(  *([A-Z]{2,6}|[+-]?[0-9]{4})){1,3}( remote from .*)?
?$" t/mailboxes/mailseparators.txt
ok 4 # skip 1
ok
t/gzip.t ........................ 
1..1
Running test:
  "/usr/bin/cat" "t/mailboxes/mailarc-2.txt.gz" | "/usr/bin/gzip" -cd
Comparing /tmp/ywsdZ3_NqN to t/results/mailarc-2.txt
Output /tmp/ywsdZ3_NqN looks good.
Comparing /tmp/i0YDLTrEl7 to t/results/none
Output /tmp/i0YDLTrEl7 looks good.
ok 1 - Computing differences
ok
t/length.t ...................... 
1..30
Testing filename: t/mailboxes/binary_body.txt
Comparing /tmp/sqeCoil7pp to t/results/length_binary_body.stdout
Output /tmp/sqeCoil7pp looks good.
ok 1 - Computing differences
Comparing /tmp/3LaxMwhRwA to t/results/length_binary_body.stdout
Output /tmp/3LaxMwhRwA looks good.
ok 2 - Computing differences
ok 3 # skip GNU grep not available
Testing filename: t/mailboxes/hessbug.txt
Comparing /tmp/kvwGbUqA4V to t/results/length_hessbug.stdout
Output /tmp/kvwGbUqA4V looks good.
ok 4 - Computing differences
Comparing /tmp/3yFxnb3LFD to t/results/length_hessbug.stdout
Output /tmp/3yFxnb3LFD looks good.
ok 5 - Computing differences
ok 6 # skip GNU grep not available
Testing filename: t/mailboxes/invalid-boundaries.txt
Comparing /tmp/N6tnAdJh0A to t/results/length_invalid-boundaries.stdout
Output /tmp/N6tnAdJh0A looks good.
ok 7 - Computing differences
Comparing /tmp/ASihzu2yoQ to t/results/length_invalid-boundaries.stdout
Output /tmp/ASihzu2yoQ looks good.
ok 8 - Computing differences
ok 9 # skip GNU grep not available
Testing filename: t/mailboxes/mailarc-1-dos.txt
Comparing /tmp/bWtGnLFpWe to t/results/length_mailarc-1-dos.stdout
Output /tmp/bWtGnLFpWe looks good.
ok 10 - Computing differences
Comparing /tmp/KOk0wexxaZ to t/results/length_mailarc-1-dos.stdout
Output /tmp/KOk0wexxaZ looks good.
ok 11 - Computing differences
ok 12 # skip GNU grep not available
Testing filename: t/mailboxes/mailarc-1.txt
Comparing /tmp/9jkxixc0gT to t/results/length_mailarc-1.stdout
Output /tmp/9jkxixc0gT looks good.
ok 13 - Computing differences
Comparing /tmp/1iDrgYXnqO to t/results/length_mailarc-1.stdout
Output /tmp/1iDrgYXnqO looks good.
ok 14 - Computing differences
ok 15 # skip GNU grep not available
Testing filename: t/mailboxes/mailarc-2.txt
Comparing /tmp/Cn6IipNvld to t/results/length_mailarc-2.stdout
Output /tmp/Cn6IipNvld looks good.
ok 16 - Computing differences
Comparing /tmp/GnIEPG3Vub to t/results/length_mailarc-2.stdout
Output /tmp/GnIEPG3Vub looks good.
ok 17 - Computing differences
ok 18 # skip GNU grep not available
Testing filename: t/mailboxes/mailarc-3.txt
Comparing /tmp/XGTmsBLLm0 to t/results/length_mailarc-3.stdout
Output /tmp/XGTmsBLLm0 looks good.
ok 19 - Computing differences
Comparing /tmp/xq5N95ocfv to t/results/length_mailarc-3.stdout
Output /tmp/xq5N95ocfv looks good.
ok 20 - Computing differences
ok 21 # skip GNU grep not available
Testing filename: t/mailboxes/mailseparators.txt
Comparing /tmp/xTz23Uo8ci to t/results/length_mailseparators.stdout
Output /tmp/xTz23Uo8ci looks good.
ok 22 - Computing differences
Comparing /tmp/gsVpm7aAoE to t/results/length_mailseparators.stdout
Output /tmp/gsVpm7aAoE looks good.
ok 23 - Computing differences
ok 24 # skip GNU grep not available
Testing filename: t/mailboxes/malformed.txt
Comparing /tmp/BXt5OFUw7s to t/results/length_malformed.stdout
Output /tmp/BXt5OFUw7s looks good.
ok 25 - Computing differences
Comparing /tmp/ATVzLhnGvT to t/results/length_malformed.stdout
Output /tmp/ATVzLhnGvT looks good.
ok 26 - Computing differences
ok 27 # skip GNU grep not available
Testing filename: t/mailboxes/newlines_at_beginning.txt
Comparing /tmp/0oc7fmLGzG to t/results/length_newlines_at_beginning.stdout
Output /tmp/0oc7fmLGzG looks good.
ok 28 - Computing differences
Comparing /tmp/TCtxViKIPD to t/results/length_newlines_at_beginning.stdout
Output /tmp/TCtxViKIPD looks good.
ok 29 - Computing differences
ok 30 # skip GNU grep not available
ok
t/line_number.t ................. 
1..30
Testing filename: t/mailboxes/binary_body.txt
Comparing /tmp/HmToajiTz0 to t/results/line_number_binary_body.stdout
Output /tmp/HmToajiTz0 looks good.
ok 1 - Computing differences
Comparing /tmp/HkRu_qn9qQ to t/results/line_number_binary_body.stdout
Output /tmp/HkRu_qn9qQ looks good.
ok 2 - Computing differences
ok 3 # skip GNU grep not available
Testing filename: t/mailboxes/hessbug.txt
Comparing /tmp/dv3cupBvBo to t/results/line_number_hessbug.stdout
Output /tmp/dv3cupBvBo looks good.
ok 4 - Computing differences
Comparing /tmp/ejqIgquAXN to t/results/line_number_hessbug.stdout
Output /tmp/ejqIgquAXN looks good.
ok 5 - Computing differences
ok 6 # skip GNU grep not available
Testing filename: t/mailboxes/invalid-boundaries.txt
Comparing /tmp/AD32Sl94dZ to t/results/line_number_invalid-boundaries.stdout
Output /tmp/AD32Sl94dZ looks good.
ok 7 - Computing differences
Comparing /tmp/TdG_LnQ3zY to t/results/line_number_invalid-boundaries.stdout
Output /tmp/TdG_LnQ3zY looks good.
ok 8 - Computing differences
ok 9 # skip GNU grep not available
Testing filename: t/mailboxes/mailarc-1-dos.txt
Comparing /tmp/jmT4jrcCjr to t/results/line_number_mailarc-1-dos.stdout
Output /tmp/jmT4jrcCjr looks good.
ok 10 - Computing differences
Comparing /tmp/0UQ1dCPw1P to t/results/line_number_mailarc-1-dos.stdout
Output /tmp/0UQ1dCPw1P looks good.
ok 11 - Computing differences
ok 12 # skip GNU grep not available
Testing filename: t/mailboxes/mailarc-1.txt
Comparing /tmp/exONqqOUBD to t/results/line_number_mailarc-1.stdout
Output /tmp/exONqqOUBD looks good.
ok 13 - Computing differences
Comparing /tmp/nb3fFL4_6j to t/results/line_number_mailarc-1.stdout
Output /tmp/nb3fFL4_6j looks good.
ok 14 - Computing differences
ok 15 # skip GNU grep not available
Testing filename: t/mailboxes/mailarc-2.txt
Comparing /tmp/9_UeqQQoxT to t/results/line_number_mailarc-2.stdout
Output /tmp/9_UeqQQoxT looks good.
ok 16 - Computing differences
Comparing /tmp/ZKN4ErBspz to t/results/line_number_mailarc-2.stdout
Output /tmp/ZKN4ErBspz looks good.
ok 17 - Computing differences
ok 18 # skip GNU grep not available
Testing filename: t/mailboxes/mailarc-3.txt
Comparing /tmp/ENXZNcxnRi to t/results/line_number_mailarc-3.stdout
Output /tmp/ENXZNcxnRi looks good.
ok 19 - Computing differences
Comparing /tmp/DrEdI009M_ to t/results/line_number_mailarc-3.stdout
Output /tmp/DrEdI009M_ looks good.
ok 20 - Computing differences
ok 21 # skip GNU grep not available
Testing filename: t/mailboxes/mailseparators.txt
Comparing /tmp/2vM0tgSiaD to t/results/line_number_mailseparators.stdout
Output /tmp/2vM0tgSiaD looks good.
ok 22 - Computing differences
Comparing /tmp/as9OpRsyNI to t/results/line_number_mailseparators.stdout
Output /tmp/as9OpRsyNI looks good.
ok 23 - Computing differences
ok 24 # skip GNU grep not available
Testing filename: t/mailboxes/malformed.txt
Comparing /tmp/J8mE4ZyVbg to t/results/line_number_malformed.stdout
Output /tmp/J8mE4ZyVbg looks good.
ok 25 - Computing differences
Comparing /tmp/brpdoCiu13 to t/results/line_number_malformed.stdout
Output /tmp/brpdoCiu13 looks good.
ok 26 - Computing differences
ok 27 # skip GNU grep not available
Testing filename: t/mailboxes/newlines_at_beginning.txt
Comparing /tmp/hIptm84fua to t/results/line_number_newlines_at_beginning.stdout
Output /tmp/hIptm84fua looks good.
ok 28 - Computing differences
Comparing /tmp/L0QgCSKRem to t/results/line_number_newlines_at_beginning.stdout
Output /tmp/L0QgCSKRem looks good.
ok 29 - Computing differences
ok 30 # skip GNU grep not available
ok
t/lzip.t ........................ 
1..1
Running test:
  "/usr/bin/cat" "t/mailboxes/mailarc-2.txt.lz" | "lzip" -cd
ok 1 # skip lzip not available
ok
t/number.t ...................... 
1..30
Testing filename: t/mailboxes/binary_body.txt
Comparing /tmp/tNolJFHzev to t/results/number_binary_body.stdout
Output /tmp/tNolJFHzev looks good.
ok 1 - Computing differences
Comparing /tmp/EhjDNYzHQx to t/results/number_binary_body.stdout
Output /tmp/EhjDNYzHQx looks good.
ok 2 - Computing differences
ok 3 # skip GNU grep not available
Testing filename: t/mailboxes/hessbug.txt
Comparing /tmp/K8zKcEBH7A to t/results/number_hessbug.stdout
Output /tmp/K8zKcEBH7A looks good.
ok 4 - Computing differences
Comparing /tmp/7ljaIMNw_M to t/results/number_hessbug.stdout
Output /tmp/7ljaIMNw_M looks good.
ok 5 - Computing differences
ok 6 # skip GNU grep not available
Testing filename: t/mailboxes/invalid-boundaries.txt
Comparing /tmp/6etgNLSEC_ to t/results/number_invalid-boundaries.stdout
Output /tmp/6etgNLSEC_ looks good.
ok 7 - Computing differences
Comparing /tmp/XDfdmx37jc to t/results/number_invalid-boundaries.stdout
Output /tmp/XDfdmx37jc looks good.
ok 8 - Computing differences
ok 9 # skip GNU grep not available
Testing filename: t/mailboxes/mailarc-1-dos.txt
Comparing /tmp/95hWFd7eb4 to t/results/number_mailarc-1-dos.stdout
Output /tmp/95hWFd7eb4 looks good.
ok 10 - Computing differences
Comparing /tmp/WCrKBuPxgp to t/results/number_mailarc-1-dos.stdout
Output /tmp/WCrKBuPxgp looks good.
ok 11 - Computing differences
ok 12 # skip GNU grep not available
Testing filename: t/mailboxes/mailarc-1.txt
Comparing /tmp/joBT8wnOOu to t/results/number_mailarc-1.stdout
Output /tmp/joBT8wnOOu looks good.
ok 13 - Computing differences
Comparing /tmp/FcK_VMJTtY to t/results/number_mailarc-1.stdout
Output /tmp/FcK_VMJTtY looks good.
ok 14 - Computing differences
ok 15 # skip GNU grep not available
Testing filename: t/mailboxes/mailarc-2.txt
Comparing /tmp/R4WkN0lccF to t/results/number_mailarc-2.stdout
Output /tmp/R4WkN0lccF looks good.
ok 16 - Computing differences
Comparing /tmp/W0JpBbi2L_ to t/results/number_mailarc-2.stdout
Output /tmp/W0JpBbi2L_ looks good.
ok 17 - Computing differences
ok 18 # skip GNU grep not available
Testing filename: t/mailboxes/mailarc-3.txt
Comparing /tmp/WiTHH48hYS to t/results/number_mailarc-3.stdout
Output /tmp/WiTHH48hYS looks good.
ok 19 - Computing differences
Comparing /tmp/z4r8KubaZ6 to t/results/number_mailarc-3.stdout
Output /tmp/z4r8KubaZ6 looks good.
ok 20 - Computing differences
ok 21 # skip GNU grep not available
Testing filename: t/mailboxes/mailseparators.txt
Comparing /tmp/EJwnouvzZS to t/results/number_mailseparators.stdout
Output /tmp/EJwnouvzZS looks good.
ok 22 - Computing differences
Comparing /tmp/v4eBtja2Oo to t/results/number_mailseparators.stdout
Output /tmp/v4eBtja2Oo looks good.
ok 23 - Computing differences
ok 24 # skip GNU grep not available
Testing filename: t/mailboxes/malformed.txt
Comparing /tmp/VhJbF3u9lf to t/results/number_malformed.stdout
Output /tmp/VhJbF3u9lf looks good.
ok 25 - Computing differences
Comparing /tmp/IBYDvwxVRE to t/results/number_malformed.stdout
Output /tmp/IBYDvwxVRE looks good.
ok 26 - Computing differences
ok 27 # skip GNU grep not available
Testing filename: t/mailboxes/newlines_at_beginning.txt
Comparing /tmp/UZkxJXEQ2q to t/results/number_newlines_at_beginning.stdout
Output /tmp/UZkxJXEQ2q looks good.
ok 28 - Computing differences
Comparing /tmp/9kp2mX9X4s to t/results/number_newlines_at_beginning.stdout
Output /tmp/9kp2mX9X4s looks good.
ok 29 - Computing differences
ok 30 # skip GNU grep not available
ok
t/offset.t ...................... 
1..30
Testing filename: t/mailboxes/binary_body.txt
Comparing /tmp/0bGxCO29h8 to t/results/offset_binary_body.stdout
Output /tmp/0bGxCO29h8 looks good.
ok 1 - Computing differences
Comparing /tmp/KYf6LdXRP8 to t/results/offset_binary_body.stdout
Output /tmp/KYf6LdXRP8 looks good.
ok 2 - Computing differences
ok 3 # skip GNU grep not available
Testing filename: t/mailboxes/hessbug.txt
Comparing /tmp/6McKwpvzZC to t/results/offset_hessbug.stdout
Output /tmp/6McKwpvzZC looks good.
ok 4 - Computing differences
Comparing /tmp/Ian4ko9_y3 to t/results/offset_hessbug.stdout
Output /tmp/Ian4ko9_y3 looks good.
ok 5 - Computing differences
ok 6 # skip GNU grep not available
Testing filename: t/mailboxes/invalid-boundaries.txt
Comparing /tmp/GPfFpcR5U7 to t/results/offset_invalid-boundaries.stdout
Output /tmp/GPfFpcR5U7 looks good.
ok 7 - Computing differences
Comparing /tmp/GsjrYJH1ld to t/results/offset_invalid-boundaries.stdout
Output /tmp/GsjrYJH1ld looks good.
ok 8 - Computing differences
ok 9 # skip GNU grep not available
Testing filename: t/mailboxes/mailarc-1-dos.txt
Comparing /tmp/HNK6UJqTy5 to t/results/offset_mailarc-1-dos.stdout
Output /tmp/HNK6UJqTy5 looks good.
ok 10 - Computing differences
Comparing /tmp/NH24wZcUMt to t/results/offset_mailarc-1-dos.stdout
Output /tmp/NH24wZcUMt looks good.
ok 11 - Computing differences
ok 12 # skip GNU grep not available
Testing filename: t/mailboxes/mailarc-1.txt
Comparing /tmp/euXMv4wZEk to t/results/offset_mailarc-1.stdout
Output /tmp/euXMv4wZEk looks good.
ok 13 - Computing differences
Comparing /tmp/8ZGKZ_eYtG to t/results/offset_mailarc-1.stdout
Output /tmp/8ZGKZ_eYtG looks good.
ok 14 - Computing differences
ok 15 # skip GNU grep not available
Testing filename: t/mailboxes/mailarc-2.txt
Comparing /tmp/vAFiMddWch to t/results/offset_mailarc-2.stdout
Output /tmp/vAFiMddWch looks good.
ok 16 - Computing differences
Comparing /tmp/ogWb9guMm4 to t/results/offset_mailarc-2.stdout
Output /tmp/ogWb9guMm4 looks good.
ok 17 - Computing differences
ok 18 # skip GNU grep not available
Testing filename: t/mailboxes/mailarc-3.txt
Comparing /tmp/zXYn3aXsc9 to t/results/offset_mailarc-3.stdout
Output /tmp/zXYn3aXsc9 looks good.
ok 19 - Computing differences
Comparing /tmp/gLtDXi4taT to t/results/offset_mailarc-3.stdout
Output /tmp/gLtDXi4taT looks good.
ok 20 - Computing differences
ok 21 # skip GNU grep not available
Testing filename: t/mailboxes/mailseparators.txt
Comparing /tmp/_vo90lorE2 to t/results/offset_mailseparators.stdout
Output /tmp/_vo90lorE2 looks good.
ok 22 - Computing differences
Comparing /tmp/GJiMChH4EH to t/results/offset_mailseparators.stdout
Output /tmp/GJiMChH4EH looks good.
ok 23 - Computing differences
ok 24 # skip GNU grep not available
Testing filename: t/mailboxes/malformed.txt
Comparing /tmp/EoQNgW2_ls to t/results/offset_malformed.stdout
Output /tmp/EoQNgW2_ls looks good.
ok 25 - Computing differences
Comparing /tmp/iNMTya3rXd to t/results/offset_malformed.stdout
Output /tmp/iNMTya3rXd looks good.
ok 26 - Computing differences
ok 27 # skip GNU grep not available
Testing filename: t/mailboxes/newlines_at_beginning.txt
Comparing /tmp/KiHjRRA4rL to t/results/offset_newlines_at_beginning.stdout
Output /tmp/KiHjRRA4rL looks good.
ok 28 - Computing differences
Comparing /tmp/NueOkq1iyB to t/results/offset_newlines_at_beginning.stdout
Output /tmp/NueOkq1iyB looks good.
ok 29 - Computing differences
ok 30 # skip GNU grep not available
ok
t/prologue.t .................... 
1..33
Testing filename: t/mailboxes/binary_body.txt
Comparing /tmp/5T1Pht7qdk to t/mailboxes/binary_body.txt
Output /tmp/5T1Pht7qdk looks good.
ok 1 - Computing differences
Comparing /tmp/SolMFDDWQl to t/mailboxes/binary_body.txt
Output /tmp/SolMFDDWQl looks good.
ok 2 - Computing differences
ok 3 # skip GNU grep not available
Testing filename: t/mailboxes/hessbug.txt
Comparing /tmp/lKLGQ43sV8 to t/mailboxes/hessbug.txt
Output /tmp/lKLGQ43sV8 looks good.
ok 4 - Computing differences
Comparing /tmp/Lka7bQLzy2 to t/mailboxes/hessbug.txt
Output /tmp/Lka7bQLzy2 looks good.
ok 5 - Computing differences
ok 6 # skip GNU grep not available
Testing filename: t/mailboxes/invalid-boundaries.txt
Comparing /tmp/EMgQ8r_nDS to t/mailboxes/invalid-boundaries.txt
Output /tmp/EMgQ8r_nDS looks good.
ok 7 - Computing differences
Comparing /tmp/jS5nxlA49w to t/mailboxes/invalid-boundaries.txt
Output /tmp/jS5nxlA49w looks good.
ok 8 - Computing differences
ok 9 # skip GNU grep not available
Testing filename: t/mailboxes/mailarc-1-dos.txt
Comparing /tmp/Onn9JalC2B to t/mailboxes/mailarc-1-dos.txt
Output /tmp/Onn9JalC2B looks good.
ok 10 - Computing differences
Comparing /tmp/b828dBJVa5 to t/mailboxes/mailarc-1-dos.txt
Output /tmp/b828dBJVa5 looks good.
ok 11 - Computing differences
ok 12 # skip GNU grep not available
Testing filename: t/mailboxes/mailarc-1.txt
Comparing /tmp/oJARi84Xz2 to t/mailboxes/mailarc-1.txt
Output /tmp/oJARi84Xz2 looks good.
ok 13 - Computing differences
Comparing /tmp/ly74ugJ7zJ to t/mailboxes/mailarc-1.txt
Output /tmp/ly74ugJ7zJ looks good.
ok 14 - Computing differences
ok 15 # skip GNU grep not available
Testing filename: t/mailboxes/mailarc-2.txt
Comparing /tmp/tuZNuY97nS to t/mailboxes/mailarc-2.txt
Output /tmp/tuZNuY97nS looks good.
ok 16 - Computing differences
Comparing /tmp/jgO4baV0m_ to t/mailboxes/mailarc-2.txt
Output /tmp/jgO4baV0m_ looks good.
ok 17 - Computing differences
ok 18 # skip GNU grep not available
Testing filename: t/mailboxes/mailarc-3.txt
Comparing /tmp/qXW6gnp9TK to t/mailboxes/mailarc-3.txt
Output /tmp/qXW6gnp9TK looks good.
ok 19 - Computing differences
Comparing /tmp/i8W7HuoTve to t/mailboxes/mailarc-3.txt
Output /tmp/i8W7HuoTve looks good.
ok 20 - Computing differences
ok 21 # skip GNU grep not available
Testing filename: t/mailboxes/mailseparators.txt
Comparing /tmp/GWZG7KZFoX to t/mailboxes/mailseparators.txt
Output /tmp/GWZG7KZFoX looks good.
ok 22 - Computing differences
Comparing /tmp/z8TpBKVCZM to t/mailboxes/mailseparators.txt
Output /tmp/z8TpBKVCZM looks good.
ok 23 - Computing differences
ok 24 # skip GNU grep not available
Testing filename: t/mailboxes/malformed.txt
Comparing /tmp/LvvxER03zC to t/mailboxes/malformed.txt
Output /tmp/LvvxER03zC looks good.
ok 25 - Computing differences
Comparing /tmp/Z6dGdd67zQ to t/mailboxes/malformed.txt
Output /tmp/Z6dGdd67zQ looks good.
ok 26 - Computing differences
ok 27 # skip GNU grep not available
Testing filename: t/mailboxes/newlines_at_beginning.txt
Comparing /tmp/bSUIOYQzVI to t/mailboxes/newlines_at_beginning.txt
Output /tmp/bSUIOYQzVI looks good.
ok 28 - Computing differences
Comparing /tmp/Hd6DiP4DIl to t/mailboxes/newlines_at_beginning.txt
Output /tmp/Hd6DiP4DIl looks good.
ok 29 - Computing differences
ok 30 # skip GNU grep not available
Testing filename: t/mailboxes/vm-emacs.txt
Comparing /tmp/wUBma2J_M5 to t/mailboxes/vm-emacs.txt
Output /tmp/wUBma2J_M5 looks good.
ok 31 - Computing differences
Comparing /tmp/Kf0OwVQVDC to t/mailboxes/vm-emacs.txt
Output /tmp/Kf0OwVQVDC looks good.
ok 32 - Computing differences
ok 33 # skip GNU grep not available
ok
t/reset.t ....................... 
1..60
Testing filename: t/mailboxes/binary_body.txt
Testing partial mailbox reset with Perl implementation
Comparing /tmp/uvkRFLUzks to t/results/reset_binary_body.stdout
Output /tmp/uvkRFLUzks looks good.
ok 1 - Computing differences
Testing partial mailbox reset with Cache implementation
Comparing /tmp/EQA1DEMpCj to t/results/reset_binary_body.stdout
Output /tmp/EQA1DEMpCj looks good.
ok 2 - Computing differences
Testing partial mailbox reset with Grep implementation
ok 3 # skip GNU grep not available
Testing full mailbox reset with Perl implementation
Comparing /tmp/_3s_O6G1ZB to t/results/reset_binary_body.stdout
Output /tmp/_3s_O6G1ZB looks good.
ok 4 - Computing differences
Testing full mailbox reset with Cache implementation
Comparing /tmp/XbhVN6mncb to t/results/reset_binary_body.stdout
Output /tmp/XbhVN6mncb looks good.
ok 5 - Computing differences
Testing full mailbox reset with Grep implementation
ok 6 # skip GNU grep not available
Testing filename: t/mailboxes/hessbug.txt
Testing partial mailbox reset with Perl implementation
Comparing /tmp/_7QWAbOjS2 to t/results/reset_hessbug.stdout
Output /tmp/_7QWAbOjS2 looks good.
ok 7 - Computing differences
Testing partial mailbox reset with Cache implementation
Comparing /tmp/UeaT4Qb9m3 to t/results/reset_hessbug.stdout
Output /tmp/UeaT4Qb9m3 looks good.
ok 8 - Computing differences
Testing partial mailbox reset with Grep implementation
ok 9 # skip GNU grep not available
Testing full mailbox reset with Perl implementation
Comparing /tmp/OYk7J6zPGu to t/results/reset_hessbug.stdout
Output /tmp/OYk7J6zPGu looks good.
ok 10 - Computing differences
Testing full mailbox reset with Cache implementation
Comparing /tmp/jElik95uwe to t/results/reset_hessbug.stdout
Output /tmp/jElik95uwe looks good.
ok 11 - Computing differences
Testing full mailbox reset with Grep implementation
ok 12 # skip GNU grep not available
Testing filename: t/mailboxes/invalid-boundaries.txt
Testing partial mailbox reset with Perl implementation
Comparing /tmp/JN2Xd_cdrp to t/results/reset_invalid-boundaries.stdout
Output /tmp/JN2Xd_cdrp looks good.
ok 13 - Computing differences
Testing partial mailbox reset with Cache implementation
Comparing /tmp/EzGA5jZSz6 to t/results/reset_invalid-boundaries.stdout
Output /tmp/EzGA5jZSz6 looks good.
ok 14 - Computing differences
Testing partial mailbox reset with Grep implementation
ok 15 # skip GNU grep not available
Testing full mailbox reset with Perl implementation
Comparing /tmp/BdsfWtVV5x to t/results/reset_invalid-boundaries.stdout
Output /tmp/BdsfWtVV5x looks good.
ok 16 - Computing differences
Testing full mailbox reset with Cache implementation
Comparing /tmp/QlSFo9DPoc to t/results/reset_invalid-boundaries.stdout
Output /tmp/QlSFo9DPoc looks good.
ok 17 - Computing differences
Testing full mailbox reset with Grep implementation
ok 18 # skip GNU grep not available
Testing filename: t/mailboxes/mailarc-1-dos.txt
Testing partial mailbox reset with Perl implementation
Comparing /tmp/1G6fOFcgXR to t/results/reset_mailarc-1-dos.stdout
Output /tmp/1G6fOFcgXR looks good.
ok 19 - Computing differences
Testing partial mailbox reset with Cache implementation
Comparing /tmp/qa55htmCpJ to t/results/reset_mailarc-1-dos.stdout
Output /tmp/qa55htmCpJ looks good.
ok 20 - Computing differences
Testing partial mailbox reset with Grep implementation
ok 21 # skip GNU grep not available
Testing full mailbox reset with Perl implementation
Comparing /tmp/EdVt1YJcSZ to t/results/reset_mailarc-1-dos.stdout
Output /tmp/EdVt1YJcSZ looks good.
ok 22 - Computing differences
Testing full mailbox reset with Cache implementation
Comparing /tmp/_p41SzZYkt to t/results/reset_mailarc-1-dos.stdout
Output /tmp/_p41SzZYkt looks good.
ok 23 - Computing differences
Testing full mailbox reset with Grep implementation
ok 24 # skip GNU grep not available
Testing filename: t/mailboxes/mailarc-1.txt
Testing partial mailbox reset with Perl implementation
Comparing /tmp/WbGInyhY_o to t/results/reset_mailarc-1.stdout
Output /tmp/WbGInyhY_o looks good.
ok 25 - Computing differences
Testing partial mailbox reset with Cache implementation
Comparing /tmp/AR6FEsuXmS to t/results/reset_mailarc-1.stdout
Output /tmp/AR6FEsuXmS looks good.
ok 26 - Computing differences
Testing partial mailbox reset with Grep implementation
ok 27 # skip GNU grep not available
Testing full mailbox reset with Perl implementation
Comparing /tmp/4_w3uFHmjX to t/results/reset_mailarc-1.stdout
Output /tmp/4_w3uFHmjX looks good.
ok 28 - Computing differences
Testing full mailbox reset with Cache implementation
Comparing /tmp/xcT4vSbC24 to t/results/reset_mailarc-1.stdout
Output /tmp/xcT4vSbC24 looks good.
ok 29 - Computing differences
Testing full mailbox reset with Grep implementation
ok 30 # skip GNU grep not available
Testing filename: t/mailboxes/mailarc-2.txt
Testing partial mailbox reset with Perl implementation
Comparing /tmp/fM4gnAp6WY to t/results/reset_mailarc-2.stdout
Output /tmp/fM4gnAp6WY looks good.
ok 31 - Computing differences
Testing partial mailbox reset with Cache implementation
Comparing /tmp/9wO9HTW8x9 to t/results/reset_mailarc-2.stdout
Output /tmp/9wO9HTW8x9 looks good.
ok 32 - Computing differences
Testing partial mailbox reset with Grep implementation
ok 33 # skip GNU grep not available
Testing full mailbox reset with Perl implementation
Comparing /tmp/JxgH77U2P1 to t/results/reset_mailarc-2.stdout
Output /tmp/JxgH77U2P1 looks good.
ok 34 - Computing differences
Testing full mailbox reset with Cache implementation
Comparing /tmp/LqTda6nbac to t/results/reset_mailarc-2.stdout
Output /tmp/LqTda6nbac looks good.
ok 35 - Computing differences
Testing full mailbox reset with Grep implementation
ok 36 # skip GNU grep not available
Testing filename: t/mailboxes/mailarc-3.txt
Testing partial mailbox reset with Perl implementation
Comparing /tmp/od8BL7Uod2 to t/results/reset_mailarc-3.stdout
Output /tmp/od8BL7Uod2 looks good.
ok 37 - Computing differences
Testing partial mailbox reset with Cache implementation
Comparing /tmp/p1gd8EDI5j to t/results/reset_mailarc-3.stdout
Output /tmp/p1gd8EDI5j looks good.
ok 38 - Computing differences
Testing partial mailbox reset with Grep implementation
ok 39 # skip GNU grep not available
Testing full mailbox reset with Perl implementation
Comparing /tmp/5PomMwGong to t/results/reset_mailarc-3.stdout
Output /tmp/5PomMwGong looks good.
ok 40 - Computing differences
Testing full mailbox reset with Cache implementation
Comparing /tmp/IsunciejXj to t/results/reset_mailarc-3.stdout
Output /tmp/IsunciejXj looks good.
ok 41 - Computing differences
Testing full mailbox reset with Grep implementation
ok 42 # skip GNU grep not available
Testing filename: t/mailboxes/mailseparators.txt
Testing partial mailbox reset with Perl implementation
Comparing /tmp/F2801C4hws to t/results/reset_mailseparators.stdout
Output /tmp/F2801C4hws looks good.
ok 43 - Computing differences
Testing partial mailbox reset with Cache implementation
Comparing /tmp/g1VS74l38q to t/results/reset_mailseparators.stdout
Output /tmp/g1VS74l38q looks good.
ok 44 - Computing differences
Testing partial mailbox reset with Grep implementation
ok 45 # skip GNU grep not available
Testing full mailbox reset with Perl implementation
Comparing /tmp/kRf1K_RdQ7 to t/results/reset_mailseparators.stdout
Output /tmp/kRf1K_RdQ7 looks good.
ok 46 - Computing differences
Testing full mailbox reset with Cache implementation
Comparing /tmp/FKXfDdv040 to t/results/reset_mailseparators.stdout
Output /tmp/FKXfDdv040 looks good.
ok 47 - Computing differences
Testing full mailbox reset with Grep implementation
ok 48 # skip GNU grep not available
Testing filename: t/mailboxes/malformed.txt
Testing partial mailbox reset with Perl implementation
Comparing /tmp/RAStS3hQGr to t/results/reset_malformed.stdout
Output /tmp/RAStS3hQGr looks good.
ok 49 - Computing differences
Testing partial mailbox reset with Cache implementation
Comparing /tmp/s1Pzf1ttGT to t/results/reset_malformed.stdout
Output /tmp/s1Pzf1ttGT looks good.
ok 50 - Computing differences
Testing partial mailbox reset with Grep implementation
ok 51 # skip GNU grep not available
Testing full mailbox reset with Perl implementation
Comparing /tmp/i_GQCIZP48 to t/results/reset_malformed.stdout
Output /tmp/i_GQCIZP48 looks good.
ok 52 - Computing differences
Testing full mailbox reset with Cache implementation
Comparing /tmp/oFCLJR9Ha0 to t/results/reset_malformed.stdout
Output /tmp/oFCLJR9Ha0 looks good.
ok 53 - Computing differences
Testing full mailbox reset with Grep implementation
ok 54 # skip GNU grep not available
Testing filename: t/mailboxes/newlines_at_beginning.txt
Testing partial mailbox reset with Perl implementation
Comparing /tmp/g3UJcisJT1 to t/results/reset_newlines_at_beginning.stdout
Output /tmp/g3UJcisJT1 looks good.
ok 55 - Computing differences
Testing partial mailbox reset with Cache implementation
Comparing /tmp/MN7LsofTSm to t/results/reset_newlines_at_beginning.stdout
Output /tmp/MN7LsofTSm looks good.
ok 56 - Computing differences
Testing partial mailbox reset with Grep implementation
ok 57 # skip GNU grep not available
Testing full mailbox reset with Perl implementation
Comparing /tmp/5eNPxIrqDC to t/results/reset_newlines_at_beginning.stdout
Output /tmp/5eNPxIrqDC looks good.
ok 58 - Computing differences
Testing full mailbox reset with Cache implementation
Comparing /tmp/ORPr11Q5Sn to t/results/reset_newlines_at_beginning.stdout
Output /tmp/ORPr11Q5Sn looks good.
ok 59 - Computing differences
Testing full mailbox reset with Grep implementation
ok 60 # skip GNU grep not available
ok
t/separators.t .................. 
1..6
Testing filename: t/mailboxes/separators2.sep
ok 1 - Number of emails in t/mailboxes/separators2.sep
ok 2 - Number of emails in t/mailboxes/separators2.sep
ok 3 # skip GNU grep not available
Testing filename: t/mailboxes/separators1.sep
ok 4 - Number of emails in t/mailboxes/separators1.sep
ok 5 - Number of emails in t/mailboxes/separators1.sep
ok 6 # skip GNU grep not available
ok
t/stdin_compressed.t ............ 
1..4
Testing filename: t/mailboxes/mailarc-2.txt.bz2
Comparing /tmp/aSxNvSop_K to t/mailboxes/mailarc-2.txt
Output /tmp/aSxNvSop_K looks good.
ok 1 - Computing differences
Testing filename: t/mailboxes/mailarc-2.txt.gz
Comparing /tmp/xw3EFNHTrt to t/mailboxes/mailarc-2.txt
Output /tmp/xw3EFNHTrt looks good.
ok 2 - Computing differences
Testing filename: t/mailboxes/mailarc-2.txt.lz
ok 3 # skip lzip not available
Testing filename: t/mailboxes/mailarc-2.txt.xz
Comparing /tmp/Awzz2ZbXuQ to t/mailboxes/mailarc-2.txt
Output /tmp/Awzz2ZbXuQ looks good.
ok 4 - Computing differences
ok
t/stdin_uncompressed.t .......... 
1..11
Testing filename: t/mailboxes/binary_body.txt
Comparing /tmp/1RlowtFxpC to t/mailboxes/binary_body.txt
Output /tmp/1RlowtFxpC looks good.
ok 1 - Computing differences
Testing filename: t/mailboxes/hessbug.txt
Comparing /tmp/hWaXnWQuPS to t/mailboxes/hessbug.txt
Output /tmp/hWaXnWQuPS looks good.
ok 2 - Computing differences
Testing filename: t/mailboxes/invalid-boundaries.txt
Comparing /tmp/D7Z4USKALT to t/mailboxes/invalid-boundaries.txt
Output /tmp/D7Z4USKALT looks good.
ok 3 - Computing differences
Testing filename: t/mailboxes/mailarc-1-dos.txt
Comparing /tmp/TBUTme9XFo to t/mailboxes/mailarc-1-dos.txt
Output /tmp/TBUTme9XFo looks good.
ok 4 - Computing differences
Testing filename: t/mailboxes/mailarc-1.txt
Comparing /tmp/XsSnCndA9v to t/mailboxes/mailarc-1.txt
Output /tmp/XsSnCndA9v looks good.
ok 5 - Computing differences
Testing filename: t/mailboxes/mailarc-2.txt
Comparing /tmp/hOdrMO7kBK to t/mailboxes/mailarc-2.txt
Output /tmp/hOdrMO7kBK looks good.
ok 6 - Computing differences
Testing filename: t/mailboxes/mailarc-3.txt
Comparing /tmp/rPybIltRPe to t/mailboxes/mailarc-3.txt
Output /tmp/rPybIltRPe looks good.
ok 7 - Computing differences
Testing filename: t/mailboxes/mailseparators.txt
Comparing /tmp/t1XeOYgto3 to t/mailboxes/mailseparators.txt
Output /tmp/t1XeOYgto3 looks good.
ok 8 - Computing differences
Testing filename: t/mailboxes/malformed.txt
Comparing /tmp/Jh3mPgLPOQ to t/mailboxes/malformed.txt
Output /tmp/Jh3mPgLPOQ looks good.
ok 9 - Computing differences
Testing filename: t/mailboxes/newlines_at_beginning.txt
Comparing /tmp/hanmIDGYJb to t/mailboxes/newlines_at_beginning.txt
Output /tmp/hanmIDGYJb looks good.
ok 10 - Computing differences
Testing filename: t/mailboxes/vm-emacs.txt
Comparing /tmp/lB3q9fWqyy to t/mailboxes/vm-emacs.txt
Output /tmp/lB3q9fWqyy looks good.
ok 11 - Computing differences
ok
t/undef_return_value.t .......... 
1..33
Testing Perl 
Comparing /tmp/46BNn6ziPM to t/mailboxes/binary_body.txt
Output /tmp/46BNn6ziPM looks good.
ok 1 - Computing differences
Testing Cache implementation
Comparing /tmp/KvODvWqFJV to t/mailboxes/binary_body.txt
Output /tmp/KvODvWqFJV looks good.
ok 2 - Computing differences
ok 3 # skip GNU grep not available
Testing Perl 
Comparing /tmp/hz6xU7Tus8 to t/mailboxes/hessbug.txt
Output /tmp/hz6xU7Tus8 looks good.
ok 4 - Computing differences
Testing Cache implementation
Comparing /tmp/KDPhQkms5E to t/mailboxes/hessbug.txt
Output /tmp/KDPhQkms5E looks good.
ok 5 - Computing differences
ok 6 # skip GNU grep not available
Testing Perl 
Comparing /tmp/ssZ3Zl_pcu to t/mailboxes/invalid-boundaries.txt
Output /tmp/ssZ3Zl_pcu looks good.
ok 7 - Computing differences
Testing Cache implementation
Comparing /tmp/LoSRCTr_Xg to t/mailboxes/invalid-boundaries.txt
Output /tmp/LoSRCTr_Xg looks good.
ok 8 - Computing differences
ok 9 # skip GNU grep not available
Testing Perl 
Comparing /tmp/bW0anDPTPn to t/mailboxes/mailarc-1-dos.txt
Output /tmp/bW0anDPTPn looks good.
ok 10 - Computing differences
Testing Cache implementation
Comparing /tmp/Tx_Bhk03D4 to t/mailboxes/mailarc-1-dos.txt
Output /tmp/Tx_Bhk03D4 looks good.
ok 11 - Computing differences
ok 12 # skip GNU grep not available
Testing Perl 
Comparing /tmp/Qn6NrgFKcl to t/mailboxes/mailarc-1.txt
Output /tmp/Qn6NrgFKcl looks good.
ok 13 - Computing differences
Testing Cache implementation
Comparing /tmp/kcW0YJrML1 to t/mailboxes/mailarc-1.txt
Output /tmp/kcW0YJrML1 looks good.
ok 14 - Computing differences
ok 15 # skip GNU grep not available
Testing Perl 
Comparing /tmp/DYPhHml_4R to t/mailboxes/mailarc-2.txt
Output /tmp/DYPhHml_4R looks good.
ok 16 - Computing differences
Testing Cache implementation
Comparing /tmp/6SxSzFlbuY to t/mailboxes/mailarc-2.txt
Output /tmp/6SxSzFlbuY looks good.
ok 17 - Computing differences
ok 18 # skip GNU grep not available
Testing Perl 
Comparing /tmp/0jyi6pR1Jn to t/mailboxes/mailarc-3.txt
Output /tmp/0jyi6pR1Jn looks good.
ok 19 - Computing differences
Testing Cache implementation
Comparing /tmp/rBvegHR8dh to t/mailboxes/mailarc-3.txt
Output /tmp/rBvegHR8dh looks good.
ok 20 - Computing differences
ok 21 # skip GNU grep not available
Testing Perl 
Comparing /tmp/GaQRCAiezu to t/mailboxes/mailseparators.txt
Output /tmp/GaQRCAiezu looks good.
ok 22 - Computing differences
Testing Cache implementation
Comparing /tmp/A2M9h1vm03 to t/mailboxes/mailseparators.txt
Output /tmp/A2M9h1vm03 looks good.
ok 23 - Computing differences
ok 24 # skip GNU grep not available
Testing Perl 
Comparing /tmp/0QrxG7xy7P to t/mailboxes/malformed.txt
Output /tmp/0QrxG7xy7P looks good.
ok 25 - Computing differences
Testing Cache implementation
Comparing /tmp/E1AgNWJ7NX to t/mailboxes/malformed.txt
Output /tmp/E1AgNWJ7NX looks good.
ok 26 - Computing differences
ok 27 # skip GNU grep not available
Testing Perl 
Comparing /tmp/BgkVMvWsvI to t/mailboxes/newlines_at_beginning.txt
Output /tmp/BgkVMvWsvI looks good.
ok 28 - Computing differences
Testing Cache implementation
Comparing /tmp/LG7M6_kq8F to t/mailboxes/newlines_at_beginning.txt
Output /tmp/LG7M6_kq8F looks good.
ok 29 - Computing differences
ok 30 # skip GNU grep not available
Testing Perl 
Comparing /tmp/evO6gDnofL to t/mailboxes/vm-emacs.txt
Output /tmp/evO6gDnofL looks good.
ok 31 - Computing differences
Testing Cache implementation
Comparing /tmp/zjfoXFooVG to t/mailboxes/vm-emacs.txt
Output /tmp/zjfoXFooVG looks good.
ok 32 - Computing differences
ok 33 # skip GNU grep not available
ok
t/xz.t .......................... 
1..1
Running test:
  "/usr/bin/cat" "t/mailboxes/mailarc-2.txt.xz" | "/usr/bin/xz" -cd
Comparing /tmp/QA2IurS75d to t/results/mailarc-2.txt
Output /tmp/QA2IurS75d looks good.
Comparing /tmp/zybrfHs_AL to t/results/none
Output /tmp/zybrfHs_AL looks good.
ok 1 - Computing differences
ok
All tests successful.
Files=25, Tests=382,  5 wallclock secs ( 0.17 usr  0.03 sys +  4.30 cusr  0.95 csys =  5.45 CPU)
Result: PASS

------------------------------
PREREQUISITES
------------------------------

Prerequisite modules loaded:

requires:

    Module              Need  Have    
    ------------------- ----- --------
    FileHandle::Unget   0     0.1634  
    perl                5.005 5.039009
    Storable            0     3.32    

build_requires:

    Module              Need  Have    
    ------------------- ----- --------
    ExtUtils::MakeMaker 6.36  7.70    
    File::Path          2.08  2.18    
    File::Slurper       0     0.014   
    Test::Compile       0     v3.3.1  
    Test::More          0     1.302198
    Text::Diff          0     1.45    
    UNIVERSAL::require  0     0.19    
    URI::Escape         0     5.27    

configure_requires:

    Module              Need  Have    
    ------------------- ----- --------
    ExtUtils::MakeMaker 6.36  7.70    
    URI::Escape         0     5.27    


------------------------------
ENVIRONMENT AND OTHER CONTEXT
------------------------------

Environment variables:

    AUTOMATED_TESTING = 1
    LANG = en_US.UTF-8
    PATH = /home/sand/bin:/usr/local/bin:/usr/local/sbin:/usr/sbin:/usr/bin:/sbin:/bin:/usr/games:/usr/local/games:/snap/bin:/usr/local/perl/bin:/usr/X11/bin
    PERL = /tmp/basesmoker-reloperl-6YfT/bin/perl
    PERL5LIB = /tmp/loop_over_bdir-4458-nNA4JA/Lemonldap-NG-Cli-0.2-0/blib/arch:/tmp/loop_over_bdir-4458-nNA4JA/Lemonldap-NG-Cli-0.2-0/blib/lib:/tmp/loop_over_bdir-4458-nNA4JA/App-nrun-v1.1.2-0/blib/arch:/tmp/loop_over_bdir-4458-nNA4JA/App-nrun-v1.1.2-0/blib/lib:/tmp/loop_over_bdir-4458-nNA4JA/Business-Shipping-DataFiles-1.02-0/blib/arch:/tmp/loop_over_bdir-4458-nNA4JA/Business-Shipping-DataFiles-1.02-0/blib/lib:/tmp/loop_over_bdir-4458-nNA4JA/mmds-1.902-0/blib/arch:/tmp/loop_over_bdir-4458-nNA4JA/mmds-1.902-0/blib/lib:/tmp/loop_over_bdir-4458-nNA4JA/Lingua-YaTeA-0.626-0/blib/arch:/tmp/loop_over_bdir-4458-nNA4JA/Lingua-YaTeA-0.626-0/blib/lib:/tmp/loop_over_bdir-4458-nNA4JA/HTML-Menu-TreeView-1.22-0/blib/arch:/tmp/loop_over_bdir-4458-nNA4JA/HTML-Menu-TreeView-1.22-0/blib/lib:/tmp/loop_over_bdir-4458-nNA4JA/DBIx-Migration-Directories-0.12-0/blib/arch:/tmp/loop_over_bdir-4458-nNA4JA/DBIx-Migration-Directories-0.12-0/blib/lib:/tmp/loop_over_bdir-4458-nNA4JA/Devel-Required-0.16-0/blib/arch:/tmp/loop_over_bdir-4458-nNA4JA/Devel-Required-0.16-0/blib/lib:/tmp/loop_over_bdir-4458-nNA4JA/dta-tokwrap-0.98-0/blib/arch:/tmp/loop_over_bdir-4458-nNA4JA/dta-tokwrap-0.98-0/blib/lib:/tmp/loop_over_bdir-4458-nNA4JA/CORBA-Python-2.66-0/blib/arch:/tmp/loop_over_bdir-4458-nNA4JA/CORBA-Python-2.66-0/blib/lib
    PERL5OPT = 
    PERL5_CPANPLUS_IS_RUNNING = 4467
    PERL5_CPAN_IS_RUNNING = 4467
    PERL_CANARY_STABILITY_NOPROMPT = 1
    PERL_MM_USE_DEFAULT = 1
    PERL_USE_UNSAFE_INC = 1
    SHELL = /usr/bin/zsh
    TERM = screen

Perl special variables (and OS-specific diagnostics, for MSWin32):

    $^X = /tmp/basesmoker-reloperl-6YfT/bin/perl
    $UID/$EUID = 1005 / 1005
    $GID = 1005 1005
    $EGID = 1005 1005

Perl module toolchain versions installed:

    Module              Have    
    ------------------- --------
    CPAN                2.36    
    CPAN::Meta          2.150010
    Cwd                 3.90    
    ExtUtils::CBuilder  0.280240
    ExtUtils::Command   7.70    
    ExtUtils::Install   2.22    
    ExtUtils::MakeMaker 7.70    
    ExtUtils::Manifest  1.75    
    ExtUtils::ParseXS   3.51    
    File::Spec          3.90    
    JSON                4.10    
    JSON::PP            4.16    
    Module::Build       0.4234  
    Module::Signature   0.88    
    Parse::CPAN::Meta   2.150010
    Test2               1.302198
    Test::Harness       3.48    
    Test::More          1.302198
    YAML                1.31    
    YAML::Syck          1.34    
    version             0.9930  


--

Summary of my perl5 (revision 5 version 39 subversion 9) configuration:
  Commit id: 824a7e0bf8052e62e6913c5fb807a6a8331a2d81
  Platform:
    osname=linux
    osvers=5.4.0-173-generic
    archname=x86_64-linux-ld
    uname='linux k93focal 5.4.0-173-generic #191-ubuntu smp fri feb 2 13:55:07 utc 2024 x86_64 x86_64 x86_64 gnulinux '
    config_args='-Dprefix=/home/sand/src/perl/repoperls/installed-perls/host/k93focal/v5.39.9/d3e4 -Dmyhostname=k93focal -Dinstallusrbinperl=n -Uversiononly -Dusedevel -des -Ui_db -Dlibswanted=cl pthread socket inet nsl gdbm dbm malloc dl ld sun m crypt sec util c cposix posix ucb BSD gdbm_compat -Uuseithreads -Duselongdouble -DEBUGGING=both'
    hint=recommended
    useposix=true
    d_sigaction=define
    useithreads=undef
    usemultiplicity=undef
    use64bitint=define
    use64bitall=define
    uselongdouble=define
    usemymalloc=n
    default_inc_excludes_dot=define
  Compiler:
    cc='cc'
    ccflags ='-fwrapv -DDEBUGGING -fno-strict-aliasing -pipe -fstack-protector-strong -I/usr/local/include -D_LARGEFILE_SOURCE -D_FILE_OFFSET_BITS=64'
    optimize='-O2 -g'
    cppflags='-fwrapv -DDEBUGGING -fno-strict-aliasing -pipe -fstack-protector-strong -I/usr/local/include'
    ccversion=''
    gccversion='9.4.0'
    gccosandvers=''
    intsize=4
    longsize=8
    ptrsize=8
    doublesize=8
    byteorder=12345678
    doublekind=3
    d_longlong=define
    longlongsize=8
    d_longdbl=define
    longdblsize=16
    longdblkind=3
    ivtype='long'
    ivsize=8
    nvtype='long double'
    nvsize=16
    Off_t='off_t'
    lseeksize=8
    alignbytes=16
    prototype=define
  Linker and Libraries:
    ld='cc'
    ldflags =' -fstack-protector-strong -L/usr/local/lib'
    libpth=/usr/local/lib /usr/lib/x86_64-linux-gnu /usr/lib /usr/lib64
    libs=-lpthread -lnsl -ldl -lm -lcrypt -lutil -lc
    perllibs=-lpthread -lnsl -ldl -lm -lcrypt -lutil -lc
    libc=libc-2.31.so
    so=so
    useshrplib=false
    libperl=libperl.a
    gnulibc_version='2.31'
  Dynamic Linking:
    dlsrc=dl_dlopen.xs
    dlext=so
    d_dlsymun=undef
    ccdlflags='-Wl,-E'
    cccdlflags='-fPIC'
    lddlflags='-shared -O2 -g -L/usr/local/lib -fstack-protector-strong'


Characteristics of this binary (from libperl): 
  Compile-time options:
    DEBUGGING
    HAS_LONG_DOUBLE
    HAS_STRTOLD
    HAS_TIMES
    PERLIO_LAYERS
    PERL_COPY_ON_WRITE
    PERL_DONT_CREATE_GVSV
    PERL_HASH_FUNC_SIPHASH13
    PERL_HASH_USE_SBOX32
    PERL_MALLOC_WRAP
    PERL_OP_PARENT
    PERL_PRESERVE_IVUV
    PERL_USE_DEVEL
    PERL_USE_SAFE_PUTENV
    USE_64_BIT_ALL
    USE_64_BIT_INT
    USE_LARGE_FILES
    USE_LOCALE
    USE_LOCALE_COLLATE
    USE_LOCALE_CTYPE
    USE_LOCALE_NUMERIC
    USE_LOCALE_TIME
    USE_LONG_DOUBLE
    USE_PERLIO
    USE_PERL_ATOF
  Built under linux
  Compiled at Mar 23 2024 15:19:55
  %ENV:
    PERL="/tmp/basesmoker-reloperl-6YfT/bin/perl"
    PERL5LIB="/tmp/loop_over_bdir-4458-nNA4JA/Lemonldap-NG-Cli-0.2-0/blib/arch:/tmp/loop_over_bdir-4458-nNA4JA/Lemonldap-NG-Cli-0.2-0/blib/lib:/tmp/loop_over_bdir-4458-nNA4JA/App-nrun-v1.1.2-0/blib/arch:/tmp/loop_over_bdir-4458-nNA4JA/App-nrun-v1.1.2-0/blib/lib:/tmp/loop_over_bdir-4458-nNA4JA/Business-Shipping-DataFiles-1.02-0/blib/arch:/tmp/loop_over_bdir-4458-nNA4JA/Business-Shipping-DataFiles-1.02-0/blib/lib:/tmp/loop_over_bdir-4458-nNA4JA/mmds-1.902-0/blib/arch:/tmp/loop_over_bdir-4458-nNA4JA/mmds-1.902-0/blib/lib:/tmp/loop_over_bdir-4458-nNA4JA/Lingua-YaTeA-0.626-0/blib/arch:/tmp/loop_over_bdir-4458-nNA4JA/Lingua-YaTeA-0.626-0/blib/lib:/tmp/loop_over_bdir-4458-nNA4JA/HTML-Menu-TreeView-1.22-0/blib/arch:/tmp/loop_over_bdir-4458-nNA4JA/HTML-Menu-TreeView-1.22-0/blib/lib:/tmp/loop_over_bdir-4458-nNA4JA/DBIx-Migration-Directories-0.12-0/blib/arch:/tmp/loop_over_bdir-4458-nNA4JA/DBIx-Migration-Directories-0.12-0/blib/lib:/tmp/loop_over_bdir-4458-nNA4JA/Devel-Required-0.16-0/blib/arch:/tmp/loop_over_bdir-4458-nNA4JA/Devel-Required-0.16-0/blib/lib:/tmp/loop_over_bdir-4458-nNA4JA/dta-tokwrap-0.98-0/blib/arch:/tmp/loop_over_bdir-4458-nNA4JA/dta-tokwrap-0.98-0/blib/lib:/tmp/loop_over_bdir-4458-nNA4JA/CORBA-Python-2.66-0/blib/arch:/tmp/loop_over_bdir-4458-nNA4JA/CORBA-Python-2.66-0/blib/lib"
    PERL5OPT=""
    PERL5_CPANPLUS_IS_RUNNING="4467"
    PERL5_CPAN_IS_RUNNING="4467"
    PERL_CANARY_STABILITY_NOPROMPT="1"
    PERL_MM_USE_DEFAULT="1"
    PERL_USE_UNSAFE_INC="1"
  @INC:
    /tmp/loop_over_bdir-4458-nNA4JA/Lemonldap-NG-Cli-0.2-0/blib/arch
    /tmp/loop_over_bdir-4458-nNA4JA/Lemonldap-NG-Cli-0.2-0/blib/lib
    /tmp/loop_over_bdir-4458-nNA4JA/App-nrun-v1.1.2-0/blib/arch
    /tmp/loop_over_bdir-4458-nNA4JA/App-nrun-v1.1.2-0/blib/lib
    /tmp/loop_over_bdir-4458-nNA4JA/Business-Shipping-DataFiles-1.02-0/blib/arch
    /tmp/loop_over_bdir-4458-nNA4JA/Business-Shipping-DataFiles-1.02-0/blib/lib
    /tmp/loop_over_bdir-4458-nNA4JA/mmds-1.902-0/blib/arch
    /tmp/loop_over_bdir-4458-nNA4JA/mmds-1.902-0/blib/lib
    /tmp/loop_over_bdir-4458-nNA4JA/Lingua-YaTeA-0.626-0/blib/arch
    /tmp/loop_over_bdir-4458-nNA4JA/Lingua-YaTeA-0.626-0/blib/lib
    /tmp/loop_over_bdir-4458-nNA4JA/HTML-Menu-TreeView-1.22-0/blib/arch
    /tmp/loop_over_bdir-4458-nNA4JA/HTML-Menu-TreeView-1.22-0/blib/lib
    /tmp/loop_over_bdir-4458-nNA4JA/DBIx-Migration-Directories-0.12-0/blib/arch
    /tmp/loop_over_bdir-4458-nNA4JA/DBIx-Migration-Directories-0.12-0/blib/lib
    /tmp/loop_over_bdir-4458-nNA4JA/Devel-Required-0.16-0/blib/arch
    /tmp/loop_over_bdir-4458-nNA4JA/Devel-Required-0.16-0/blib/lib
    /tmp/loop_over_bdir-4458-nNA4JA/dta-tokwrap-0.98-0/blib/arch
    /tmp/loop_over_bdir-4458-nNA4JA/dta-tokwrap-0.98-0/blib/lib
    /tmp/loop_over_bdir-4458-nNA4JA/CORBA-Python-2.66-0/blib/arch
    /tmp/loop_over_bdir-4458-nNA4JA/CORBA-Python-2.66-0/blib/lib
    /home/sand/src/perl/repoperls/installed-perls/host/k93focal/v5.39.9/d3e4/lib/site_perl/5.39.9/x86_64-linux-ld
    /home/sand/src/perl/repoperls/installed-perls/host/k93focal/v5.39.9/d3e4/lib/site_perl/5.39.9
    /home/sand/src/perl/repoperls/installed-perls/host/k93focal/v5.39.9/d3e4/lib/5.39.9/x86_64-linux-ld
    /home/sand/src/perl/repoperls/installed-perls/host/k93focal/v5.39.9/d3e4/lib/5.39.9
    .