Back
From: metabase:user:d49cdc72-1559-11e3-9efd-e82414baadac
Subject: PASS SDL-2.544 v5.21.11 GNU/Linux
Date: 2015-04-22T08:47:32Z
This distribution has been tested as part of the CPAN Testers
project, supporting the Perl programming language. See
http://wiki.cpantesters.org/ for more information or email
questions to cpan-testers-discuss@perl.org
--
Dear Tobias Leich,
This is a computer-generated report for SDL-2.544
on perl 5.21.11, created by CPAN-Reporter-1.2014.
Thank you for uploading your work to CPAN. Congratulations!
All tests were successful.
Sections of this report:
* Tester comments
* Program output
* Prerequisites
* Environment and other context
------------------------------
TESTER COMMENTS
------------------------------
Additional comments from tester:
none provided
------------------------------
PROGRAM OUTPUT
------------------------------
Output from './Build test':
[Alien::SDL] Build option used:
Source code build
jpeg(v8b) tiff(v3.9.1) png(v1.4.1) freetype(v2.3.12) SDL(v1.2.15) SDL_image(v1.2.11) ogg(v1.3.0) vorbis(v1.3.3) SDL_mixer(v1.2.12) SDL_ttf(v2.0.11) SDL_gfx(v2.0.25)
Building SDL
t/core_audio.t .................. skipped: Perl not compiled with 'useithreads'
t/core_audiospec.t .............. skipped: Perl not compiled with 'useithreads'
t/config.t ...................... ok
t/00-load.t ..................... ok
t/core_cd.t ..................... ok
t/colorpm.t ..................... ok
t/core.t ........................ ok
t/core_mouse.t .................. ok
t/core_error.t .................. ok
t/core_multi.t .................. ok
t/core_joystick.t ............... ok
t/core_timer.t .................. skipped: Perl not compiled with 'useithreads'
t/core_overlay.t ................ ok
t/core_events.t ................. ok
t/core_palette.t ................ ok
t/core_rect.t ................... ok
t/core_version.t ................ ok
t/core_rwops.t .................. ok
t/core_video_convert_surface.t .. ok
t/gfx.t ......................... ok
t/core_video_gamma.t ............ ok
t/gfx_fpsmanager.t .............. ok
t/gfx_framerate.t ............... ok
t/gfx_imagefilter.t ............. ok
t/core_video.t .................. ok
t/core_surface.t ................ ok
t/extendingrect.t ............... ok
t/image.t ....................... ok
t/mixer.t ....................... skipped: Perl not compiled with 'useithreads'
t/mixer_effects.t ............... skipped: Perl not compiled with 'useithreads'
t/mixer_channels.t .............. skipped: Perl not compiled with 'useithreads'
t/gfx_rotozoom.t ................ ok
t/mixer_groups.t ................ skipped: Perl not compiled with 'useithreads'
t/mixer_mixchunk.t .............. skipped: Perl not compiled with 'useithreads'
t/image_xpm_array.t ............. ok
t/mixer_mixmusic.t .............. skipped: Perl not compiled with 'useithreads'
t/gfx_primitives2.t ............. ok
t/mixer_music.t ................. skipped: Perl not compiled with 'useithreads'
t/pango.t ....................... skipped: SDL_Pango support not compiled
t/mixer_samples.t ............... skipped: Perl not compiled with 'useithreads'
t/sdlx_music.t .................. skipped: Perl not compiled with 'useithreads'
t/sdlx_rect.t ................... ok
Attempt to free unreferenced scalar: SV 0x1b554a0 during global destruction.
t/sdlx_controller_interface.t ... ok
t/sdlx_sfont.t .................. ok
t/sdlx_sound.t .................. skipped: Perl not compiled with 'useithreads'
t/sdlgamerect.t ................. ok
t/sdlx_app.t .................... ok
t/sdlx_fps.t .................... ok
t/sdlx_sprite.t ................. ok
t/sdlx_layermanager.t ........... ok
t/sdlx_surface.t ................ ok
t/sdlx_sprite_animated.t ........ ok
t/sdlx_validate.t ............... ok
t/smpeg.t ....................... skipped: smpeg support not compiled
t/sdlx_text.t ................... ok
t/ttf_font.t .................... ok
t/ttf.t ......................... ok
t/gfx_primitives.t .............. ok
t/sdlx_controller.t ............. ok
All tests successful.
Test Summary Report
-------------------
t/core.t (Wstat: 0 Tests: 28 Failed: 0)
TODO passed: 21-22
t/core_video.t (Wstat: 0 Tests: 110 Failed: 0)
TODO passed: 57, 59
Files=59, Tests=3562, 29 wallclock secs ( 0.75 usr 0.28 sys + 23.69 cusr 2.90 csys = 27.62 CPU)
Result: PASS
------------------------------
PREREQUISITES
------------------------------
Prerequisite modules loaded:
requires:
Module Need Have
------------------ -------- ------------
CPAN 1.92 2.11
File::ShareDir 1.0 1.102
perl 5.008000 5.021011
Scalar::Util 0 1.41
Tie::Simple 0 1.03
build_requires:
Module Need Have
------------------ -------- ------------
Alien::SDL 1.444 1.446
Capture::Tiny 0 0.28
ExtUtils::CBuilder 0 0.280221
File::Find 0 1.29
File::ShareDir 1.0 1.102
Scalar::Util 0 1.41
Test::Most 0.21 0.34
Test::Simple 0.88 1.301001_105
Tie::Simple 0 1.03
configure_requires:
Module Need Have
------------------ -------- ------------
Alien::SDL 1.444 1.446
Capture::Tiny 0 0.28
ExtUtils::CBuilder 0.260301 0.280221
File::Find 0 1.29
File::ShareDir 1.0 1.102
Module::Build 0.40 0.4211
Tie::Simple 0 1.03
------------------------------
ENVIRONMENT AND OTHER CONTEXT
------------------------------
Environment variables:
HARNESS_OPTIONS = j10
LC_CTYPE = en_NZ.UTF8
NONINTERACTIVE_TESTING = 1
PATH = /home/vagrant/perl5/perlbrew/bin:/home/vagrant/perl5/perlbrew/perls/perl-5.21.11/bin:/usr/local/bin:/usr/bin:/bin:/opt/bin:/usr/x86_64-pc-linux-gnu/gcc-bin/4.8.4
PERL5LIB =
PERL5OPT =
PERL5_CPANPLUS_IS_RUNNING = 17519
PERL5_CPAN_IS_RUNNING = 17519
PERLBREW_BASHRC_VERSION = 0.73
PERLBREW_HOME = /home/vagrant/.perlbrew
PERLBREW_MANPATH = /home/vagrant/perl5/perlbrew/perls/perl-5.21.11/man
PERLBREW_PATH = /home/vagrant/perl5/perlbrew/bin:/home/vagrant/perl5/perlbrew/perls/perl-5.21.11/bin
PERLBREW_PERL = perl-5.21.11
PERLBREW_ROOT = /home/vagrant/perl5/perlbrew
PERLBREW_VERSION = 0.73
PERL_MM_USE_DEFAULT = 1
SHELL = /bin/bash
TERM = screen
Perl special variables (and OS-specific diagnostics, for MSWin32):
$^X = /home/vagrant/perl5/perlbrew/perls/perl-5.21.11/bin/perl5.21.11
$UID/$EUID = 1000 / 1000
$GID = 1000 1000
$EGID = 1000 1000
Perl module toolchain versions installed:
Module Have
------------------- ------------
CPAN 2.11
CPAN::Meta 2.150001
Cwd 3.56
ExtUtils::CBuilder 0.280221
ExtUtils::Command 1.20
ExtUtils::Install 2.04
ExtUtils::MakeMaker 7.04
ExtUtils::Manifest 1.70
ExtUtils::ParseXS 3.28
File::Spec 3.56
JSON 2.90
JSON::PP 2.27300
Module::Build 0.4211
Module::Signature 0.78
Parse::CPAN::Meta 1.4414
Test::Harness 3.35
Test::More 1.301001_105
YAML 1.15
YAML::Syck 1.29
version 0.9912
--
Summary of my perl5 (revision 5 version 21 subversion 11) configuration:
Platform:
osname=linux, osvers=3.18.11-gentoo, archname=x86_64-linux
uname='linux localhost 3.18.11-gentoo #1 smp sat apr 18 20:24:48 utc 2015 x86_64 intel(r) core(tm) i5-2410m cpu @ 2.30ghz genuineintel gnulinux '
config_args='-de -Dprefix=/home/vagrant/perl5/perlbrew/perls/perl-5.21.11 -Doptimize= -O3 -march=native -mtune=native -Dman1dir=none -Dman3dir=none -Dusedevel -Accflags=-DPERL_HASH_FUNC_SDBM -Aeval:scriptdir=/home/vagrant/perl5/perlbrew/perls/perl-5.21.11/bin'
hint=recommended, useposix=true, d_sigaction=define
useithreads=undef, usemultiplicity=undef
use64bitint=define, use64bitall=define, uselongdouble=undef
usemymalloc=n, bincompat5005=undef
Compiler:
cc='cc', ccflags ='-DPERL_HASH_FUNC_SDBM -fwrapv -fno-strict-aliasing -pipe -fstack-protector -D_LARGEFILE_SOURCE -D_FILE_OFFSET_BITS=64',
optimize=' -O3 -march=native -mtune=native',
cppflags='-DPERL_HASH_FUNC_SDBM -fwrapv -fno-strict-aliasing -pipe -fstack-protector'
ccversion='', gccversion='4.8.4', gccosandvers=''
intsize=4, longsize=8, ptrsize=8, doublesize=8, byteorder=12345678, doublekind=3
d_longlong=define, longlongsize=8, d_longdbl=define, longdblsize=16, longdblkind=3
ivtype='long', ivsize=8, nvtype='double', nvsize=8, Off_t='off_t', lseeksize=8
alignbytes=8, prototype=define
Linker and Libraries:
ld='cc', ldflags =' -fstack-protector -L/usr/local/lib'
libpth=/usr/lib/gcc/x86_64-pc-linux-gnu/4.8.4/include-fixed /usr/lib /usr/local/lib /lib/../lib64 /usr/lib/../lib64 /lib /lib64 /usr/lib64 /usr/local/lib64
libs=-lpthread -lnsl -lgdbm -ldb -ldl -lm -lcrypt -lutil -lc -lgdbm_compat
perllibs=-lpthread -lnsl -ldl -lm -lcrypt -lutil -lc
libc=libc-2.20.so, so=so, useshrplib=false, libperl=libperl.a
gnulibc_version='2.20'
Dynamic Linking:
dlsrc=dl_dlopen.xs, dlext=so, d_dlsymun=undef, ccdlflags='-Wl,-E'
cccdlflags='-fPIC', lddlflags='-shared -O3 -march=native -mtune=native -L/usr/local/lib -fstack-protector'
Characteristics of this binary (from libperl):
Compile-time options: HAS_TIMES PERLIO_LAYERS PERL_DONT_CREATE_GVSV
PERL_HASH_FUNC_SDBM PERL_MALLOC_WRAP
PERL_NEW_COPY_ON_WRITE PERL_PRESERVE_IVUV
PERL_USE_DEVEL USE_64_BIT_ALL USE_64_BIT_INT
USE_LARGE_FILES USE_LOCALE USE_LOCALE_COLLATE
USE_LOCALE_CTYPE USE_LOCALE_NUMERIC USE_LOCALE_TIME
USE_PERLIO USE_PERL_ATOF
Built under linux
Compiled at Apr 21 2015 08:27:16
%ENV:
PERL5LIB=""
PERL5OPT=""
PERL5_CPANPLUS_IS_RUNNING="17519"
PERL5_CPAN_IS_RUNNING="17519"
PERLBREW_BASHRC_VERSION="0.73"
PERLBREW_HOME="/home/vagrant/.perlbrew"
PERLBREW_MANPATH="/home/vagrant/perl5/perlbrew/perls/perl-5.21.11/man"
PERLBREW_PATH="/home/vagrant/perl5/perlbrew/bin:/home/vagrant/perl5/perlbrew/perls/perl-5.21.11/bin"
PERLBREW_PERL="perl-5.21.11"
PERLBREW_ROOT="/home/vagrant/perl5/perlbrew"
PERLBREW_VERSION="0.73"
PERL_MM_USE_DEFAULT="1"
@INC:
/home/vagrant/perl5/perlbrew/perls/perl-5.21.11/lib/site_perl/5.21.11/x86_64-linux
/home/vagrant/perl5/perlbrew/perls/perl-5.21.11/lib/site_perl/5.21.11
/home/vagrant/perl5/perlbrew/perls/perl-5.21.11/lib/5.21.11/x86_64-linux
/home/vagrant/perl5/perlbrew/perls/perl-5.21.11/lib/5.21.11
.