Report for Path-Iterator-Rule-1.008

Back
From: metabase:user:b90914ec-0321-11e4-9765-a53fc2c19918
Subject: PASS Path-Iterator-Rule-1.008 v5.12.2 GNU/Linux
Date: 2014-08-01T13:53:28Z

This distribution has been tested as part of the CPAN Testers
project, supporting the Perl programming language.  See
http://wiki.cpantesters.org/ for more information or email
questions to cpan-testers-discuss@perl.org


--
Dear David Golden,

This is a computer-generated report for Path-Iterator-Rule-1.008
on perl 5.12.2, created by CPAN-Reporter-1.2011.

Thank you for uploading your work to CPAN.  Congratulations!
All tests were successful.

Sections of this report:

    * Tester comments
    * Program output
    * Prerequisites
    * Environment and other context

------------------------------
TESTER COMMENTS
------------------------------

Additional comments from tester:

this report is from an automated smoke testing program
and was not reviewed by a human for accuracy

------------------------------
PROGRAM OUTPUT
------------------------------

Output from '/usr/bin/make test':

PERL_DL_NONLAZY=1 /opt/perl430-27-O0-5.12.2/bin/perl "-MExtUtils::Command::MM" "-MTest::Harness" "-e" "undef *Test::Harness::Switches; test_harness(0, 'blib/lib', 'blib/arch')" t/*.t
# 
# Versions for all modules listed in MYMETA.json (including optional ones):
#    Version Module                  
#   -------- ------------------------
#   2.142060 CPAN::Meta              
#      2.126 CPAN::Meta::Requirements
#     1.3301 Carp                    
#       5.70 Exporter                
#       6.98 ExtUtils::MakeMaker     
#       2.78 File::Basename          
#       3.47 File::Spec              
#       3.47 File::Spec::Functions   
#     0.2304 File::Temp              
#      1.009 File::pushd             
#       1.39 List::Util              
#       0.03 Number::Compare         
#      0.055 Path::Tiny              
#       1.39 Scalar::Util            
#      0.112 Test::Deep              
#       0.03 Test::Filename          
#   1.001003 Test::More              
#       0.09 Text::Glob              
#       0.22 Try::Tiny               
#       0.63 lib                     
#       0.11 re                      
#       1.04 strict                  
#     0.9908 version                 
#       1.09 warnings                
#       1.01 warnings::register      
t/00-report-prereqs.t .... ok
t/basic.t ................ ok
t/breadth-depth-files.t .. ok
t/breadth-depth.t ........ ok
t/clone.t ................ ok
t/content.t .............. ok
t/error_handler.t ........ ok
t/fast.t ................. ok
t/helpers.t .............. ok
t/logic.t ................ ok
t/min-max-depth.t ........ ok
t/names.t ................ ok
t/perl.t ................. ok
t/pir.t .................. ok
t/relative.t ............. ok
t/stat_tests.t ........... ok
t/stringify.t ............ ok
t/symlink.t .............. ok
t/unsorted.t ............. ok
t/vcs.t .................. ok
t/visitor.t .............. ok
t/x_tests.t .............. ok
All tests successful.
Files=22, Tests=84, 34 wallclock secs ( 0.45 usr  0.09 sys + 14.35 cusr  1.38 csys = 16.27 CPU)
Result: PASS

------------------------------
PREREQUISITES
------------------------------

Prerequisite modules loaded:

requires:

    Module                   Need     Have    
    ------------------------ -------- --------
    Carp                     0        1.3301  
    File::Basename           0        2.78    
    File::Spec               0        3.47    
    List::Util               0        1.39    
    Number::Compare          0.02     0.03    
    re                       0        0.11    
    Scalar::Util             0        1.39    
    strict                   0        1.04    
    Text::Glob               0        0.09    
    Try::Tiny                0        0.22    
    warnings                 0        1.09    
    warnings::register       0        1.01    

build_requires:

    Module                   Need     Have    
    ------------------------ -------- --------
    Exporter                 0        5.70    
    ExtUtils::MakeMaker      0        6.98    
    File::pushd              0        1.009   
    File::Spec::Functions    0        3.47    
    File::Temp               0        0.2304  
    lib                      0        0.63    
    Path::Tiny               0        0.055   
    Test::Deep               0        0.112   
    Test::Filename           0.03     0.03    
    Test::More               0.92     1.001003
    version                  0        0.9908  

configure_requires:

    Module                   Need     Have    
    ------------------------ -------- --------
    ExtUtils::MakeMaker      6.17     6.98    

opt_build_requires:

    Module                   Need     Have    
    ------------------------ -------- --------
    CPAN::Meta               0        2.142060
    CPAN::Meta::Requirements 2.120900 2.126   


------------------------------
ENVIRONMENT AND OTHER CONTEXT
------------------------------

Environment variables:

    AUTOMATED_TESTING = 1
    LANG = en_US.utf8
    PATH = /usr/lib/qt-3.3/bin:/usr/kerberos/sbin:/usr/kerberos/bin:/usr/local/sbin:/usr/sbin:/sbin:/usr/local/bin:/usr/bin:/bin:/root/bin
    PERL5LIB = 
    PERL5OPT = 
    PERL5_CPANPLUS_IS_RUNNING = 8165
    PERL5_CPAN_IS_RUNNING = 8165
    PERL_MM_USE_DEFAULT = 1
    SHELL = /bin/bash
    TERM = xterm

Perl special variables (and OS-specific diagnostics, for MSWin32):

    $^X = /opt/perl430-27-O0-5.12.2/bin/perl
    $UID/$EUID = 0 / 0
    $GID = 0 0 1 2 3 4 6 10
    $EGID = 0 0 1 2 3 4 6 10

Perl module toolchain versions installed:

    Module              Have    
    ------------------- --------
    CPAN                2.05    
    CPAN::Meta          2.142060
    Cwd                 3.47    
    ExtUtils::CBuilder  0.280216
    ExtUtils::Command   1.16    
    ExtUtils::Install   1.68    
    ExtUtils::MakeMaker 6.98    
    ExtUtils::Manifest  1.64    
    ExtUtils::ParseXS   3.24    
    File::Spec          3.47    
    JSON                2.90    
    JSON::PP            2.27203 
    Module::Build       0.4206  
    Module::Signature   n/a     
    Parse::CPAN::Meta   1.4414  
    Test::Harness       3.32    
    Test::More          1.001003
    YAML                0.97    
    YAML::Syck          1.27    
    version             0.9908  


--

Summary of my perl5 (revision 5 version 12 subversion 2) configuration:
   
  Platform:
    osname=linux, osvers=2.6.27.25-78.2.56.fc9.i686, archname=i686-linux-thread-multi-64int-ld
    uname='linux localhost.localdomain 2.6.27.25-78.2.56.fc9.i686 #1 smp thu jun 18 12:47:50 edt 2009 i686 i686 i386 gnulinux '
    config_args='-Dcc=gcc -Dprefix=/opt/perl430-27-O0-5.12.2 -DDEBUGGING'
    hint=recommended, useposix=true, d_sigaction=define
    useithreads=define, usemultiplicity=define
    useperlio=define, d_sfio=undef, uselargefiles=define, usesocks=undef
    use64bitint=define, use64bitall=undef, uselongdouble=define
    usemymalloc=y, bincompat5005=undef
  Compiler:
    cc='gcc', ccflags ='-D_REENTRANT -D_GNU_SOURCE -DDEBUGGING -fno-strict-aliasing -pipe -fstack-protector -I/usr/local/include -D_LARGEFILE_SOURCE -D_FILE_OFFSET_BITS=64',
    optimize='-O0 -g',
    cppflags='-D_REENTRANT -D_GNU_SOURCE -DDEBUGGING -fno-strict-aliasing -pipe -fstack-protector -I/usr/local/include'
    ccversion='', gccversion='4.3.0 20080428 (Red Hat 4.3.0-8)', gccosandvers=''
    intsize=4, longsize=4, ptrsize=4, doublesize=8, byteorder=12345678
    d_longlong=define, longlongsize=8, d_longdbl=define, longdblsize=12
    ivtype='long long', ivsize=8, nvtype='long double', nvsize=12, Off_t='off_t', lseeksize=8
    alignbytes=4, prototype=define
  Linker and Libraries:
    ld='gcc', ldflags =' -fstack-protector -L/usr/local/lib'
    libpth=/usr/local/lib /lib /usr/lib
    libs=-lnsl -lgdbm -ldb -ldl -lm -lcrypt -lutil -lpthread -lc
    perllibs=-lnsl -ldl -lm -lcrypt -lutil -lpthread -lc
    libc=/lib/libc-2.8.so, so=so, useshrplib=true, libperl=libperl.so
    gnulibc_version='2.8'
  Dynamic Linking:
    dlsrc=dl_dlopen.xs, dlext=so, d_dlsymun=undef, ccdlflags='-Wl,-E -Wl,-rpath,/opt/perl430-27-O0-5.12.2/lib/5.12.2/i686-linux-thread-multi-64int-ld/CORE'
    cccdlflags='-fPIC', lddlflags='-shared -O0 -g -L/usr/local/lib -fstack-protector'


Characteristics of this binary (from libperl): 
  Compile-time options: DEBUGGING MULTIPLICITY MYMALLOC PERL_DONT_CREATE_GVSV
                        PERL_IMPLICIT_CONTEXT PERL_MAD PERL_MALLOC_WRAP
                        PERL_TRACK_MEMPOOL USE_64_BIT_INT USE_FAST_STDIO
                        USE_ITHREADS USE_LARGE_FILES USE_LONG_DOUBLE
                        USE_PERLIO USE_PERL_ATOF USE_REENTRANT_API
  Built under linux
  Compiled at Jul 25 2014 16:19:33
  %ENV:
    PERL5LIB=""
    PERL5OPT=""
    PERL5_CPANPLUS_IS_RUNNING="8165"
    PERL5_CPAN_IS_RUNNING="8165"
    PERL_MM_USE_DEFAULT="1"
  @INC:
    /opt/perl430-27-O0-5.12.2/lib/site_perl/5.12.2/i686-linux-thread-multi-64int-ld
    /opt/perl430-27-O0-5.12.2/lib/site_perl/5.12.2
    /opt/perl430-27-O0-5.12.2/lib/5.12.2/i686-linux-thread-multi-64int-ld
    /opt/perl430-27-O0-5.12.2/lib/5.12.2
    .