App-DBCritic v0.023 Perl 5 v5.26.3 x86_64-linux-thread-multi

Status
Pass
From
Andreas J. König (ANDK)
Dist
App-DBCritic v0.023
Platform
Perl 5 v5.26.3 x86_64-linux-thread-multi
Date
2019-09-07 09:38:15
ID
375b13a4-d153-11e9-afa3-4268839580ef
This distribution has been tested as part of the CPAN Testers
project, supporting the Perl programming language.  See
http://wiki.cpantesters.org/ for more information or email
questions to cpan-testers-discuss@perl.org


--
Dear Mark Gardner,

This is a computer-generated report for App-DBCritic-0.023
on perl 5.26.3, created by CPAN-Reporter-1.2018.

Thank you for uploading your work to CPAN.  Congratulations!
All tests were successful.

Sections of this report:

    * Tester comments
    * Program output
    * Prerequisites
    * Environment and other context

------------------------------
TESTER COMMENTS
------------------------------

Additional comments from tester:

this report is from an automated smoke testing program
and was not reviewed by a human for accuracy

------------------------------
PROGRAM OUTPUT
------------------------------

Output from '/usr/bin/make test':

PERL_DL_NONLAZY=1 "/home/sand/src/perl/repoperls/installed-perls/host/k93msid/v5.26.3/29fb/bin/perl" "-MExtUtils::Command::MM" "-MTest::Harness" "-e" "undef *Test::Harness::Switches; test_harness(0, 'blib/lib', 'blib/arch')" t/*.t t/policy/*.t
t/00-compile.t ......................... ok
# Testing with Perl 5.026003, /home/sand/src/perl/repoperls/installed-perls/host/k93msid/v5.26.3/29fb/bin/perl
#     Algorithm::Combinatorics version is 0.27
#     Carp version is 1.42
#     Const::Fast version is 0.014
#     DBI version is 1.642
#     DBICx::TestDatabase version is 0.05
#     DBIx::Class version is 0.082841
#     DBIx::Class::Core version is undefined
#     DBIx::Class::Schema version is undefined
#     DBIx::Class::Schema::Loader version is 0.07049
#     Data::Compare version is 1.25
#     Devel::Symdump version is 2.18
#     English version is 1.10
#     ExtUtils::MakeMaker version is 7.3704
#     File::Spec version is 3.75
#     FindBin version is 1.51
#     Getopt::Long::Descriptive version is 0.103
#     IO::Handle version is 1.39
#     IPC::Open3 version is 1.20
#     List::MoreUtils version is 0.428
#     List::Util version is 1.5
#     Modern::Perl version is 1.20190727
#     Module::Pluggable version is 5.2
#     Moo version is 2.003004
#     Moo::Role version is 2.003004
#     Path::Class version is 0.37
#     Scalar::Util version is 1.5
#     Sub::Quote version is 2.006004
#     Test::More version is 1.302166
#     Test::Most version is 0.35
#     Test::Script::Run version is 0.08
#     base version is 2.26
#     local::lib version is 2.000024
#     namespace::autoclean version is 0.28
#     overload version is 1.28
#     strict version is 1.11
#     utf8 version is 1.19
#     warnings version is 1.37
t/000-report-versions.t ................ ok
t/author-critic.t ...................... skipped: these tests are for testing by the author
t/author-eol.t ......................... skipped: these tests are for testing by the author
t/author-minimum-version.t ............. skipped: these tests are for testing by the author
t/author-mojibake.t .................... skipped: these tests are for testing by the author
t/author-no-tabs.t ..................... skipped: these tests are for testing by the author
t/author-pod-coverage.t ................ skipped: these tests are for testing by the author
t/author-pod-linkcheck.t ............... skipped: these tests are for testing by the author
t/author-pod-syntax.t .................. skipped: these tests are for testing by the author
t/author-portability.t ................. skipped: these tests are for testing by the author
t/author-synopsis.t .................... skipped: these tests are for testing by the author
t/author-test-version.t ................ skipped: these tests are for testing by the author
Attempting to create directory /tmp/loop_over_bdir-21296-CTB6L_/App-DBCritic-0.023-0/t/schema
t/loader.t ............................. ok
Attempting to create directory /tmp/loop_over_bdir-21296-CTB6L_/App-DBCritic-0.023-0/t/policy/bidirectional_relationship
t/policy/bidirectional_relationship.t .. ok
Attempting to create directory /tmp/loop_over_bdir-21296-CTB6L_/App-DBCritic-0.023-0/t/policy/duplicate_relationships
t/policy/duplicate_relationships.t ..... ok
Attempting to create directory /tmp/loop_over_bdir-21296-CTB6L_/App-DBCritic-0.023-0/t/policy/no_primary_key
t/policy/no_primary_key.t .............. ok
Attempting to create directory /tmp/loop_over_bdir-21296-CTB6L_/App-DBCritic-0.023-0/t/policy/nullable_text_column
t/policy/nullable_text_column.t ........ ok
t/release-changes_has_content.t ........ skipped: these tests are for release candidate testing
t/release-cpan-changes.t ............... skipped: these tests are for release candidate testing
t/release-dist-manifest.t .............. skipped: these tests are for release candidate testing
t/release-distmeta.t ................... skipped: these tests are for release candidate testing
t/release-kwalitee.t ................... skipped: these tests are for release candidate testing
t/release-meta-json.t .................. skipped: these tests are for release candidate testing
t/release-unused-vars.t ................ skipped: these tests are for release candidate testing
t/schema.t ............................. ok
t/script.t ............................. ok
All tests successful.
Files=27, Tests=57, 14 wallclock secs ( 0.07 usr  0.13 sys +  4.94 cusr  1.19 csys =  6.33 CPU)
Result: PASS

------------------------------
PREREQUISITES
------------------------------

Prerequisite modules loaded:

requires:

    Module                      Need    Have      
    --------------------------- ------- ----------
    Algorithm::Combinatorics    0       0.27      
    Carp                        0       1.42      
    Const::Fast                 0       0.014     
    Data::Compare               0       1.25      
    DBI                         0       1.642     
    DBIx::Class                 0.08125 0.082841  
    DBIx::Class::Schema::Loader 0.07007 0.07049   
    Devel::Symdump              0       2.18      
    English                     0       1.10      
    Getopt::Long::Descriptive   0       0.103     
    List::MoreUtils             0       0.428     
    List::Util                  1.33    1.50      
    Modern::Perl                0       1.20190727
    Module::Pluggable           0       5.2       
    Moo                         0       2.003004  
    Moo::Role                   0       2.003004  
    namespace::autoclean        0       0.28      
    overload                    0       1.28      
    perl                        5.012   5.026003  
    Scalar::Util                0       1.50      
    strict                      0       1.11      
    Sub::Quote                  0       2.006_004 
    utf8                        0       1.19      

build_requires:

    Module                      Need    Have      
    --------------------------- ------- ----------
    base                        0       2.26      
    DBICx::TestDatabase         0       0.05      
    DBIx::Class::Core           0       0         
    DBIx::Class::Schema         0       0         
    ExtUtils::MakeMaker         0       7.37_04   
    File::Spec                  0       3.75      
    FindBin                     0       1.51      
    IO::Handle                  0       1.39      
    IPC::Open3                  0       1.20      
    local::lib                  0       2.000024  
    Path::Class                 0       0.37      
    Test::More                  0.94    1.302166  
    Test::Most                  0       0.35      
    Test::Script::Run           0       0.08      
    warnings                    0       1.37      

configure_requires:

    Module                      Need    Have      
    --------------------------- ------- ----------
    ExtUtils::MakeMaker         0       7.37_04   


------------------------------
ENVIRONMENT AND OTHER CONTEXT
------------------------------

Environment variables:

    AUTOMATED_TESTING = 1
    LANG = en_US.UTF-8
    PATH = /home/sand/bin:/usr/local/bin:/usr/bin:/bin:/usr/games:/usr/local/perl/bin:/usr/X11/bin:/sbin:/usr/sbin
    PERL5LIB = 
    PERL5OPT = 
    PERL5_CPANPLUS_IS_RUNNING = 21301
    PERL5_CPAN_IS_RUNNING = 21301
    PERL_CANARY_STABILITY_NOPROMPT = 1
    PERL_MM_USE_DEFAULT = 1
    PERL_USE_UNSAFE_INC = 1
    SHELL = /usr/bin/zsh
    TERM = screen

Perl special variables (and OS-specific diagnostics, for MSWin32):

    $^X = /home/sand/src/perl/repoperls/installed-perls/host/k93msid/v5.26.3/29fb/bin/perl
    $UID/$EUID = 1005 / 1005
    $GID = 1005 1005
    $EGID = 1005 1005

Perl module toolchain versions installed:

    Module              Have    
    ------------------- --------
    CPAN                2.27    
    CPAN::Meta          2.150010
    Cwd                 3.75    
    ExtUtils::CBuilder  0.280231
    ExtUtils::Command   7.37_04 
    ExtUtils::Install   2.06    
    ExtUtils::MakeMaker 7.37_04 
    ExtUtils::Manifest  1.72    
    ExtUtils::ParseXS   3.35    
    File::Spec          3.75    
    JSON                4.02    
    JSON::PP            4.04    
    Module::Build       0.42_30 
    Module::Signature   0.83    
    Parse::CPAN::Meta   2.150010
    Test::Harness       3.42    
    Test::More          1.302166
    YAML                1.28    
    YAML::Syck          1.31    
    version             0.9924  


--

Summary of my perl5 (revision 5 version 26 subversion 3) configuration:
  Commit id: 92583df5dc9b9edbcd4a9649f753e180b9729590
  Platform:
    osname=linux
    osvers=4.18.0-2-amd64
    archname=x86_64-linux-thread-multi
    uname='linux k93msid 4.18.0-2-amd64 #1 smp debian 4.18.10-2 (2018-10-07) x86_64 gnulinux '
    config_args='-Dprefix=/home/sand/src/perl/repoperls/installed-perls/host/k93msid/v5.26.3/29fb -Dmyhostname=k93msid -Dinstallusrbinperl=n -Uversiononly -Dusedevel -des -Ui_db -Dlibswanted=cl pthread socket inet nsl gdbm dbm malloc dl ld sun m crypt sec util c cposix posix ucb BSD gdbm_compat -Duseithreads -Uuselongdouble -DEBUGGING=both'
    hint=recommended
    useposix=true
    d_sigaction=define
    useithreads=define
    usemultiplicity=define
    use64bitint=define
    use64bitall=define
    uselongdouble=undef
    usemymalloc=n
    default_inc_excludes_dot=define
    bincompat5005=undef
  Compiler:
    cc='cc'
    ccflags ='-D_REENTRANT -D_GNU_SOURCE -fwrapv -DDEBUGGING -fno-strict-aliasing -pipe -fstack-protector-strong -I/usr/local/include -D_LARGEFILE_SOURCE -D_FILE_OFFSET_BITS=64'
    optimize='-O2 -g'
    cppflags='-D_REENTRANT -D_GNU_SOURCE -fwrapv -DDEBUGGING -fno-strict-aliasing -pipe -fstack-protector-strong -I/usr/local/include'
    ccversion=''
    gccversion='8.2.0'
    gccosandvers=''
    intsize=4
    longsize=8
    ptrsize=8
    doublesize=8
    byteorder=12345678
    doublekind=3
    d_longlong=define
    longlongsize=8
    d_longdbl=define
    longdblsize=16
    longdblkind=3
    ivtype='long'
    ivsize=8
    nvtype='double'
    nvsize=8
    Off_t='off_t'
    lseeksize=8
    alignbytes=8
    prototype=define
  Linker and Libraries:
    ld='cc'
    ldflags =' -fstack-protector-strong -L/usr/local/lib'
    libpth=/usr/local/lib /usr/lib/gcc/x86_64-linux-gnu/8/include-fixed /usr/include/x86_64-linux-gnu /usr/lib /lib/x86_64-linux-gnu /lib/../lib /usr/lib/x86_64-linux-gnu /usr/lib/../lib /lib
    libs=-lpthread -lnsl -ldl -lm -lcrypt -lutil -lc
    perllibs=-lpthread -lnsl -ldl -lm -lcrypt -lutil -lc
    libc=libc-2.27.so
    so=so
    useshrplib=false
    libperl=libperl.a
    gnulibc_version='2.27'
  Dynamic Linking:
    dlsrc=dl_dlopen.xs
    dlext=so
    d_dlsymun=undef
    ccdlflags='-Wl,-E'
    cccdlflags='-fPIC'
    lddlflags='-shared -O2 -g -L/usr/local/lib -fstack-protector-strong'


Characteristics of this binary (from libperl): 
  Compile-time options:
    DEBUGGING
    HAS_TIMES
    MULTIPLICITY
    PERLIO_LAYERS
    PERL_COPY_ON_WRITE
    PERL_DONT_CREATE_GVSV
    PERL_IMPLICIT_CONTEXT
    PERL_MALLOC_WRAP
    PERL_OP_PARENT
    PERL_PRESERVE_IVUV
    PERL_TRACK_MEMPOOL
    PERL_USE_DEVEL
    USE_64_BIT_ALL
    USE_64_BIT_INT
    USE_ITHREADS
    USE_LARGE_FILES
    USE_LOCALE
    USE_LOCALE_COLLATE
    USE_LOCALE_CTYPE
    USE_LOCALE_NUMERIC
    USE_LOCALE_TIME
    USE_PERLIO
    USE_PERL_ATOF
    USE_REENTRANT_API
  Built under linux
  Compiled at Dec  1 2018 01:46:31
  %ENV:
    PERL5LIB=""
    PERL5OPT=""
    PERL5_CPANPLUS_IS_RUNNING="21301"
    PERL5_CPAN_IS_RUNNING="21301"
    PERL_CANARY_STABILITY_NOPROMPT="1"
    PERL_MM_USE_DEFAULT="1"
    PERL_USE_UNSAFE_INC="1"
  @INC:
    /home/sand/src/perl/repoperls/installed-perls/host/k93msid/v5.26.3/29fb/lib/site_perl/5.26.3/x86_64-linux-thread-multi
    /home/sand/src/perl/repoperls/installed-perls/host/k93msid/v5.26.3/29fb/lib/site_perl/5.26.3
    /home/sand/src/perl/repoperls/installed-perls/host/k93msid/v5.26.3/29fb/lib/5.26.3/x86_64-linux-thread-multi
    /home/sand/src/perl/repoperls/installed-perls/host/k93msid/v5.26.3/29fb/lib/5.26.3
    .