Report for MozRepl-0.06

Back
From: metabase:user:838e5b0a-2bb6-1016-a696-43a2537fa0c6
Subject: PASS MozRepl-0.06 v5.14.4 Windows (Cygwin)
Date: 2015-08-14T17:21:34Z

This distribution has been tested as part of the CPAN Testers
project, supporting the Perl programming language.  See
http://wiki.cpantesters.org/ for more information or email
questions to cpan-testers-discuss@perl.org


--
Dear Toru Yamaguchi,

This is a computer-generated report for MozRepl-0.06
on perl 5.14.4, created by CPAN-Reporter-1.2014.

Thank you for uploading your work to CPAN.  Congratulations!
All tests were successful.

Sections of this report:

    * Tester comments
    * Program output
    * Prerequisites
    * Environment and other context

------------------------------
TESTER COMMENTS
------------------------------

Additional comments from tester:

this report is from an automated smoke testing program
and was not reviewed by a human for accuracy

------------------------------
PROGRAM OUTPUT
------------------------------

Output from '/usr/bin/make test':

"/usr/bin/perl.exe" "-Iinc" Makefile.PL --config= --installdeps=Class::Accessor::Fast,0,Class::Data::Inheritable,0,Data::JavaScript::Anon,0,Module::Pluggable::Fast,0,Net::Telnet,0,Template,0,Template::Provider::FromDATA,0,Text::SimpleTable,0,UNIVERSAL::require,0
PERL_DL_NONLAZY=1 "/usr/bin/perl.exe" "-MExtUtils::Command::MM" "-MTest::Harness" "-e" "undef *Test::Harness::Switches; test_harness(0, 'inc', 'blib/lib', 'blib/arch')" t/00-load.t t/10-plugin-repl-enter.t t/11-plugin-repl-search.t t/12-plugin-repl-inspect.t t/13-plugin-repl-load.t t/14-plugin-repl-rename.t t/15-plugin-repl-print.t t/16-plugin-repl-home.t t/17-plugin-repl-back.t t/18-plugin-repl-util-help_url_for.t t/19-plugin-repl-util-doc_for.t t/20-plugin-json.t t/pod-coverage.t t/pod.t
# Testing MozRepl 0.06
t/00-load.t ........................... ok
[DEBUG] MozRepl logging enabled
[DEBUG] 
---- Client arguments ----
.----------------------+------------------------------------------.
| client_arg_name      | client_arg_value                         |
+----------------------+------------------------------------------+
| host                 | localhost                                |
| port                 | 4242                                     |
| timeout              | 10                                       |
| extra_client_args    | { binmode => 1 }                         |
'----------------------+------------------------------------------'
t/10-plugin-repl-enter.t .............. ok
[DEBUG] MozRepl logging enabled
[DEBUG] 
---- Client arguments ----
.----------------------+------------------------------------------.
| client_arg_name      | client_arg_value                         |
+----------------------+------------------------------------------+
| host                 | localhost                                |
| port                 | 4242                                     |
| timeout              | 10                                       |
| extra_client_args    | { binmode => 1 }                         |
'----------------------+------------------------------------------'
t/11-plugin-repl-search.t ............. ok
[DEBUG] MozRepl logging enabled
[DEBUG] 
---- Client arguments ----
.----------------------+------------------------------------------.
| client_arg_name      | client_arg_value                         |
+----------------------+------------------------------------------+
| host                 | localhost                                |
| port                 | 4242                                     |
| timeout              | 10                                       |
| extra_client_args    | { binmode => 1 }                         |
'----------------------+------------------------------------------'
t/12-plugin-repl-inspect.t ............ ok
[DEBUG] MozRepl logging enabled
[DEBUG] 
---- Client arguments ----
.----------------------+------------------------------------------.
| client_arg_name      | client_arg_value                         |
+----------------------+------------------------------------------+
| host                 | localhost                                |
| port                 | 4242                                     |
| timeout              | 10                                       |
| extra_client_args    | { binmode => 1 }                         |
'----------------------+------------------------------------------'
t/13-plugin-repl-load.t ............... ok
[DEBUG] MozRepl logging enabled
[DEBUG] 
---- Client arguments ----
.----------------------+------------------------------------------.
| client_arg_name      | client_arg_value                         |
+----------------------+------------------------------------------+
| host                 | localhost                                |
| port                 | 4242                                     |
| timeout              | 10                                       |
| extra_client_args    | { binmode => 1 }                         |
'----------------------+------------------------------------------'
t/14-plugin-repl-rename.t ............. ok
[DEBUG] MozRepl logging enabled
[DEBUG] 
---- Client arguments ----
.----------------------+------------------------------------------.
| client_arg_name      | client_arg_value                         |
+----------------------+------------------------------------------+
| host                 | localhost                                |
| port                 | 4242                                     |
| timeout              | 10                                       |
| extra_client_args    | { binmode => 1 }                         |
'----------------------+------------------------------------------'
t/15-plugin-repl-print.t .............. ok
[DEBUG] MozRepl logging enabled
[DEBUG] 
---- Client arguments ----
.----------------------+------------------------------------------.
| client_arg_name      | client_arg_value                         |
+----------------------+------------------------------------------+
| host                 | localhost                                |
| port                 | 4242                                     |
| timeout              | 10                                       |
| extra_client_args    | { binmode => 1 }                         |
'----------------------+------------------------------------------'
t/16-plugin-repl-home.t ............... ok
[DEBUG] MozRepl logging enabled
[DEBUG] 
---- Client arguments ----
.----------------------+------------------------------------------.
| client_arg_name      | client_arg_value                         |
+----------------------+------------------------------------------+
| host                 | localhost                                |
| port                 | 4242                                     |
| timeout              | 10                                       |
| extra_client_args    | { binmode => 1 }                         |
'----------------------+------------------------------------------'
t/17-plugin-repl-back.t ............... ok
[DEBUG] MozRepl logging enabled
[DEBUG] 
---- Client arguments ----
.----------------------+------------------------------------------.
| client_arg_name      | client_arg_value                         |
+----------------------+------------------------------------------+
| host                 | localhost                                |
| port                 | 4242                                     |
| timeout              | 10                                       |
| extra_client_args    | { binmode => 1 }                         |
'----------------------+------------------------------------------'
t/18-plugin-repl-util-help_url_for.t .. ok
[DEBUG] MozRepl logging enabled
[DEBUG] 
---- Client arguments ----
.----------------------+------------------------------------------.
| client_arg_name      | client_arg_value                         |
+----------------------+------------------------------------------+
| host                 | localhost                                |
| port                 | 4242                                     |
| timeout              | 10                                       |
| extra_client_args    | { binmode => 1 }                         |
'----------------------+------------------------------------------'
t/19-plugin-repl-util-doc_for.t ....... ok
[DEBUG] MozRepl logging enabled
[DEBUG] 
---- Client arguments ----
.----------------------+------------------------------------------.
| client_arg_name      | client_arg_value                         |
+----------------------+------------------------------------------+
| host                 | localhost                                |
| port                 | 4242                                     |
| timeout              | 10                                       |
| extra_client_args    | { binmode => 1 }                         |
'----------------------+------------------------------------------'
t/20-plugin-json.t .................... ok
t/pod-coverage.t ...................... ok
t/pod.t ............................... ok
All tests successful.
Files=14, Tests=74, 23 wallclock secs ( 0.11 usr  0.19 sys +  3.18 cusr  7.82 csys = 11.29 CPU)
Result: PASS

------------------------------
PREREQUISITES
------------------------------

Prerequisite modules loaded:

requires:

    Module                       Need Have
    ---------------------------- ---- ----
    Carp::Clan                   0    6.04
    Class::Accessor::Fast        0    0.34
    Class::Data::Inheritable     0    0.08
    Data::Dump                   0    1.22
    Data::JavaScript::Anon       0    1.03
    File::Spec                   0    3.47
    Module::Pluggable::Fast      0    0.19
    Net::Telnet                  0    3.04
    Template                     0    2.26
    Template::Provider::FromDATA 0    0.13
    Text::SimpleTable            0    2.03
    UNIVERSAL::require           0    0.18
    URI                          0    1.67

build_requires:

    Module                       Need Have
    ---------------------------- ---- ----
    ExtUtils::MakeMaker          0    7.04


------------------------------
ENVIRONMENT AND OTHER CONTEXT
------------------------------

Environment variables:

    AUTOMATED_TESTING = 1
    COMSPEC = C:\Windows\system32\cmd.exe
    LANG = en_US.UTF-8
    LD_LIBRARY_PATH = /usr/lib/x86:/usr/X11R6/lib
    NUMBER_OF_PROCESSORS = 8
    PATH = /usr/local/bin:/usr/bin:/cygdrive/c/Program Files/Common Files/Microsoft Shared/Windows Live:/cygdrive/c/Program Files (x86)/Common Files/Microsoft Shared/Windows Live:/cygdrive/c/ProgramData/Oracle/Java/javapath:/cygdrive/c/Windows/system32:/cygdrive/c/Windows:/cygdrive/c/Windows/System32/Wbem:/cygdrive/c/Windows/System32/WindowsPowerShell/v1.0:/cygdrive/c/Windows/SUA/common:/cygdrive/c/Windows/SUA/usr/lib:/cygdrive/d/Program Files/SlikSvn/bin:/cygdrive/d/Strawberry/c/bin:/cygdrive/d/Strawberry/perl/site/bin:/cygdrive/d/Strawberry/perl/bin:/cygdrive/c/Program Files (x86)/Windows Live/Shared:/cygdrive/c/Program Files (x86)/Windows Kits/8.1/Windows Performance Toolkit:/cygdrive/c/Program Files/Microsoft SQL Server/110/Tools/Binn:/cygdrive/c/Program Files (x86)/Microsoft SDKs/TypeScript/1.0:/cygdrive/c/Program Files/Microsoft SQL Server/120/Tools/Binn:/cygdrive/c/Program Files (x86)/GNU/GnuPG/pub
    PERL5LIB = /home/davidlou/.cpan/build/Data-JavaScript-Anon-1.03-ah8Hxd/blib/arch:/home/davidlou/.cpan/build/Data-JavaScript-Anon-1.03-ah8Hxd/blib/lib:/home/davidlou/.cpan/build/Class-Default-1.51-PRUUPy/blib/arch:/home/davidlou/.cpan/build/Class-Default-1.51-PRUUPy/blib/lib:/home/davidlou/.cpan/build/Net-Telnet-3.04-3JYl7B/blib/arch:/home/davidlou/.cpan/build/Net-Telnet-3.04-3JYl7B/blib/lib:/home/davidlou/.cpan/build/Class-Data-Inheritable-0.08-qEWEAF/blib/arch:/home/davidlou/.cpan/build/Class-Data-Inheritable-0.08-qEWEAF/blib/lib:/home/davidlou/.cpan/build/Text-SimpleTable-2.03-bzf0DT/blib/arch:/home/davidlou/.cpan/build/Text-SimpleTable-2.03-bzf0DT/blib/lib:/home/davidlou/.cpan/build/Template-Provider-FromDATA-0.13-dHi2Ep/blib/arch:/home/davidlou/.cpan/build/Template-Provider-FromDATA-0.13-dHi2Ep/blib/lib:/home/davidlou/.cpan/build/Template-Toolkit-2.26-GyBdpl/blib/arch:/home/davidlou/.cpan/build/Template-Toolkit-2.26-GyBdpl/blib/lib:/home/davidlou/.cpan/build/AppConfig-1.71-JuRXyI/blib/arch:/home/davidlou/.cpan/build/AppConfig-1.71-JuRXyI/blib/lib:/home/davidlou/.cpan/build/Class-Accessor-0.34-ZttEz9/blib/arch:/home/davidlou/.cpan/build/Class-Accessor-0.34-ZttEz9/blib/lib:/home/davidlou/.cpan/build/Module-Pluggable-Fast-0.19-KtmwQw/blib/arch:/home/davidlou/.cpan/build/Module-Pluggable-Fast-0.19-KtmwQw/blib/lib:/home/davidlou/.cpan/build/UNIVERSAL-require-0.18-DlyHZU/blib/arch:/home/davidlou/.cpan/build/UNIVERSAL-require-0.18-DlyHZU/blib/lib:/home/davidlou/.cpan/build/Object-Import-1.004-K4h8cl/blib/arch:/home/davidlou/.cpan/build/Object-Import-1.004-K4h8cl/blib/lib:/home/davidlou/.cpan/build/Shell-Command-0.06-A2ZCEn/blib/arch:/home/davidlou/.cpan/build/Shell-Command-0.06-A2ZCEn/blib/lib:/home/davidlou/.cpan/build/WWW-Mechanize-1.75-qZmvpF/blib/arch:/home/davidlou/.cpan/build/WWW-Mechanize-1.75-qZmvpF/blib/lib:/home/davidlou/.cpan/build/HTML-Form-6.03-sNGj7D/blib/arch:/home/davidlou/.cpan/build/HTML-Form-6.03-sNGj7D/blib/lib:/home/davidlou/.cpan/build/HTTP-Server-Simple-0.50-HdyMR3/blib/arch:/home/davidlou/.cpan/build/HTTP-Server-Simple-0.50-HdyMR3/blib/lib:/home/davidlou/.cpan/build/CGI-4.21-KXL_Wh/blib/arch:/home/davidlou/.cpan/build/CGI-4.21-KXL_Wh/blib/lib:/home/davidlou/.cpan/build/HTML-Tree-5.03-jIoNdr/blib/arch:/home/davidlou/.cpan/build/HTML-Tree-5.03-jIoNdr/blib/lib
    PERL5OPT = 
    PERL5_CPANPLUS_IS_RUNNING = 6372
    PERL5_CPAN_IS_RUNNING = 6372
    PERL5_CPAN_IS_RUNNING_IN_RECURSION = 3788,6372
    PERL_CR_SMOKER_CURRENT = WWW-Mechanize-Firefox-Extended-0.03
    PERL_EXTUTILS_AUTOINSTALL = --defaultdeps
    PERL_MM_USE_DEFAULT = 1
    PROCESSOR_IDENTIFIER = Intel64 Family 6 Model 26 Stepping 5, GenuineIntel
    SHELL = /bin/bash
    TEMP = /tmp
    TERM = xterm

Perl special variables (and OS-specific diagnostics, for MSWin32):

    $^X = /usr/bin/perl
    $UID/$EUID = 11111 / 11111
    $GID = 10513 10513 197609 555 545 4 66049 11 15 4095 66048 11652 11131 11150 11645 11611 401408
    $EGID = 10513 10513 197609 555 545 4 66049 11 15 4095 66048 11652 11131 11150 11645 11611 401408

Perl module toolchain versions installed:

    Module              Have    
    ------------------- --------
    CPAN                2.10    
    CPAN::Meta          2.150001
    Cwd                 3.47    
    ExtUtils::CBuilder  0.280220
    ExtUtils::Command   1.17    
    ExtUtils::Install   1.56    
    ExtUtils::MakeMaker 7.04    
    ExtUtils::Manifest  1.70    
    ExtUtils::ParseXS   2.2210  
    File::Spec          3.47    
    JSON                2.90    
    JSON::PP            2.27300 
    Module::Build       0.4211  
    Module::Signature   0.78    
    Parse::CPAN::Meta   1.4414  
    Test::Harness       3.35    
    Test::More          1.001014
    YAML                1.15    
    YAML::Syck          n/a     
    version             0.88    


--

Summary of my perl5 (revision 5 version 14 subversion 4) configuration:
   
  Platform:
    osname=cygwin, osvers=1.7.35(0.28653), archname=cygwin-thread-multi
    uname='cygwin_nt-6.3 cygwin 1.7.35(0.28653) 2015-02-16 13:03 x86_64 cygwin '
    config_args='-d -e -Dprefix=/usr -Dmksymlinks -Dusethreads -Darchname=x86_64-cygwin-threads -Dlibperl=cygperl5_14.dll -Dcc=gcc -Dld=g++ -Accflags=-ggdb -O2 -pipe -Wimplicit-function-declaration -fdebug-prefix-map=/mnt/share/maint/perl.x86_64/build=/usr/src/debug/perl-5.14.4-3 -fdebug-prefix-map=/mnt/share/maint/perl.x86_64/src/perl-5.14.4=/usr/src/debug/perl-5.14.4-3 -fwrapv'
    hint=recommended, useposix=true, d_sigaction=define
    useithreads=define, usemultiplicity=define
    useperlio=define, d_sfio=undef, uselargefiles=define, usesocks=undef
    use64bitint=define, use64bitall=define, uselongdouble=undef
    usemymalloc=n, bincompat5005=undef
  Compiler:
    cc='gcc', ccflags ='-DPERL_USE_SAFE_PUTENV -U__STRICT_ANSI__ -ggdb -O2 -pipe -Wimplicit-function-declaration -fdebug-prefix-map=/mnt/share/maint/perl.x86_64/build=/usr/src/debug/perl-5.14.4-3 -fdebug-prefix-map=/mnt/share/maint/perl.x86_64/src/perl-5.14.4=/usr/src/debug/perl-5.14.4-3 -fwrapv -fno-strict-aliasing -fstack-protector',
    optimize='-O3',
    cppflags='-DPERL_USE_SAFE_PUTENV -U__STRICT_ANSI__ -ggdb -O2 -pipe -Wimplicit-function-declaration -fdebug-prefix-map=/mnt/share/maint/perl.x86_64/build=/usr/src/debug/perl-5.14.4-3 -fdebug-prefix-map=/mnt/share/maint/perl.x86_64/src/perl-5.14.4=/usr/src/debug/perl-5.14.4-3 -fwrapv -fno-strict-aliasing -fstack-protector'
    ccversion='', gccversion='4.9.2', gccosandvers=''
    intsize=4, longsize=8, ptrsize=8, doublesize=8, byteorder=12345678
    d_longlong=define, longlongsize=8, d_longdbl=define, longdblsize=16
    ivtype='long', ivsize=8, nvtype='double', nvsize=8, Off_t='off_t', lseeksize=8
    alignbytes=8, prototype=define
  Linker and Libraries:
    ld='g++', ldflags =' -Wl,--enable-auto-import -Wl,--export-all-symbols -Wl,--enable-auto-image-base -fstack-protector -L/usr/local/lib'
    libpth=/usr/local/lib /usr/lib /lib
    libs=-lgdbm -ldb -ldl -lcrypt -lgdbm_compat
    perllibs=-ldl -lcrypt
    libc=/usr/lib/libc.a, so=dll, useshrplib=true, libperl=cygperl5_14.dll
    gnulibc_version=''
  Dynamic Linking:
    dlsrc=dl_dlopen.xs, dlext=dll, d_dlsymun=undef, ccdlflags=' '
    cccdlflags=' ', lddlflags=' --shared  -Wl,--enable-auto-import -Wl,--export-all-symbols -Wl,--enable-auto-image-base -L/usr/local/lib -fstack-protector'


Characteristics of this binary (from libperl): 
  Compile-time options: MULTIPLICITY PERL_DONT_CREATE_GVSV
                        PERL_IMPLICIT_CONTEXT PERL_PRESERVE_IVUV
                        PERL_USE_SAFE_PUTENV USE_64_BIT_ALL USE_64_BIT_INT
                        USE_ITHREADS USE_LARGE_FILES USE_PERLIO USE_PERL_ATOF
                        USE_REENTRANT_API
  Locally applied patches:
	rurban/0c612ce82        Fix building static extensions on cygwin, -UUSEIMPORTLIB
	perl.cygwin_autorebase  Rebase DLL after building (skip for cygport builds)
	v5.14.0-RC2-6-gfc6f691  skip testing cygwin utf8 readdir() with Win32 ANSI API
	v5.14.0-RC2-7-g3877b86  Fix test 50 on cygwin: \WINDOWS
	v5.14.0-RC2-10-gd22b5bd revert +x global.sym from 3691eaa79cc6a
	v5.15.0-579-g8375c93    Export store_cop_label for the perl compiler
	v5.15.3-232-g1bac5ec    sv.c: S_anonymise_cv_maybe UTF8 cleanup.
	v5.15.7-75-g803e389     CYG17 utf8 paths
	v5.15.7-302-g5bc802d    Revise perlcygwin.pod for cygwin-1.7
	v5.15.7-303-g286f819    add Cygwin::sync_winenv [perl #110190]
	v5.19.8-494-g6cc44f6    avoid a "FILE" name conflict with cygwin's wchar.h
	v5.19.8-496-g3383030    [perl #120936] op/taint.t handling of no ipcsysv on cygwin
	v5.19.8-509-g288d0d9    cygwin doesn't implement $^E (except as a read of $!)
	v5.21.4-548-g860874c    wrap the failing call_checker test in an eval and TODO it
  Built under cygwin
  Compiled at Feb 17 2015 21:41:24
  %ENV:
    PERL5LIB="/home/davidlou/.cpan/build/Data-JavaScript-Anon-1.03-ah8Hxd/blib/arch:/home/davidlou/.cpan/build/Data-JavaScript-Anon-1.03-ah8Hxd/blib/lib:/home/davidlou/.cpan/build/Class-Default-1.51-PRUUPy/blib/arch:/home/davidlou/.cpan/build/Class-Default-1.51-PRUUPy/blib/lib:/home/davidlou/.cpan/build/Net-Telnet-3.04-3JYl7B/blib/arch:/home/davidlou/.cpan/build/Net-Telnet-3.04-3JYl7B/blib/lib:/home/davidlou/.cpan/build/Class-Data-Inheritable-0.08-qEWEAF/blib/arch:/home/davidlou/.cpan/build/Class-Data-Inheritable-0.08-qEWEAF/blib/lib:/home/davidlou/.cpan/build/Text-SimpleTable-2.03-bzf0DT/blib/arch:/home/davidlou/.cpan/build/Text-SimpleTable-2.03-bzf0DT/blib/lib:/home/davidlou/.cpan/build/Template-Provider-FromDATA-0.13-dHi2Ep/blib/arch:/home/davidlou/.cpan/build/Template-Provider-FromDATA-0.13-dHi2Ep/blib/lib:/home/davidlou/.cpan/build/Template-Toolkit-2.26-GyBdpl/blib/arch:/home/davidlou/.cpan/build/Template-Toolkit-2.26-GyBdpl/blib/lib:/home/davidlou/.cpan/build/AppConfig-1.71-JuRXyI/blib/arch:/home/davidlou/.cpan/build/AppConfig-1.71-JuRXyI/blib/lib:/home/davidlou/.cpan/build/Class-Accessor-0.34-ZttEz9/blib/arch:/home/davidlou/.cpan/build/Class-Accessor-0.34-ZttEz9/blib/lib:/home/davidlou/.cpan/build/Module-Pluggable-Fast-0.19-KtmwQw/blib/arch:/home/davidlou/.cpan/build/Module-Pluggable-Fast-0.19-KtmwQw/blib/lib:/home/davidlou/.cpan/build/UNIVERSAL-require-0.18-DlyHZU/blib/arch:/home/davidlou/.cpan/build/UNIVERSAL-require-0.18-DlyHZU/blib/lib:/home/davidlou/.cpan/build/Object-Import-1.004-K4h8cl/blib/arch:/home/davidlou/.cpan/build/Object-Import-1.004-K4h8cl/blib/lib:/home/davidlou/.cpan/build/Shell-Command-0.06-A2ZCEn/blib/arch:/home/davidlou/.cpan/build/Shell-Command-0.06-A2ZCEn/blib/lib:/home/davidlou/.cpan/build/WWW-Mechanize-1.75-qZmvpF/blib/arch:/home/davidlou/.cpan/build/WWW-Mechanize-1.75-qZmvpF/blib/lib:/home/davidlou/.cpan/build/HTML-Form-6.03-sNGj7D/blib/arch:/home/davidlou/.cpan/build/HTML-Form-6.03-sNGj7D/blib/lib:/home/davidlou/.cpan/build/HTTP-Server-Simple-0.50-HdyMR3/blib/arch:/home/davidlou/.cpan/build/HTTP-Server-Simple-0.50-HdyMR3/blib/lib:/home/davidlou/.cpan/build/CGI-4.21-KXL_Wh/blib/arch:/home/davidlou/.cpan/build/CGI-4.21-KXL_Wh/blib/lib:/home/davidlou/.cpan/build/HTML-Tree-5.03-jIoNdr/blib/arch:/home/davidlou/.cpan/build/HTML-Tree-5.03-jIoNdr/blib/lib"
    PERL5OPT=""
    PERL5_CPANPLUS_IS_RUNNING="6372"
    PERL5_CPAN_IS_RUNNING="6372"
    PERL5_CPAN_IS_RUNNING_IN_RECURSION="3788,6372"
    PERL_CR_SMOKER_CURRENT="WWW-Mechanize-Firefox-Extended-0.03"
    PERL_EXTUTILS_AUTOINSTALL="--defaultdeps"
    PERL_MM_USE_DEFAULT="1"
  @INC:
    /home/davidlou/.cpan/build/Data-JavaScript-Anon-1.03-ah8Hxd/blib/arch
    /home/davidlou/.cpan/build/Data-JavaScript-Anon-1.03-ah8Hxd/blib/lib
    /home/davidlou/.cpan/build/Class-Default-1.51-PRUUPy/blib/arch
    /home/davidlou/.cpan/build/Class-Default-1.51-PRUUPy/blib/lib
    /home/davidlou/.cpan/build/Net-Telnet-3.04-3JYl7B/blib/arch
    /home/davidlou/.cpan/build/Net-Telnet-3.04-3JYl7B/blib/lib
    /home/davidlou/.cpan/build/Class-Data-Inheritable-0.08-qEWEAF/blib/arch
    /home/davidlou/.cpan/build/Class-Data-Inheritable-0.08-qEWEAF/blib/lib
    /home/davidlou/.cpan/build/Text-SimpleTable-2.03-bzf0DT/blib/arch
    /home/davidlou/.cpan/build/Text-SimpleTable-2.03-bzf0DT/blib/lib
    /home/davidlou/.cpan/build/Template-Provider-FromDATA-0.13-dHi2Ep/blib/arch
    /home/davidlou/.cpan/build/Template-Provider-FromDATA-0.13-dHi2Ep/blib/lib
    /home/davidlou/.cpan/build/Template-Toolkit-2.26-GyBdpl/blib/arch
    /home/davidlou/.cpan/build/Template-Toolkit-2.26-GyBdpl/blib/lib
    /home/davidlou/.cpan/build/AppConfig-1.71-JuRXyI/blib/arch
    /home/davidlou/.cpan/build/AppConfig-1.71-JuRXyI/blib/lib
    /home/davidlou/.cpan/build/Class-Accessor-0.34-ZttEz9/blib/arch
    /home/davidlou/.cpan/build/Class-Accessor-0.34-ZttEz9/blib/lib
    /home/davidlou/.cpan/build/Module-Pluggable-Fast-0.19-KtmwQw/blib/arch
    /home/davidlou/.cpan/build/Module-Pluggable-Fast-0.19-KtmwQw/blib/lib
    /home/davidlou/.cpan/build/UNIVERSAL-require-0.18-DlyHZU/blib/arch
    /home/davidlou/.cpan/build/UNIVERSAL-require-0.18-DlyHZU/blib/lib
    /home/davidlou/.cpan/build/Object-Import-1.004-K4h8cl/blib/arch
    /home/davidlou/.cpan/build/Object-Import-1.004-K4h8cl/blib/lib
    /home/davidlou/.cpan/build/Shell-Command-0.06-A2ZCEn/blib/arch
    /home/davidlou/.cpan/build/Shell-Command-0.06-A2ZCEn/blib/lib
    /home/davidlou/.cpan/build/WWW-Mechanize-1.75-qZmvpF/blib/arch
    /home/davidlou/.cpan/build/WWW-Mechanize-1.75-qZmvpF/blib/lib
    /home/davidlou/.cpan/build/HTML-Form-6.03-sNGj7D/blib/arch
    /home/davidlou/.cpan/build/HTML-Form-6.03-sNGj7D/blib/lib
    /home/davidlou/.cpan/build/HTTP-Server-Simple-0.50-HdyMR3/blib/arch
    /home/davidlou/.cpan/build/HTTP-Server-Simple-0.50-HdyMR3/blib/lib
    /home/davidlou/.cpan/build/CGI-4.21-KXL_Wh/blib/arch
    /home/davidlou/.cpan/build/CGI-4.21-KXL_Wh/blib/lib
    /home/davidlou/.cpan/build/HTML-Tree-5.03-jIoNdr/blib/arch
    /home/davidlou/.cpan/build/HTML-Tree-5.03-jIoNdr/blib/lib
    /usr/lib/perl5/site_perl/5.14/x86_64-cygwin-threads
    /usr/lib/perl5/site_perl/5.14
    /usr/lib/perl5/vendor_perl/5.14/x86_64-cygwin-threads
    /usr/lib/perl5/vendor_perl/5.14
    /usr/lib/perl5/5.14/x86_64-cygwin-threads
    /usr/lib/perl5/5.14
    .