AnyEvent v7.17 Perl 5 v5.34.0 x86_64-linux

Status
Pass
From
Dagfinn Ilmari Mannsåker
Dist
AnyEvent v7.17
Platform
Perl 5 v5.34.0 x86_64-linux
Date
2021-05-21 01:31:07
ID
371fabc8-b9d4-11eb-9db0-9f4bc4b231f8
This distribution has been tested as part of the CPAN Testers
project, supporting the Perl programming language.  See
http://wiki.cpantesters.org/ for more information or email
questions to cpan-testers-discuss@perl.org


--
Dear MLEHMANN,

This is a computer-generated report for AnyEvent-7.17
on perl 5.34.0, created by App::cpanminus::reporter 0.17 (1.7044).

Thank you for uploading your work to CPAN.  Congratulations!
All tests were successful.

Sections of this report:

    * Tester comments
    * Program output
    * Prerequisites
    * Environment and other context

------------------------------
TESTER COMMENTS
------------------------------

Additional comments from tester:

none provided

------------------------------
PROGRAM OUTPUT
------------------------------

Output from '':

Building and testing AnyEvent-7.17
cp lib/AnyEvent/Impl/EventLib.pm blib/lib/AnyEvent/Impl/EventLib.pm
cp lib/AnyEvent/constants.pl blib/arch/AnyEvent/constants.pl
cp lib/AnyEvent/Impl/Glib.pm blib/lib/AnyEvent/Impl/Glib.pm
cp lib/AnyEvent/Loop.pm blib/lib/AnyEvent/Loop.pm
cp lib/AnyEvent/Impl/EV.pm blib/lib/AnyEvent/Impl/EV.pm
cp lib/AnyEvent/IO/Perl.pm blib/lib/AnyEvent/IO/Perl.pm
cp lib/AnyEvent/Util.pm blib/lib/AnyEvent/Util.pm
cp lib/AnyEvent/Impl/FLTK.pm blib/lib/AnyEvent/Impl/FLTK.pm
cp lib/AnyEvent/IO.pm blib/lib/AnyEvent/IO.pm
cp lib/AnyEvent/Impl/Event.pm blib/lib/AnyEvent/Impl/Event.pm
cp lib/AnyEvent/Impl/POE.pm blib/lib/AnyEvent/Impl/POE.pm
cp lib/AnyEvent/Impl/UV.pm blib/lib/AnyEvent/Impl/UV.pm
cp lib/AnyEvent/Impl/Tk.pm blib/lib/AnyEvent/Impl/Tk.pm
cp lib/AnyEvent/Util/uts46data.pl blib/lib/AnyEvent/Util/uts46data.pl
cp lib/AE.pm blib/lib/AE.pm
cp lib/AnyEvent/TLS.pm blib/lib/AnyEvent/TLS.pm
cp lib/AnyEvent/Socket.pm blib/lib/AnyEvent/Socket.pm
cp lib/AnyEvent/Impl/Cocoa.pm blib/lib/AnyEvent/Impl/Cocoa.pm
cp lib/AnyEvent/DNS.pm blib/lib/AnyEvent/DNS.pm
cp lib/AnyEvent/Impl/IOAsync.pm blib/lib/AnyEvent/Impl/IOAsync.pm
cp lib/AnyEvent/Intro.pod blib/lib/AnyEvent/Intro.pod
cp lib/AnyEvent/Impl/Irssi.pm blib/lib/AnyEvent/Impl/Irssi.pm
cp lib/AnyEvent/Handle.pm blib/lib/AnyEvent/Handle.pm
cp lib/AnyEvent/FAQ.pod blib/lib/AnyEvent/FAQ.pod
cp lib/AnyEvent/Strict.pm blib/lib/AnyEvent/Strict.pm
cp lib/AnyEvent/Debug.pm blib/lib/AnyEvent/Debug.pm
cp lib/AnyEvent.pm blib/lib/AnyEvent.pm
cp lib/AnyEvent/IO/IOAIO.pm blib/lib/AnyEvent/IO/IOAIO.pm
cp lib/AnyEvent/Log.pm blib/lib/AnyEvent/Log.pm
cp lib/AnyEvent/Impl/Qt.pm blib/lib/AnyEvent/Impl/Qt.pm
cp lib/AnyEvent/Impl/Perl.pm blib/lib/AnyEvent/Impl/Perl.pm
cp lib/AnyEvent/Util/idna.pl blib/lib/AnyEvent/Util/idna.pl
"/home/ilmari/perl5/perlbrew/perls/34.0/bin/perl" "-Iblib/arch" "-Iblib/lib" constants.pl.PL constants.pl 
Skip blib/lib/AnyEvent/Impl/POE.pm (unchanged)
Skip blib/lib/AnyEvent/Socket.pm (unchanged)
Skip blib/lib/AnyEvent/Intro.pod (unchanged)
Skip blib/lib/AnyEvent/Impl/Event.pm (unchanged)
Skip blib/lib/AE.pm (unchanged)
Skip blib/lib/AnyEvent/Util.pm (unchanged)
Skip blib/lib/AnyEvent/Util/uts46data.pl (unchanged)
Skip blib/lib/AnyEvent/Impl/Tk.pm (unchanged)
Skip blib/lib/AnyEvent/IO/IOAIO.pm (unchanged)
Skip blib/lib/AnyEvent/TLS.pm (unchanged)
Skip blib/lib/AnyEvent/Debug.pm (unchanged)
Skip blib/lib/AnyEvent/IO/Perl.pm (unchanged)
Skip blib/lib/AnyEvent/Impl/Irssi.pm (unchanged)
Skip blib/lib/AnyEvent/DNS.pm (unchanged)
Skip blib/lib/AnyEvent/IO.pm (unchanged)
Skip blib/lib/AnyEvent/Impl/Cocoa.pm (unchanged)
Skip blib/lib/AnyEvent/Impl/IOAsync.pm (unchanged)
Skip blib/lib/AnyEvent/Log.pm (unchanged)
Skip blib/lib/AnyEvent/Handle.pm (unchanged)
Skip blib/lib/AnyEvent/Impl/UV.pm (unchanged)
Skip blib/lib/AnyEvent/Impl/EventLib.pm (unchanged)
Skip blib/lib/AnyEvent/FAQ.pod (unchanged)
Skip blib/lib/AnyEvent.pm (unchanged)
Skip blib/lib/AnyEvent/Impl/Qt.pm (unchanged)
cp lib/AnyEvent/constants.pl blib/arch/AnyEvent/constants.pl
Skip blib/lib/AnyEvent/Util/idna.pl (unchanged)
Skip blib/lib/AnyEvent/Impl/FLTK.pm (unchanged)
Skip blib/lib/AnyEvent/Impl/Perl.pm (unchanged)
Skip blib/lib/AnyEvent/Impl/EV.pm (unchanged)
Skip blib/lib/AnyEvent/Strict.pm (unchanged)
Skip blib/lib/AnyEvent/Loop.pm (unchanged)
Skip blib/lib/AnyEvent/Impl/Glib.pm (unchanged)
"/home/ilmari/perl5/perlbrew/perls/34.0/bin/perl" "-Iblib/arch" "-Iblib/lib" constants.pl.PL constants.pl 
PERL_DL_NONLAZY=1 "/home/ilmari/perl5/perlbrew/perls/34.0/bin/perl" "-MExtUtils::Command::MM" "-MTest::Harness" "-e" "undef *Test::Harness::Switches; test_harness(0, 'blib/lib', 'blib/arch')" t/*.t t/handle/*.t
t/00_load.t ................ ok
t/01_basic.t ............... ok
t/02_signals.t ............. ok
t/03_child.t ............... ok
t/04_condvar.t ............. ok
t/05_dns.t ................. ok
t/06_socket.t .............. ok
t/07_io.t .................. ok
t/08_idna.t ................ ok
t/09_multi.t ............... ok
t/10_loadall.t ............. ok
t/11_io_perl.t ............. ok
t/12_io_ioaio.t ............ skipped: AnyEvent::IO::IOAIO not loadable
t/13_weaken.t .............. ok
t/61_fltk_01_basic.t ....... skipped: PERL_ANYEVENT_LOOP_TESTS not true
t/61_fltk_02_signals.t ..... skipped: PERL_ANYEVENT_LOOP_TESTS not true
t/61_fltk_03_child.t ....... skipped: PERL_ANYEVENT_LOOP_TESTS not true
t/61_fltk_04_condvar.t ..... skipped: PERL_ANYEVENT_LOOP_TESTS not true
t/61_fltk_05_dns.t ......... skipped: PERL_ANYEVENT_LOOP_TESTS not true
t/61_fltk_07_io.t .......... skipped: PERL_ANYEVENT_LOOP_TESTS not true
t/61_fltk_09_multi.t ....... skipped: PERL_ANYEVENT_LOOP_TESTS not true
t/62_cocoa_01_basic.t ...... skipped: PERL_ANYEVENT_LOOP_TESTS not true
t/62_cocoa_02_signals.t .... skipped: PERL_ANYEVENT_LOOP_TESTS not true
t/62_cocoa_03_child.t ...... skipped: PERL_ANYEVENT_LOOP_TESTS not true
t/62_cocoa_04_condvar.t .... skipped: PERL_ANYEVENT_LOOP_TESTS not true
t/62_cocoa_05_dns.t ........ skipped: PERL_ANYEVENT_LOOP_TESTS not true
t/62_cocoa_07_io.t ......... skipped: PERL_ANYEVENT_LOOP_TESTS not true
t/62_cocoa_09_multi.t ...... skipped: PERL_ANYEVENT_LOOP_TESTS not true
t/64_glib_01_basic.t ....... skipped: PERL_ANYEVENT_LOOP_TESTS not true
t/64_glib_02_signals.t ..... skipped: PERL_ANYEVENT_LOOP_TESTS not true
t/64_glib_03_child.t ....... skipped: PERL_ANYEVENT_LOOP_TESTS not true
t/64_glib_04_condvar.t ..... skipped: PERL_ANYEVENT_LOOP_TESTS not true
t/64_glib_05_dns.t ......... skipped: PERL_ANYEVENT_LOOP_TESTS not true
t/64_glib_07_io.t .......... skipped: PERL_ANYEVENT_LOOP_TESTS not true
t/64_glib_09_multi.t ....... skipped: PERL_ANYEVENT_LOOP_TESTS not true
t/65_event_01_basic.t ...... skipped: PERL_ANYEVENT_LOOP_TESTS not true
t/65_event_02_signals.t .... skipped: PERL_ANYEVENT_LOOP_TESTS not true
t/65_event_03_child.t ...... skipped: PERL_ANYEVENT_LOOP_TESTS not true
t/65_event_04_condvar.t .... skipped: PERL_ANYEVENT_LOOP_TESTS not true
t/65_event_05_dns.t ........ skipped: PERL_ANYEVENT_LOOP_TESTS not true
t/65_event_07_io.t ......... skipped: PERL_ANYEVENT_LOOP_TESTS not true
t/65_event_09_multi.t ...... skipped: PERL_ANYEVENT_LOOP_TESTS not true
t/66_ioasync_01_basic.t .... skipped: PERL_ANYEVENT_LOOP_TESTS not true
t/66_ioasync_02_signals.t .. skipped: PERL_ANYEVENT_LOOP_TESTS not true
t/66_ioasync_03_child.t .... skipped: PERL_ANYEVENT_LOOP_TESTS not true
t/66_ioasync_04_condvar.t .. skipped: PERL_ANYEVENT_LOOP_TESTS not true
t/66_ioasync_05_dns.t ...... skipped: PERL_ANYEVENT_LOOP_TESTS not true
t/66_ioasync_07_io.t ....... skipped: PERL_ANYEVENT_LOOP_TESTS not true
t/66_ioasync_09_multi.t .... skipped: PERL_ANYEVENT_LOOP_TESTS not true
t/67_tk_01_basic.t ......... skipped: PERL_ANYEVENT_LOOP_TESTS not true
t/67_tk_02_signals.t ....... skipped: PERL_ANYEVENT_LOOP_TESTS not true
t/67_tk_03_child.t ......... skipped: PERL_ANYEVENT_LOOP_TESTS not true
t/67_tk_04_condvar.t ....... skipped: PERL_ANYEVENT_LOOP_TESTS not true
t/67_tk_05_dns.t ........... skipped: PERL_ANYEVENT_LOOP_TESTS not true
t/67_tk_07_io.t ............ skipped: PERL_ANYEVENT_LOOP_TESTS not true
t/67_tk_09_multi.t ......... skipped: PERL_ANYEVENT_LOOP_TESTS not true
t/68_poe_01_basic.t ........ skipped: PERL_ANYEVENT_LOOP_TESTS not true
t/68_poe_02_signals.t ...... skipped: PERL_ANYEVENT_LOOP_TESTS not true
t/68_poe_03_child.t ........ skipped: PERL_ANYEVENT_LOOP_TESTS not true
t/68_poe_04_condvar.t ...... skipped: PERL_ANYEVENT_LOOP_TESTS not true
t/68_poe_05_dns.t .......... skipped: PERL_ANYEVENT_LOOP_TESTS not true
t/68_poe_07_io.t ........... skipped: PERL_ANYEVENT_LOOP_TESTS not true
t/68_poe_09_multi.t ........ skipped: PERL_ANYEVENT_LOOP_TESTS not true
t/69_ev_01_basic.t ......... skipped: PERL_ANYEVENT_LOOP_TESTS not true
t/69_ev_02_signals.t ....... skipped: PERL_ANYEVENT_LOOP_TESTS not true
t/69_ev_03_child.t ......... skipped: PERL_ANYEVENT_LOOP_TESTS not true
t/69_ev_04_condvar.t ....... skipped: PERL_ANYEVENT_LOOP_TESTS not true
t/69_ev_05_dns.t ........... skipped: PERL_ANYEVENT_LOOP_TESTS not true
t/69_ev_07_io.t ............ skipped: PERL_ANYEVENT_LOOP_TESTS not true
t/69_ev_09_multi.t ......... skipped: PERL_ANYEVENT_LOOP_TESTS not true
t/70_uv_01_basic.t ......... skipped: PERL_ANYEVENT_LOOP_TESTS not true
t/70_uv_02_signals.t ....... skipped: PERL_ANYEVENT_LOOP_TESTS not true
t/70_uv_03_child.t ......... skipped: PERL_ANYEVENT_LOOP_TESTS not true
t/70_uv_04_condvar.t ....... skipped: PERL_ANYEVENT_LOOP_TESTS not true
t/70_uv_05_dns.t ........... skipped: PERL_ANYEVENT_LOOP_TESTS not true
t/70_uv_07_io.t ............ skipped: PERL_ANYEVENT_LOOP_TESTS not true
t/70_uv_09_multi.t ......... skipped: PERL_ANYEVENT_LOOP_TESTS not true
t/80_ssltest.t ............. skipped: no usable Net::SSLeay
t/81_hosts.t ............... ok
t/handle/01_readline.t ..... ok
t/handle/02_write.t ........ ok
t/handle/03_http_req.t ..... skipped: PERL_ANYEVENT_NET_TESTS environment variable not set
t/handle/04_listen.t ....... ok
All tests successful.
Files=83, Tests=257,  5 wallclock secs ( 0.20 usr  0.04 sys +  1.28 cusr  0.26 csys =  1.78 CPU)
Result: PASS

------------------------------
PREREQUISITES
------------------------------

Prerequisite modules loaded:

    No requirements found

------------------------------
ENVIRONMENT AND OTHER CONTEXT
------------------------------

Environment variables:

    LANG = en_GB.UTF-8
    PATH = /home/ilmari/.perlbrew/libs/34.0@std/bin:/home/ilmari/perl5/perlbrew/bin:/home/ilmari/perl5/perlbrew/perls/34.0/bin:/home/ilmari/.perlbrew/libs/32.0@std/bin:/home/ilmari/perl5/perlbrew/bin:/home/ilmari/perl5/perlbrew/perls/32.0/bin:/home/ilmari/.pyenv/bin:/home/ilmari/.local/bin:/home/ilmari/.cargo/bin:/usr/lib/ccache:/home/ilmari/bin:/usr/local/bin:/usr/bin:/bin:/usr/local/games:/usr/games
    PERL5LIB = /home/ilmari/.perlbrew/libs/34.0@std/lib/perl5
    PERLBREW_HOME = /home/ilmari/.perlbrew
    PERLBREW_LIB = std
    PERLBREW_MANPATH = /home/ilmari/.perlbrew/libs/34.0@std/man:/home/ilmari/perl5/perlbrew/perls/34.0/man
    PERLBREW_PATH = /home/ilmari/.perlbrew/libs/34.0@std/bin:/home/ilmari/perl5/perlbrew/bin:/home/ilmari/perl5/perlbrew/perls/34.0/bin
    PERLBREW_PERL = 34.0
    PERLBREW_ROOT = /home/ilmari/perl5/perlbrew
    PERLBREW_SHELLRC_VERSION = 0.82
    PERLBREW_VERSION = 0.88
    PERL_LOCAL_LIB_ROOT = /home/ilmari/.perlbrew/libs/34.0@std
    PERL_MB_OPT = --install_base "/home/ilmari/.perlbrew/libs/34.0@std"
    PERL_MM_OPT = INSTALL_BASE=/home/ilmari/.perlbrew/libs/34.0@std
    SHELL = /bin/bash
    TERM = xterm-256color

Perl special variables (and OS-specific diagnostics, for MSWin32):

    EGID = 1000 4 24 25 27 29 30 44 46 50 108 114 128 129 999 1000
    EUID = 1000
    EXECUTABLE_NAME = /home/ilmari/perl5/perlbrew/perls/34.0/bin/perl
    GID = 1000 4 24 25 27 29 30 44 46 50 108 114 128 129 999 1000
    UID = 1000

Perl module toolchain versions installed:

    Module              Have    
    ------------------- --------
    CPAN                2.28    
    CPAN::Meta          2.150010
    Cwd                 3.80    
    ExtUtils::CBuilder  0.280236
    ExtUtils::Command   7.62    
    ExtUtils::Install   2.20    
    ExtUtils::MakeMaker 7.62    
    ExtUtils::Manifest  1.73    
    ExtUtils::ParseXS   3.43    
    File::Spec          3.80    
    JSON                4.03    
    JSON::PP            4.06    
    Module::Build       0.4231  
    Module::Signature   n/a     
    Parse::CPAN::Meta   2.150010
    Test::Harness       3.43    
    Test::More          1.302185
    YAML                1.30    
    YAML::Syck          n/a     
    version             0.9928  


--

Summary of my perl5 (revision 5 version 34 subversion 0) configuration:
   
  Platform:
    osname=linux
    osvers=5.10.0-0.bpo.5-amd64
    archname=x86_64-linux
    uname='linux ilmari-thinkpad 5.10.0-0.bpo.5-amd64 #1 smp debian 5.10.24-1~bpo10+1 (2021-03-29) x86_64 gnulinux '
    config_args='-de -Dprefix=/home/ilmari/perl5/perlbrew/perls/34.0 -Duseshrplib -Dman1dir=none -Dman3dir=none -Aeval:scriptdir=/home/ilmari/perl5/perlbrew/perls/34.0/bin'
    hint=recommended
    useposix=true
    d_sigaction=define
    useithreads=undef
    usemultiplicity=undef
    use64bitint=define
    use64bitall=define
    uselongdouble=undef
    usemymalloc=n
    default_inc_excludes_dot=define
  Compiler:
    cc='cc'
    ccflags ='-fwrapv -fno-strict-aliasing -pipe -fstack-protector-strong -I/usr/local/include -D_LARGEFILE_SOURCE -D_FILE_OFFSET_BITS=64 -D_FORTIFY_SOURCE=2'
    optimize='-O2'
    cppflags='-fwrapv -fno-strict-aliasing -pipe -fstack-protector-strong -I/usr/local/include'
    ccversion=''
    gccversion='8.3.0'
    gccosandvers=''
    intsize=4
    longsize=8
    ptrsize=8
    doublesize=8
    byteorder=12345678
    doublekind=3
    d_longlong=define
    longlongsize=8
    d_longdbl=define
    longdblsize=16
    longdblkind=3
    ivtype='long'
    ivsize=8
    nvtype='double'
    nvsize=8
    Off_t='off_t'
    lseeksize=8
    alignbytes=8
    prototype=define
  Linker and Libraries:
    ld='cc'
    ldflags =' -fstack-protector-strong -L/usr/local/lib'
    libpth=/usr/local/lib /usr/lib/x86_64-linux-gnu /usr/lib /lib/x86_64-linux-gnu /lib
    libs=-lpthread -lnsl -lgdbm -ldb -ldl -lm -lcrypt -lutil -lc
    perllibs=-lpthread -lnsl -ldl -lm -lcrypt -lutil -lc
    libc=libc-2.28.so
    so=so
    useshrplib=true
    libperl=libperl.so
    gnulibc_version='2.28'
  Dynamic Linking:
    dlsrc=dl_dlopen.xs
    dlext=so
    d_dlsymun=undef
    ccdlflags='-Wl,-E -Wl,-rpath,/home/ilmari/perl5/perlbrew/perls/34.0/lib/5.34.0/x86_64-linux/CORE'
    cccdlflags='-fPIC'
    lddlflags='-shared -O2 -L/usr/local/lib -fstack-protector-strong'


Characteristics of this binary (from libperl): 
  Compile-time options:
    HAS_TIMES
    PERLIO_LAYERS
    PERL_COPY_ON_WRITE
    PERL_DONT_CREATE_GVSV
    PERL_MALLOC_WRAP
    PERL_OP_PARENT
    PERL_PRESERVE_IVUV
    USE_64_BIT_ALL
    USE_64_BIT_INT
    USE_LARGE_FILES
    USE_LOCALE
    USE_LOCALE_COLLATE
    USE_LOCALE_CTYPE
    USE_LOCALE_NUMERIC
    USE_LOCALE_TIME
    USE_PERLIO
    USE_PERL_ATOF
  Built under linux
  Compiled at May 21 2021 00:00:34
  %ENV:
    PERL5LIB="/home/ilmari/.perlbrew/libs/34.0@std/lib/perl5"
    PERLBREW_HOME="/home/ilmari/.perlbrew"
    PERLBREW_LIB="std"
    PERLBREW_MANPATH="/home/ilmari/.perlbrew/libs/34.0@std/man:/home/ilmari/perl5/perlbrew/perls/34.0/man"
    PERLBREW_PATH="/home/ilmari/.perlbrew/libs/34.0@std/bin:/home/ilmari/perl5/perlbrew/bin:/home/ilmari/perl5/perlbrew/perls/34.0/bin"
    PERLBREW_PERL="34.0"
    PERLBREW_ROOT="/home/ilmari/perl5/perlbrew"
    PERLBREW_SHELLRC_VERSION="0.82"
    PERLBREW_VERSION="0.88"
    PERL_LOCAL_LIB_ROOT="/home/ilmari/.perlbrew/libs/34.0@std"
    PERL_MB_OPT="--install_base "/home/ilmari/.perlbrew/libs/34.0@std""
    PERL_MM_OPT="INSTALL_BASE=/home/ilmari/.perlbrew/libs/34.0@std"
  @INC:
    /home/ilmari/.perlbrew/libs/34.0@std/lib/perl5/x86_64-linux
    /home/ilmari/.perlbrew/libs/34.0@std/lib/perl5
    /home/ilmari/perl5/perlbrew/perls/34.0/lib/site_perl/5.34.0/x86_64-linux
    /home/ilmari/perl5/perlbrew/perls/34.0/lib/site_perl/5.34.0
    /home/ilmari/perl5/perlbrew/perls/34.0/lib/5.34.0/x86_64-linux
    /home/ilmari/perl5/perlbrew/perls/34.0/lib/5.34.0