AnyEvent-Filesys-Notify v1.21 Perl 5 v5.26.1 darwin-2level

Status
Pass
From
Slaven Rezić (SREZIC)
Dist
AnyEvent-Filesys-Notify v1.21
Platform
Perl 5 v5.26.1 darwin-2level
Date
2017-09-24 07:15:59
ID
371b81a4-a0f8-11e7-a2ac-b990ac3bd00c
This distribution has been tested as part of the CPAN Testers
project, supporting the Perl programming language.  See
http://wiki.cpantesters.org/ for more information or email
questions to cpan-testers-discuss@perl.org


--
Dear Mark Grimes,

This is a computer-generated report for AnyEvent-Filesys-Notify-1.21
on perl 5.26.1, created by CPAN-Reporter-1.2018.

Thank you for uploading your work to CPAN.  Congratulations!
All tests were successful.

Sections of this report:

    * Tester comments
    * Program output
    * Prerequisites
    * Environment and other context

------------------------------
TESTER COMMENTS
------------------------------

Additional comments from tester:

none provided

------------------------------
PROGRAM OUTPUT
------------------------------

Output from './Build test':

t/00-load.t ................ ok
t/10-plugins.t ............. ok
t/11-plugin-default.t ...... ok
t/20-scan_fs.t ............. ok
t/21-scan_fs_links.t ....... ok
# This might take a few seconds to run...
t/30-event.t ............... ok
# This might take a few seconds to run...
t/31-notify-fallback.t ..... ok
# This might take a few seconds to run...
t/32-specify-backend.t ..... ok
t/33-specify-kqueue.t ...... skipped: Test only on Mac with IO::KQueue
# This might take a few seconds to run...
t/34-parse_events.t ........ ok
t/40-bugs.t ................ ok
t/41-bug-modified-in-cb.t .. ok
All tests successful.
Files=12, Tests=93, 37 wallclock secs ( 0.05 usr  0.03 sys +  1.61 cusr  0.29 csys =  1.98 CPU)
Result: PASS

------------------------------
PREREQUISITES
------------------------------

Prerequisite modules loaded:

requires:

    Module                       Need     Have    
    ---------------------------- -------- --------
    AnyEvent                     7.05     7.14    
    Carp                         1.20     1.42    
    Cwd                          3.40     3.67    
    Mac::FSEvents                0.10     0.13    
    Moo                          1.003001 2.003002
    MooX::late                   0.014    0.015   
    MooX::Types::MooseLike::Base 0.25     0.29    
    namespace::autoclean         0.24     0.28    
    Path::Iterator::Rule         1.005    1.012   
    perl                         5.006    5.026001
    Try::Tiny                    0.18     0.28    

build_requires:

    Module                       Need     Have    
    ---------------------------- -------- --------
    autodie                      0        2.29    
    Data::Dump                   0        1.23    
    Exporter                     0        5.72    
    File::Basename               0        2.85    
    File::Find                   0        1.34    
    File::Path                   0        2.12_01 
    File::Spec                   0        3.67    
    File::Temp                   0        0.2304  
    Test::Exception              0        0.43    
    Test::More                   0.87     1.302096
    Test::Without::Module        0        0.20    

configure_requires:

    Module                       Need     Have    
    ---------------------------- -------- --------
    Module::Build                0.4004   0.4224  


------------------------------
ENVIRONMENT AND OTHER CONTEXT
------------------------------

Environment variables:

    LANG = de_DE.UTF-8
    PATH = /usr/local/bin:/usr/bin:/bin:/usr/local/sbin:/usr/sbin:/sbin:/Users/eserte/bin/darwin16.0:/Users/eserte/bin/sh:/Users/eserte/bin:/Users/eserte/bin/pistachio-perl/bin:/usr/games:/Users/eserte/devel:/Users/eserte/work/drafts-slaven.rezic/misc:/Users/eserte/src/srezic-misc/scripts
    PERL5LIB = /Users/eserte/.cpan/build/2017092406/Path-Iterator-Rule-1.012-1/blib/arch:/Users/eserte/.cpan/build/2017092406/Path-Iterator-Rule-1.012-1/blib/lib:/Users/eserte/.cpan/build/2017092406/Test-Filename-0.03-1/blib/arch:/Users/eserte/.cpan/build/2017092406/Test-Filename-0.03-1/blib/lib:/Users/eserte/.cpan/build/2017092406/MooX-late-0.015-3/blib/arch:/Users/eserte/.cpan/build/2017092406/MooX-late-0.015-3/blib/lib:/Users/eserte/.cpan/build/2017092406/Type-Tiny-1.002001-1/blib/arch:/Users/eserte/.cpan/build/2017092406/Type-Tiny-1.002001-1/blib/lib:/Users/eserte/.cpan/build/2017092406/MooX-Types-MooseLike-0.29-1/blib/arch:/Users/eserte/.cpan/build/2017092406/MooX-Types-MooseLike-0.29-1/blib/lib:/Users/eserte/.cpan/build/2017092406/Mac-FSEvents-0.13-3/blib/arch:/Users/eserte/.cpan/build/2017092406/Mac-FSEvents-0.13-3/blib/lib:/Users/eserte/.cpan/build/2017092406/AnyEvent-7.14-0/blib/arch:/Users/eserte/.cpan/build/2017092406/AnyEvent-7.14-0/blib/lib
    PERL5OPT = 
    PERL5_CPANPLUS_IS_RUNNING = 69128
    PERL5_CPAN_IS_RUNNING = 69128
    PERL5_CPAN_IS_RUNNING_IN_RECURSION = 62232,69128
    PERLDOC = -MPod::Perldoc::ToTextOverstrike
    PERL_BATCH = yes
    PERL_CANARY_STABILITY_NOPROMPT = 1
    PERL_CPAN_REPORTER_CONFIG = /var/tmp/cpansmoker-501/2017092406/cpanreporter_000_config.ini
    PERL_EXTUTILS_AUTOINSTALL = --defaultdeps
    PERL_USE_UNSAFE_INC = 1
    SHELL = /bin/zsh
    TERM = screen
    TMPDIR = /var/tmp/cpansmoker-501/2017092406

Perl special variables (and OS-specific diagnostics, for MSWin32):

    $^X = /opt/perl-5.26.1/bin/perl
    $UID/$EUID = 501 / 501
    $GID = 20 20 701 12 61 79 80 81 98 33 100 204 395 398 399
    $EGID = 20 20 701 12 61 79 80 81 98 33 100 204 395 398 399

Perl module toolchain versions installed:

    Module              Have      
    ------------------- ----------
    CPAN                2.18      
    CPAN::Meta          2.150010  
    Cwd                 3.67      
    ExtUtils::CBuilder  0.280225  
    ExtUtils::Command   7.24      
    ExtUtils::Install   2.04      
    ExtUtils::MakeMaker 7.24      
    ExtUtils::Manifest  1.70      
    ExtUtils::ParseXS   3.34      
    File::Spec          3.67      
    JSON                2.94      
    JSON::PP            2.27400_02
    Module::Build       0.4224    
    Module::Signature   0.81      
    Parse::CPAN::Meta   2.150010  
    Test::Harness       3.38      
    Test::More          1.302096  
    YAML                1.23      
    YAML::Syck          1.30      
    version             0.9917    


--

Summary of my perl5 (revision 5 version 26 subversion 1) configuration:
   
  Platform:
    osname=darwin
    osvers=16.7.0
    archname=darwin-2level
    uname='darwin macbook.herceg.de 16.7.0 darwin kernel version 16.7.0: thu jun 15 17:36:27 pdt 2017; root:xnu-3789.70.16~2release_x86_64 x86_64 '
    config_args='-ds -e -Dprefix=/opt/perl-5.26.1 -Dcf_email=srezic@cpan.org'
    hint=recommended
    useposix=true
    d_sigaction=define
    useithreads=undef
    usemultiplicity=undef
    use64bitint=define
    use64bitall=define
    uselongdouble=undef
    usemymalloc=n
    default_inc_excludes_dot=define
    bincompat5005=undef
  Compiler:
    cc='cc'
    ccflags ='-fno-common -DPERL_DARWIN -mmacosx-version-min=10.12 -fno-strict-aliasing -pipe -fstack-protector-strong -I/usr/local/include -DPERL_USE_SAFE_PUTENV'
    optimize='-O3'
    cppflags='-fno-common -DPERL_DARWIN -mmacosx-version-min=10.12 -fno-strict-aliasing -pipe -fstack-protector-strong -I/usr/local/include'
    ccversion=''
    gccversion='4.2.1 Compatible Apple LLVM 8.1.0 (clang-802.0.42)'
    gccosandvers=''
    intsize=4
    longsize=8
    ptrsize=8
    doublesize=8
    byteorder=12345678
    doublekind=3
    d_longlong=define
    longlongsize=8
    d_longdbl=define
    longdblsize=16
    longdblkind=3
    ivtype='long'
    ivsize=8
    nvtype='double'
    nvsize=8
    Off_t='off_t'
    lseeksize=8
    alignbytes=8
    prototype=define
  Linker and Libraries:
    ld='cc'
    ldflags =' -mmacosx-version-min=10.12 -fstack-protector-strong -L/usr/local/lib'
    libpth=/usr/local/lib /Library/Developer/CommandLineTools/usr/bin/../lib/clang/8.1.0/lib /Library/Developer/CommandLineTools/usr/lib /usr/lib
    libs=-lpthread -lgdbm -ldbm -ldb -ldl -lm -lutil -lc
    perllibs=-lpthread -ldl -lm -lutil -lc
    libc=
    so=dylib
    useshrplib=false
    libperl=libperl.a
    gnulibc_version=''
  Dynamic Linking:
    dlsrc=dl_dlopen.xs
    dlext=bundle
    d_dlsymun=undef
    ccdlflags=' '
    cccdlflags=' '
    lddlflags=' -mmacosx-version-min=10.12 -bundle -undefined dynamic_lookup -L/usr/local/lib -fstack-protector-strong'


Characteristics of this binary (from libperl): 
  Compile-time options:
    HAS_TIMES
    PERLIO_LAYERS
    PERL_COPY_ON_WRITE
    PERL_DONT_CREATE_GVSV
    PERL_MALLOC_WRAP
    PERL_OP_PARENT
    PERL_PRESERVE_IVUV
    PERL_USE_SAFE_PUTENV
    USE_64_BIT_ALL
    USE_64_BIT_INT
    USE_LARGE_FILES
    USE_LOCALE
    USE_LOCALE_COLLATE
    USE_LOCALE_CTYPE
    USE_LOCALE_NUMERIC
    USE_LOCALE_TIME
    USE_PERLIO
    USE_PERL_ATOF
  Built under darwin
  Compiled at Sep 23 2017 10:09:13
  %ENV:
    PERL5LIB="/Users/eserte/.cpan/build/2017092406/Path-Iterator-Rule-1.012-1/blib/arch:/Users/eserte/.cpan/build/2017092406/Path-Iterator-Rule-1.012-1/blib/lib:/Users/eserte/.cpan/build/2017092406/Test-Filename-0.03-1/blib/arch:/Users/eserte/.cpan/build/2017092406/Test-Filename-0.03-1/blib/lib:/Users/eserte/.cpan/build/2017092406/MooX-late-0.015-3/blib/arch:/Users/eserte/.cpan/build/2017092406/MooX-late-0.015-3/blib/lib:/Users/eserte/.cpan/build/2017092406/Type-Tiny-1.002001-1/blib/arch:/Users/eserte/.cpan/build/2017092406/Type-Tiny-1.002001-1/blib/lib:/Users/eserte/.cpan/build/2017092406/MooX-Types-MooseLike-0.29-1/blib/arch:/Users/eserte/.cpan/build/2017092406/MooX-Types-MooseLike-0.29-1/blib/lib:/Users/eserte/.cpan/build/2017092406/Mac-FSEvents-0.13-3/blib/arch:/Users/eserte/.cpan/build/2017092406/Mac-FSEvents-0.13-3/blib/lib:/Users/eserte/.cpan/build/2017092406/AnyEvent-7.14-0/blib/arch:/Users/eserte/.cpan/build/2017092406/AnyEvent-7.14-0/blib/lib"
    PERL5OPT=""
    PERL5_CPANPLUS_IS_RUNNING="69128"
    PERL5_CPAN_IS_RUNNING="69128"
    PERL5_CPAN_IS_RUNNING_IN_RECURSION="62232,69128"
    PERLDOC="-MPod::Perldoc::ToTextOverstrike"
    PERL_BATCH="yes"
    PERL_CANARY_STABILITY_NOPROMPT="1"
    PERL_CPAN_REPORTER_CONFIG="/var/tmp/cpansmoker-501/2017092406/cpanreporter_000_config.ini"
    PERL_EXTUTILS_AUTOINSTALL="--defaultdeps"
    PERL_USE_UNSAFE_INC="1"
  @INC:
    /Users/eserte/.cpan/build/2017092406/Path-Iterator-Rule-1.012-1/blib/arch
    /Users/eserte/.cpan/build/2017092406/Path-Iterator-Rule-1.012-1/blib/lib
    /Users/eserte/.cpan/build/2017092406/Test-Filename-0.03-1/blib/arch
    /Users/eserte/.cpan/build/2017092406/Test-Filename-0.03-1/blib/lib
    /Users/eserte/.cpan/build/2017092406/MooX-late-0.015-3/blib/arch
    /Users/eserte/.cpan/build/2017092406/MooX-late-0.015-3/blib/lib
    /Users/eserte/.cpan/build/2017092406/Type-Tiny-1.002001-1/blib/arch
    /Users/eserte/.cpan/build/2017092406/Type-Tiny-1.002001-1/blib/lib
    /Users/eserte/.cpan/build/2017092406/MooX-Types-MooseLike-0.29-1/blib/arch
    /Users/eserte/.cpan/build/2017092406/MooX-Types-MooseLike-0.29-1/blib/lib
    /Users/eserte/.cpan/build/2017092406/Mac-FSEvents-0.13-3/blib/arch
    /Users/eserte/.cpan/build/2017092406/Mac-FSEvents-0.13-3/blib/lib
    /Users/eserte/.cpan/build/2017092406/AnyEvent-7.14-0/blib/arch
    /Users/eserte/.cpan/build/2017092406/AnyEvent-7.14-0/blib/lib
    /opt/perl-5.26.1/lib/site_perl/5.26.1/darwin-2level
    /opt/perl-5.26.1/lib/site_perl/5.26.1
    /opt/perl-5.26.1/lib/5.26.1/darwin-2level
    /opt/perl-5.26.1/lib/5.26.1
    .