Alien-Base-ModuleBuild v1.17 Perl 5 v5.20.2 x86_64-linux-thread-multi

Status
Pass
From
Andreas J. König (ANDK)
Dist
Alien-Base-ModuleBuild v1.17
Platform
Perl 5 v5.20.2 x86_64-linux-thread-multi
Date
2024-03-19 16:39:11
ID
37183432-e60f-11ee-aa7b-03a48b51e742
This distribution has been tested as part of the CPAN Testers
project, supporting the Perl programming language.  See
http://wiki.cpantesters.org/ for more information or email
questions to cpan-testers-discuss@perl.org


--
Dear Graham Ollis,

This is a computer-generated report for Alien-Base-ModuleBuild-1.17
on perl 5.20.2, created by CPAN-Reporter-1.2019.

Thank you for uploading your work to CPAN.  Congratulations!
All tests were successful.

Sections of this report:

    * Tester comments
    * Program output
    * Prerequisites
    * Environment and other context

------------------------------
TESTER COMMENTS
------------------------------

Additional comments from tester:

this report is from an automated smoke testing program
and was not reviewed by a human for accuracy

------------------------------
PROGRAM OUTPUT
------------------------------

Output from './Build test':

# 
# 
# 
# HARNESS_ACTIVE=1
# HARNESS_VERSION=3.48
# LANG=en_US.UTF-8
# PERL5LIB=/tmp/loop_over_bdir-6445-YTAef7/Alien-Base-ModuleBuild-1.17-0/blib/lib:/tmp/loop_over_bdir-6445-YTAef7/Alien-Base-ModuleBuild-1.17-0/blib/arch:
# PERL5OPT=
# PERL5_CPANPLUS_IS_RUNNING=3815936
# PERL5_CPAN_IS_RUNNING=3815936
# PERL_CANARY_STABILITY_NOPROMPT=1
# PERL_DL_NONLAZY=1
# PERL_MM_USE_DEFAULT=1
# PERL_USE_UNSAFE_INC=1
# SHELL=/usr/bin/zsh
# 
# 
# 
# PERL5LIB path
# /tmp/loop_over_bdir-6445-YTAef7/Alien-Base-ModuleBuild-1.17-0/blib/lib
# /tmp/loop_over_bdir-6445-YTAef7/Alien-Base-ModuleBuild-1.17-0/blib/arch
# 
# 
# 
# perl                    5.020002 linux x86_64-linux-thread-multi
# Acme::Alien::DontPanic  -
# Acme::Alien::DontPanic2 -
# Alien::Base             2.80
# Alien::Base::PkgConfig  2.80
# Archive::Extract        0.88
# Archive::Tar            3.02
# Capture::Tiny           0.48
# Digest::SHA             6.04
# File::chdir             0.1011
# HTML::LinkExtor         3.81
# HTTP::Tiny              0.088
# LWP::UserAgent          6.73
# List::Util              1.63
# Module::Build           0.4234
# Path::Tiny              0.144
# Shell::Config::Generate 0.34
# Shell::Guess            0.09
# Sort::Versions          1.62
# Test2::V0               0.000159
# Text::ParseWords        3.29
# URI                     5.21
# URI::file               5.21
# parent                  0.241
# 
# 
# 
t/00_diag.t .................................. ok
t/alien_base_modulebuild.t ................... ok
t/alien_base_modulebuild_cabinet.t ........... ok
t/alien_base_modulebuild_file.t .............. ok
t/alien_base_modulebuild_repository.t ........ ok
t/alien_base_modulebuild_repository_ftp.t .... ok
t/alien_base_modulebuild_repository_http.t ... ok
t/alien_base_modulebuild_repository_local.t .. ok
t/alien_base_modulebuild_utils.t ............. ok
All tests successful.
Files=9, Tests=56,  7 wallclock secs ( 0.07 usr  0.07 sys +  4.23 cusr  1.46 csys =  5.83 CPU)
Result: PASS

------------------------------
PREREQUISITES
------------------------------

Prerequisite modules loaded:

requires:

    Module                  Need     Have    
    ----------------------- -------- --------
    Alien::Base             0        2.80    
    Alien::Base::PkgConfig  1.20     2.80    
    Archive::Extract        0        0.88    
    Archive::Tar            1.40     3.02    
    Capture::Tiny           0.17     0.48    
    File::chdir             0.1005   0.1011  
    HTTP::Tiny              0.044    0.088   
    List::Util              1.45     1.63    
    Module::Build           0.4004   0.4234  
    parent                  0        0.241   
    Path::Tiny              0.077    0.144   
    perl                    5.008001 5.020002
    Shell::Config::Generate 0        0.34    
    Shell::Guess            0        0.09    
    Sort::Versions          0        1.62    
    Text::ParseWords        3.26     3.29    
    URI                     0        5.21    

build_requires:

    Module                  Need     Have    
    ----------------------- -------- --------
    Module::Build           0.4004   0.4234  
    perl                    5.008001 5.020002
    Test2::V0               0.000121 0.000159
    URI::file               0        5.21    

configure_requires:

    Module                  Need     Have    
    ----------------------- -------- --------
    Module::Build           0.4004   0.4234  
    perl                    5.008001 5.020002


------------------------------
ENVIRONMENT AND OTHER CONTEXT
------------------------------

Environment variables:

    AUTOMATED_TESTING = 1
    LANG = en_US.UTF-8
    LANGUAGE = en_US:en
    PATH = /home/sand/bin:/usr/local/bin:/usr/bin:/bin:/usr/games:/usr/local/perl/bin:/usr/X11/bin:/sbin:/usr/sbin
    PERL5LIB = 
    PERL5OPT = 
    PERL5_CPANPLUS_IS_RUNNING = 3815936
    PERL5_CPAN_IS_RUNNING = 3815936
    PERL_CANARY_STABILITY_NOPROMPT = 1
    PERL_MM_USE_DEFAULT = 1
    PERL_USE_UNSAFE_INC = 1
    SHELL = /usr/bin/zsh
    TERM = screen

Perl special variables (and OS-specific diagnostics, for MSWin32):

    $^X = /home/sand/src/perl/repoperls/installed-perls/host/k93msid/v5.20.2/29fb/bin/perl
    $UID/$EUID = 1005 / 1005
    $GID = 1005 1005
    $EGID = 1005 1005

Perl module toolchain versions installed:

    Module              Have    
    ------------------- --------
    CPAN                2.36    
    CPAN::Meta          2.150010
    Cwd                 3.75    
    ExtUtils::CBuilder  0.280236
    ExtUtils::Command   7.70    
    ExtUtils::Install   2.06    
    ExtUtils::MakeMaker 7.70    
    ExtUtils::Manifest  1.70    
    ExtUtils::ParseXS   3.51    
    File::Spec          3.75    
    JSON                4.10    
    JSON::PP            4.16    
    Module::Build       0.4234  
    Module::Signature   0.88    
    Parse::CPAN::Meta   2.150010
    Test2               1.302198
    Test::Harness       3.48    
    Test::More          1.302198
    YAML                1.31    
    YAML::Syck          1.34    
    version             0.9930  


--

Summary of my perl5 (revision 5 version 20 subversion 2) configuration:
  Derived from: c05ce579b6dae0f955ff8922469d49f95f4bf6fd
  Platform:
    osname=linux, osvers=6.5.0-5-amd64, archname=x86_64-linux-thread-multi
    uname='linux k93msid 6.5.0-5-amd64 #1 smp preempt_dynamic debian 6.5.13-1 (2023-11-29) x86_64 gnulinux '
    config_args='-Dprefix=/home/sand/src/perl/repoperls/installed-perls/host/k93msid/v5.20.2/29fb -Dmyhostname=k93msid -Dinstallusrbinperl=n -Uversiononly -Dusedevel -des -Ui_db -Dlibswanted=cl pthread socket inet nsl gdbm dbm malloc dl ld sun m crypt sec util c cposix posix ucb BSD gdbm_compat -Duseithreads -Uuselongdouble -DEBUGGING=both'
    hint=recommended, useposix=true, d_sigaction=define
    useithreads=define, usemultiplicity=define
    use64bitint=define, use64bitall=define, uselongdouble=undef
    usemymalloc=n, bincompat5005=undef
  Compiler:
    cc='cc', ccflags ='-D_REENTRANT -D_GNU_SOURCE -fwrapv -DDEBUGGING -fno-strict-aliasing -pipe -fstack-protector -I/usr/local/include -D_LARGEFILE_SOURCE -D_FILE_OFFSET_BITS=64',
    optimize='-O2 -g',
    cppflags='-D_REENTRANT -D_GNU_SOURCE -fwrapv -DDEBUGGING -fno-strict-aliasing -pipe -fstack-protector -I/usr/local/include'
    ccversion='', gccversion='13.2.0', gccosandvers=''
    intsize=4, longsize=8, ptrsize=8, doublesize=8, byteorder=12345678
    d_longlong=define, longlongsize=8, d_longdbl=define, longdblsize=16
    ivtype='long', ivsize=8, nvtype='double', nvsize=8, Off_t='off_t', lseeksize=8
    alignbytes=8, prototype=define
  Linker and Libraries:
    ld='cc', ldflags =' -fstack-protector -L/usr/local/lib'
    libpth=/usr/local/lib /usr/include/x86_64-linux-gnu /usr/lib /lib/x86_64-linux-gnu /lib/../lib /usr/lib/x86_64-linux-gnu /usr/lib/../lib /lib /lib64 /usr/lib64
    libs=-lpthread -lnsl -ldl -lm -lcrypt -lutil -lc
    perllibs=-lpthread -lnsl -ldl -lm -lcrypt -lutil -lc
    libc=/lib/x86_64-linux-gnu/libc.so.6, so=so, useshrplib=false, libperl=libperl.a
    gnulibc_version='2.37'
  Dynamic Linking:
    dlsrc=dl_dlopen.xs, dlext=so, d_dlsymun=undef, ccdlflags='-Wl,-E'
    cccdlflags='-fPIC', lddlflags='-shared -O2 -g -L/usr/local/lib -fstack-protector'


Characteristics of this binary (from libperl): 
  Compile-time options: DEBUGGING HAS_TIMES MULTIPLICITY PERLIO_LAYERS
                        PERL_DONT_CREATE_GVSV
                        PERL_HASH_FUNC_ONE_AT_A_TIME_HARD
                        PERL_IMPLICIT_CONTEXT PERL_MALLOC_WRAP
                        PERL_NEW_COPY_ON_WRITE PERL_PRESERVE_IVUV
                        PERL_TRACK_MEMPOOL PERL_USE_DEVEL USE_64_BIT_ALL
                        USE_64_BIT_INT USE_ITHREADS USE_LARGE_FILES
                        USE_LOCALE USE_LOCALE_COLLATE USE_LOCALE_CTYPE
                        USE_LOCALE_NUMERIC USE_PERLIO USE_PERL_ATOF
                        USE_REENTRANT_API
  Locally applied patches:
	uncommitted-changes
  Built under linux
  Compiled at Jan 21 2024 11:08:55
  %ENV:
    PERL5LIB=""
    PERL5OPT=""
    PERL5_CPANPLUS_IS_RUNNING="3815936"
    PERL5_CPAN_IS_RUNNING="3815936"
    PERL_CANARY_STABILITY_NOPROMPT="1"
    PERL_MM_USE_DEFAULT="1"
    PERL_USE_UNSAFE_INC="1"
  @INC:
    /home/sand/src/perl/repoperls/installed-perls/host/k93msid/v5.20.2/29fb/lib/site_perl/5.20.2/x86_64-linux-thread-multi
    /home/sand/src/perl/repoperls/installed-perls/host/k93msid/v5.20.2/29fb/lib/site_perl/5.20.2
    /home/sand/src/perl/repoperls/installed-perls/host/k93msid/v5.20.2/29fb/lib/5.20.2/x86_64-linux-thread-multi
    /home/sand/src/perl/repoperls/installed-perls/host/k93msid/v5.20.2/29fb/lib/5.20.2
    .