Mojolicious-Plugin-Export v0.008 Perl 5 v5.37.3 x86_64-linux

Status
Pass
From
Andreas J. König (ANDK)
Dist
Mojolicious-Plugin-Export v0.008
Platform
Perl 5 v5.37.3 x86_64-linux
Date
2022-09-01 18:59:32
ID
36f29d0c-2a28-11ed-861b-17a0e6a79f68
This distribution has been tested as part of the CPAN Testers
project, supporting the Perl programming language.  See
http://wiki.cpantesters.org/ for more information or email
questions to cpan-testers-discuss@perl.org


--
Dear Doug Bell,

This is a computer-generated report for Mojolicious-Plugin-Export-0.008
on perl 5.37.3, created by CPAN-Reporter-1.2018.

Thank you for uploading your work to CPAN.  Congratulations!
All tests were successful.

Sections of this report:

    * Tester comments
    * Program output
    * Prerequisites
    * Environment and other context

------------------------------
TESTER COMMENTS
------------------------------

Additional comments from tester:

this report is from an automated smoke testing program
and was not reviewed by a human for accuracy

------------------------------
PROGRAM OUTPUT
------------------------------

Output from '/usr/bin/make test':

PERL_DL_NONLAZY=1 "/tmp/basesmoker-reloperl-jpXB/bin/perl" "-MExtUtils::Command::MM" "-MTest::Harness" "-e" "undef *Test::Harness::Switches; test_harness(0, 'blib/lib', 'blib/arch')" t/*.t
t/00-compile.t ......... ok
# 
# Versions for all modules listed in MYMETA.json (including optional ones):
# 
# === Configure Requires ===
# 
#     Module              Want Have
#     ------------------- ---- ----
#     ExtUtils::MakeMaker  any 7.64
# 
# === Build Requires ===
# 
#     Module              Want Have
#     ------------------- ---- ----
#     ExtUtils::MakeMaker  any 7.64
# 
# === Test Requires ===
# 
#     Module              Want     Have
#     ------------------- ---- --------
#     ExtUtils::MakeMaker  any     7.64
#     File::Spec           any     3.86
#     IO::Handle           any     1.49
#     IPC::Open3           any     1.22
#     Test::More           any 1.302191
# 
# === Test Recommends ===
# 
#     Module         Want     Have
#     ---------- -------- --------
#     CPAN::Meta 2.120900 2.150010
# 
# === Runtime Requires ===
# 
#     Module      Want Have
#     ----------- ---- ----
#     Mojolicious    8 9.26
# 
t/00-report-prereqs.t .. ok
[2022-09-01 18:58:30.89432] [3308234] [trace] [vHSaFz1cgQlw] GET "/"
[2022-09-01 18:58:30.89575] [3308234] [trace] [vHSaFz1cgQlw] Rendering template "index.html.ep" from DATA section
[2022-09-01 18:58:30.89707] [3308234] [trace] [vHSaFz1cgQlw] 200 OK (0.002742s, 364.697/s)
[2022-09-01 18:58:30.90320] [3308234] [trace] [UpnfM2F47I0I] GET "/docs"
[2022-09-01 18:58:30.90489] [3308234] [trace] [UpnfM2F47I0I] Rendering template "docs.html.ep" from DATA section
[2022-09-01 18:58:30.90672] [3308234] [trace] [UpnfM2F47I0I] 200 OK (0.00351s, 284.900/s)
[2022-09-01 18:58:30.91166] [3308234] [trace] [CwMswneqBmlV] GET "/about"
[2022-09-01 18:58:30.91343] [3308234] [trace] [CwMswneqBmlV] Rendering template "about.html.ep" from DATA section
[2022-09-01 18:58:30.91530] [3308234] [trace] [CwMswneqBmlV] 200 OK (0.003615s, 276.625/s)
[2022-09-01 18:58:30.91927] [3308234] [trace] [6r5sHb-Ojksf] GET "/NOT_FOUND"
[2022-09-01 18:58:30.92100] [3308234] [trace] [6r5sHb-Ojksf] Template "not_found.development.html.ep" not found
[2022-09-01 18:58:30.92233] [3308234] [trace] [6r5sHb-Ojksf] Template "not_found.html.ep" not found
[2022-09-01 18:58:30.92355] [3308234] [trace] [6r5sHb-Ojksf] Rendering template "mojo/debug.html.ep"
[2022-09-01 18:58:30.94066] [3308234] [trace] Your secret passphrase needs to be changed
[2022-09-01 18:58:30.94593] [3308234] [trace] [6r5sHb-Ojksf] 404 Not Found (0.026632s, 37.549/s)
[2022-09-01 18:58:30.95106] [3308234] [trace] [wBbYfWR-2qFe] GET "/redirect"
[2022-09-01 18:58:30.95249] [3308234] [trace] [wBbYfWR-2qFe] Routing to a callback
[2022-09-01 18:58:30.95380] [3308234] [trace] [wBbYfWR-2qFe] 302 Found (0.002726s, 366.838/s)
[2022-09-01 18:58:30.95954] [3308234] [trace] [N8I6NAGxO15f] GET "/docs/more"
[2022-09-01 18:58:30.96094] [3308234] [trace] [N8I6NAGxO15f] Routing to a callback
[2022-09-01 18:58:30.96212] [3308234] [trace] [N8I6NAGxO15f] Rendering inline template "2da2aed28011bbc3541e0de248c276ca"
[2022-09-01 18:58:30.96385] [3308234] [trace] [N8I6NAGxO15f] 200 OK (0.004288s, 233.209/s)
[2022-09-01 18:58:30.98692] [3308234] [trace] [yW7Ccr4ftW9L] GET "/"
[2022-09-01 18:58:30.98836] [3308234] [trace] [yW7Ccr4ftW9L] Rendering cached template "index.html.ep" from DATA section
[2022-09-01 18:58:30.98958] [3308234] [trace] [yW7Ccr4ftW9L] 200 OK (0.002646s, 377.929/s)
[2022-09-01 18:58:30.99493] [3308234] [trace] [Sft8GpAXXGZ_] GET "/docs"
[2022-09-01 18:58:30.99634] [3308234] [trace] [Sft8GpAXXGZ_] Rendering cached template "docs.html.ep" from DATA section
[2022-09-01 18:58:30.99762] [3308234] [trace] [Sft8GpAXXGZ_] 200 OK (0.002674s, 373.972/s)
[2022-09-01 18:58:31.00254] [3308234] [trace] [QTWMpWQjLwgZ] GET "/about"
[2022-09-01 18:58:31.00390] [3308234] [trace] [QTWMpWQjLwgZ] Rendering cached template "about.html.ep" from DATA section
[2022-09-01 18:58:31.00518] [3308234] [trace] [QTWMpWQjLwgZ] 200 OK (0.002631s, 380.084/s)
[2022-09-01 18:58:31.00991] [3308234] [trace] [boUKMiW3Z4ju] GET "/NOT_FOUND"
[2022-09-01 18:58:31.01147] [3308234] [trace] [boUKMiW3Z4ju] Template "not_found.development.html.ep" not found
[2022-09-01 18:58:31.01274] [3308234] [trace] [boUKMiW3Z4ju] Template "not_found.html.ep" not found
[2022-09-01 18:58:31.01389] [3308234] [trace] [boUKMiW3Z4ju] Rendering cached template "mojo/debug.html.ep"
[2022-09-01 18:58:31.01896] [3308234] [trace] [boUKMiW3Z4ju] 404 Not Found (0.009019s, 110.877/s)
[2022-09-01 18:58:31.02388] [3308234] [trace] [5EcExHkYNhzx] GET "/redirect"
[2022-09-01 18:58:31.02517] [3308234] [trace] [5EcExHkYNhzx] Routing to a callback
[2022-09-01 18:58:31.02646] [3308234] [trace] [5EcExHkYNhzx] 302 Found (0.002561s, 390.472/s)
[2022-09-01 18:58:31.03214] [3308234] [trace] [oOrXGYqmNAoE] GET "/docs/more"
[2022-09-01 18:58:31.03340] [3308234] [trace] [oOrXGYqmNAoE] Routing to a callback
[2022-09-01 18:58:31.03458] [3308234] [trace] [oOrXGYqmNAoE] Rendering cached inline template "2da2aed28011bbc3541e0de248c276ca"
[2022-09-01 18:58:31.03578] [3308234] [trace] [oOrXGYqmNAoE] 200 OK (0.003625s, 275.862/s)
[2022-09-01 18:58:31.05733] [3308234] [trace] [8mo4tNZtksVZ] GET "/"
[2022-09-01 18:58:31.05875] [3308234] [trace] [8mo4tNZtksVZ] Rendering cached template "index.html.ep" from DATA section
[2022-09-01 18:58:31.06096] [3308234] [trace] [8mo4tNZtksVZ] 200 OK (0.003606s, 277.316/s)
[2022-09-01 18:58:31.06521] [3308234] [trace] [Q_rzhJneX5yM] GET "/docs"
[2022-09-01 18:58:31.06669] [3308234] [trace] [Q_rzhJneX5yM] Rendering cached template "docs.html.ep" from DATA section
[2022-09-01 18:58:31.06792] [3308234] [trace] [Q_rzhJneX5yM] 200 OK (0.00269s, 371.747/s)
[2022-09-01 18:58:31.07186] [3308234] [trace] [T9L_znlH9e35] GET "/about"
[2022-09-01 18:58:31.07327] [3308234] [trace] [T9L_znlH9e35] Rendering cached template "about.html.ep" from DATA section
[2022-09-01 18:58:31.07452] [3308234] [trace] [T9L_znlH9e35] 200 OK (0.002647s, 377.786/s)
[2022-09-01 18:58:31.07926] [3308234] [trace] [yApQSVyKJp9Z] GET "/NOT_FOUND"
[2022-09-01 18:58:31.08084] [3308234] [trace] [yApQSVyKJp9Z] Template "not_found.development.html.ep" not found
[2022-09-01 18:58:31.08221] [3308234] [trace] [yApQSVyKJp9Z] Template "not_found.html.ep" not found
[2022-09-01 18:58:31.08334] [3308234] [trace] [yApQSVyKJp9Z] Rendering cached template "mojo/debug.html.ep"
[2022-09-01 18:58:31.08929] [3308234] [trace] [yApQSVyKJp9Z] 404 Not Found (0.010006s, 99.940/s)
[2022-09-01 18:58:31.09482] [3308234] [trace] [DBbLvb1TflAD] GET "/redirect"
[2022-09-01 18:58:31.09701] [3308234] [trace] [DBbLvb1TflAD] Routing to a callback
[2022-09-01 18:58:31.09839] [3308234] [trace] [DBbLvb1TflAD] 302 Found (0.003545s, 282.087/s)
[2022-09-01 18:58:31.10502] [3308234] [trace] [wScpxx9riWVO] GET "/docs/more"
[2022-09-01 18:58:31.10629] [3308234] [trace] [wScpxx9riWVO] Routing to a callback
[2022-09-01 18:58:31.10745] [3308234] [trace] [wScpxx9riWVO] Rendering cached inline template "2da2aed28011bbc3541e0de248c276ca"
[2022-09-01 18:58:31.10870] [3308234] [trace] [wScpxx9riWVO] 200 OK (0.003666s, 272.777/s)
[2022-09-01 18:58:31.12816] [3308234] [trace] [8gwmLipPvSeI] GET "/docs"
[2022-09-01 18:58:31.12951] [3308234] [trace] [8gwmLipPvSeI] Rendering cached template "docs.html.ep" from DATA section
[2022-09-01 18:58:31.13074] [3308234] [trace] [8gwmLipPvSeI] 200 OK (0.002563s, 390.168/s)
[2022-09-01 18:58:31.13548] [3308234] [trace] [nl1Y5O5t9evk] GET "/docs/more"
[2022-09-01 18:58:31.13695] [3308234] [trace] [nl1Y5O5t9evk] Routing to a callback
[2022-09-01 18:58:31.13815] [3308234] [trace] [nl1Y5O5t9evk] Rendering cached inline template "2da2aed28011bbc3541e0de248c276ca"
[2022-09-01 18:58:31.13945] [3308234] [trace] [nl1Y5O5t9evk] 200 OK (0.003961s, 252.461/s)
[2022-09-01 18:58:31.15552] [3308234] [trace] [iH-J4ZmSbzlr] GET "/"
[2022-09-01 18:58:31.15692] [3308234] [trace] [iH-J4ZmSbzlr] Rendering cached template "index.html.ep" from DATA section
[2022-09-01 18:58:31.15812] [3308234] [trace] [iH-J4ZmSbzlr] 200 OK (0.002591s, 385.951/s)
[2022-09-01 18:58:31.16574] [3308234] [trace] [qGfHL4bef3TZ] GET "/docs"
[2022-09-01 18:58:31.16603] [3308234] [trace] [qGfHL4bef3TZ] Rendering cached template "docs.html.ep" from DATA section
[2022-09-01 18:58:31.16624] [3308234] [trace] [qGfHL4bef3TZ] 200 OK (0.000492s, 2032.520/s)
[2022-09-01 18:58:31.16878] [3308234] [trace] [28yvYOkvVQ5d] GET "/about"
[2022-09-01 18:58:31.16906] [3308234] [trace] [28yvYOkvVQ5d] Rendering cached template "about.html.ep" from DATA section
[2022-09-01 18:58:31.16925] [3308234] [trace] [28yvYOkvVQ5d] 200 OK (0.000456s, 2192.982/s)
[2022-09-01 18:58:31.17223] [3308234] [trace] [A_8XjNc5eDdM] GET "/NOT_FOUND"
[2022-09-01 18:58:31.17369] [3308234] [trace] [A_8XjNc5eDdM] Template "not_found.development.html.ep" not found
[2022-09-01 18:58:31.17487] [3308234] [trace] [A_8XjNc5eDdM] Template "not_found.html.ep" not found
[2022-09-01 18:58:31.17688] [3308234] [trace] [A_8XjNc5eDdM] Rendering cached template "mojo/debug.html.ep"
[2022-09-01 18:58:31.18212] [3308234] [trace] [A_8XjNc5eDdM] 404 Not Found (0.009867s, 101.348/s)
[2022-09-01 18:58:31.18820] [3308234] [trace] [x9MOhFDYxK2n] GET "/redirect"
[2022-09-01 18:58:31.18940] [3308234] [trace] [x9MOhFDYxK2n] Routing to a callback
[2022-09-01 18:58:31.19062] [3308234] [trace] [x9MOhFDYxK2n] 302 Found (0.002407s, 415.455/s)
[2022-09-01 18:58:31.19760] [3308234] [trace] [2EpRaFnlyIYN] GET "/docs/more"
[2022-09-01 18:58:31.19913] [3308234] [trace] [2EpRaFnlyIYN] Routing to a callback
[2022-09-01 18:58:31.20040] [3308234] [trace] [2EpRaFnlyIYN] Rendering cached inline template "2da2aed28011bbc3541e0de248c276ca"
[2022-09-01 18:58:31.20168] [3308234] [trace] [2EpRaFnlyIYN] 200 OK (0.004068s, 245.821/s)
[2022-09-01 18:58:31.22260] [3308234] [trace] [FyLHlqxWVisi] GET "/"
[2022-09-01 18:58:31.22491] [3308234] [trace] [FyLHlqxWVisi] Rendering cached template "index.html.ep" from DATA section
[2022-09-01 18:58:31.22614] [3308234] [trace] [FyLHlqxWVisi] 200 OK (0.003519s, 284.172/s)
[2022-09-01 18:58:31.23067] [3308234] [trace] [rYNrMA3C5bu6] GET "/docs"
[2022-09-01 18:58:31.23296] [3308234] [trace] [rYNrMA3C5bu6] Rendering cached template "docs.html.ep" from DATA section
[2022-09-01 18:58:31.23425] [3308234] [trace] [rYNrMA3C5bu6] 200 OK (0.003525s, 283.688/s)
[2022-09-01 18:58:31.23778] [3308234] [trace] [dl5XpquxChRJ] GET "/about"
[2022-09-01 18:58:31.23810] [3308234] [trace] [dl5XpquxChRJ] Rendering cached template "about.html.ep" from DATA section
[2022-09-01 18:58:31.23831] [3308234] [trace] [dl5XpquxChRJ] 200 OK (0.000515s, 1941.748/s)
[2022-09-01 18:58:31.24109] [3308234] [trace] [Ar7ii8pxMs8u] GET "/NOT_FOUND"
[2022-09-01 18:58:31.24153] [3308234] [trace] [Ar7ii8pxMs8u] Template "not_found.development.html.ep" not found
[2022-09-01 18:58:31.24167] [3308234] [trace] [Ar7ii8pxMs8u] Template "not_found.html.ep" not found
[2022-09-01 18:58:31.24176] [3308234] [trace] [Ar7ii8pxMs8u] Rendering cached template "mojo/debug.html.ep"
[2022-09-01 18:58:31.24554] [3308234] [trace] [Ar7ii8pxMs8u] 404 Not Found (0.004421s, 226.193/s)
[2022-09-01 18:58:31.24821] [3308234] [trace] [qkxIxsfFTJVH] GET "/redirect"
[2022-09-01 18:58:31.24840] [3308234] [trace] [qkxIxsfFTJVH] Routing to a callback
[2022-09-01 18:58:31.24859] [3308234] [trace] [qkxIxsfFTJVH] 302 Found (0.000374s, 2673.797/s)
[2022-09-01 18:58:31.25279] [3308234] [trace] [V_fqAPlHZnkr] GET "/docs/more"
[2022-09-01 18:58:31.25300] [3308234] [trace] [V_fqAPlHZnkr] Routing to a callback
[2022-09-01 18:58:31.25315] [3308234] [trace] [V_fqAPlHZnkr] Rendering cached inline template "2da2aed28011bbc3541e0de248c276ca"
[2022-09-01 18:58:31.25333] [3308234] [trace] [V_fqAPlHZnkr] 200 OK (0.000523s, 1912.046/s)
[2022-09-01 18:58:31.27899] [3308234] [trace] [fEU9IHrEBTsS] GET "/docs"
[2022-09-01 18:58:31.27931] [3308234] [trace] [fEU9IHrEBTsS] Rendering cached template "docs.html.ep" from DATA section
[2022-09-01 18:58:31.27950] [3308234] [trace] [fEU9IHrEBTsS] 200 OK (0.000506s, 1976.285/s)
[2022-09-01 18:58:31.28225] [3308234] [trace] [pn68Jl52LV-g] GET "/docs/more"
[2022-09-01 18:58:31.28246] [3308234] [trace] [pn68Jl52LV-g] Routing to a callback
[2022-09-01 18:58:31.28260] [3308234] [trace] [pn68Jl52LV-g] Rendering cached inline template "2da2aed28011bbc3541e0de248c276ca"
[2022-09-01 18:58:31.28277] [3308234] [trace] [pn68Jl52LV-g] 200 OK (0.000519s, 1926.782/s)
t/command.t ............ ok
[2022-09-01 18:58:31.83523] [3308240] [trace] [vJBUF-8RI0Fh] GET "/"
[2022-09-01 18:58:31.83770] [3308240] [trace] [vJBUF-8RI0Fh] Rendering template "index.html.ep" from DATA section
[2022-09-01 18:58:31.83963] [3308240] [trace] [vJBUF-8RI0Fh] 200 OK (0.004399s, 227.324/s)
t/plugin.t ............. ok
All tests successful.
Files=4, Tests=55,  2 wallclock secs ( 0.04 usr  0.18 sys +  1.74 cusr  0.39 csys =  2.35 CPU)
Result: PASS

------------------------------
PREREQUISITES
------------------------------

Prerequisite modules loaded:

requires:

    Module              Need  Have    
    ------------------- ----- --------
    Mojolicious         8     9.26    
    perl                5.014 5.037003

build_requires:

    Module              Need  Have    
    ------------------- ----- --------
    ExtUtils::MakeMaker 0     7.64    
    File::Spec          0     3.86    
    IO::Handle          0     1.49    
    IPC::Open3          0     1.22    
    Test::More          0     1.302191

configure_requires:

    Module              Need  Have    
    ------------------- ----- --------
    ExtUtils::MakeMaker 0     7.64    


------------------------------
ENVIRONMENT AND OTHER CONTEXT
------------------------------

Environment variables:

    AUTOMATED_TESTING = 1
    LANG = en_US.UTF-8
    PATH = /home/sand/bin:/usr/local/bin:/usr/local/sbin:/usr/sbin:/usr/bin:/sbin:/bin:/usr/games:/usr/local/games:/snap/bin:/usr/local/perl/bin:/usr/X11/bin
    PERL5LIB = /tmp/loop_over_bdir-3083040-0JDbFA/MP3-PodcastFetch-1.05-0/blib/arch:/tmp/loop_over_bdir-3083040-0JDbFA/MP3-PodcastFetch-1.05-0/blib/lib:/tmp/loop_over_bdir-3083040-0JDbFA/Devel-Required-0.16-0/blib/arch:/tmp/loop_over_bdir-3083040-0JDbFA/Devel-Required-0.16-0/blib/lib
    PERL5OPT = 
    PERL5_CPANPLUS_IS_RUNNING = 3083049
    PERL5_CPAN_IS_RUNNING = 3083049
    PERL_CANARY_STABILITY_NOPROMPT = 1
    PERL_MM_USE_DEFAULT = 1
    PERL_USE_UNSAFE_INC = 1
    SHELL = /usr/bin/zsh
    TERM = screen

Perl special variables (and OS-specific diagnostics, for MSWin32):

    $^X = /tmp/basesmoker-reloperl-jpXB/bin/perl
    $UID/$EUID = 1005 / 1005
    $GID = 1005 1005
    $EGID = 1005 1005

Perl module toolchain versions installed:

    Module              Have    
    ------------------- --------
    CPAN                2.34    
    CPAN::Meta          2.150010
    Cwd                 3.86    
    ExtUtils::CBuilder  0.280237
    ExtUtils::Command   7.64    
    ExtUtils::Install   2.20    
    ExtUtils::MakeMaker 7.64    
    ExtUtils::Manifest  1.73    
    ExtUtils::ParseXS   3.45    
    File::Spec          3.86    
    JSON                4.09    
    JSON::PP            4.11    
    Module::Build       0.4231  
    Module::Signature   0.88    
    Parse::CPAN::Meta   2.150010
    Test::Harness       3.44    
    Test::More          1.302191
    YAML                1.30    
    YAML::Syck          1.34    
    version             0.9929  


--

Summary of my perl5 (revision 5 version 37 subversion 3) configuration:
  Commit id: 29b290ccaa79f40de7d941c9a79810119f5c6363
  Platform:
    osname=linux
    osvers=5.4.0-125-generic
    archname=x86_64-linux
    uname='linux k93focal 5.4.0-125-generic #141-ubuntu smp wed aug 10 13:42:03 utc 2022 x86_64 x86_64 x86_64 gnulinux '
    config_args='-Dprefix=/home/sand/src/perl/repoperls/installed-perls/host/k93focal/v5.37.2-224-g29b290ccaa/b254 -Dmyhostname=k93focal -Dinstallusrbinperl=n -Uversiononly -Dusedevel -des -Ui_db -Dlibswanted=cl pthread socket inet nsl gdbm dbm malloc dl ld sun m crypt sec util c cposix posix ucb BSD gdbm_compat -Uuseithreads -Uuselongdouble -DEBUGGING=both'
    hint=recommended
    useposix=true
    d_sigaction=define
    useithreads=undef
    usemultiplicity=undef
    use64bitint=define
    use64bitall=define
    uselongdouble=undef
    usemymalloc=n
    default_inc_excludes_dot=define
  Compiler:
    cc='cc'
    ccflags ='-fwrapv -DDEBUGGING -fno-strict-aliasing -pipe -fstack-protector-strong -I/usr/local/include -D_LARGEFILE_SOURCE -D_FILE_OFFSET_BITS=64'
    optimize='-O2 -g'
    cppflags='-fwrapv -DDEBUGGING -fno-strict-aliasing -pipe -fstack-protector-strong -I/usr/local/include'
    ccversion=''
    gccversion='9.4.0'
    gccosandvers=''
    intsize=4
    longsize=8
    ptrsize=8
    doublesize=8
    byteorder=12345678
    doublekind=3
    d_longlong=define
    longlongsize=8
    d_longdbl=define
    longdblsize=16
    longdblkind=3
    ivtype='long'
    ivsize=8
    nvtype='double'
    nvsize=8
    Off_t='off_t'
    lseeksize=8
    alignbytes=8
    prototype=define
  Linker and Libraries:
    ld='cc'
    ldflags =' -fstack-protector-strong -L/usr/local/lib'
    libpth=/usr/local/lib /usr/lib/x86_64-linux-gnu /usr/lib /usr/lib64
    libs=-lpthread -lnsl -ldl -lm -lcrypt -lutil -lc
    perllibs=-lpthread -lnsl -ldl -lm -lcrypt -lutil -lc
    libc=libc-2.31.so
    so=so
    useshrplib=false
    libperl=libperl.a
    gnulibc_version='2.31'
  Dynamic Linking:
    dlsrc=dl_dlopen.xs
    dlext=so
    d_dlsymun=undef
    ccdlflags='-Wl,-E'
    cccdlflags='-fPIC'
    lddlflags='-shared -O2 -g -L/usr/local/lib -fstack-protector-strong'


Characteristics of this binary (from libperl): 
  Compile-time options:
    DEBUGGING
    HAS_TIMES
    PERLIO_LAYERS
    PERL_COPY_ON_WRITE
    PERL_DONT_CREATE_GVSV
    PERL_HASH_FUNC_SIPHASH13
    PERL_HASH_USE_SBOX32
    PERL_MALLOC_WRAP
    PERL_OP_PARENT
    PERL_PRESERVE_IVUV
    PERL_USE_DEVEL
    PERL_USE_SAFE_PUTENV
    USE_64_BIT_ALL
    USE_64_BIT_INT
    USE_LARGE_FILES
    USE_LOCALE
    USE_LOCALE_COLLATE
    USE_LOCALE_CTYPE
    USE_LOCALE_NUMERIC
    USE_LOCALE_TIME
    USE_PERLIO
    USE_PERL_ATOF
  Built under linux
  Compiled at Aug 28 2022 05:44:47
  %ENV:
    PERL5LIB="/tmp/loop_over_bdir-3083040-0JDbFA/MP3-PodcastFetch-1.05-0/blib/arch:/tmp/loop_over_bdir-3083040-0JDbFA/MP3-PodcastFetch-1.05-0/blib/lib:/tmp/loop_over_bdir-3083040-0JDbFA/Devel-Required-0.16-0/blib/arch:/tmp/loop_over_bdir-3083040-0JDbFA/Devel-Required-0.16-0/blib/lib"
    PERL5OPT=""
    PERL5_CPANPLUS_IS_RUNNING="3083049"
    PERL5_CPAN_IS_RUNNING="3083049"
    PERL_CANARY_STABILITY_NOPROMPT="1"
    PERL_MM_USE_DEFAULT="1"
    PERL_USE_UNSAFE_INC="1"
  @INC:
    /tmp/loop_over_bdir-3083040-0JDbFA/MP3-PodcastFetch-1.05-0/blib/arch
    /tmp/loop_over_bdir-3083040-0JDbFA/MP3-PodcastFetch-1.05-0/blib/lib
    /tmp/loop_over_bdir-3083040-0JDbFA/Devel-Required-0.16-0/blib/arch
    /tmp/loop_over_bdir-3083040-0JDbFA/Devel-Required-0.16-0/blib/lib
    /home/sand/src/perl/repoperls/installed-perls/host/k93focal/v5.37.2-224-g29b290ccaa/b254/lib/site_perl/5.37.3/x86_64-linux
    /home/sand/src/perl/repoperls/installed-perls/host/k93focal/v5.37.2-224-g29b290ccaa/b254/lib/site_perl/5.37.3
    /home/sand/src/perl/repoperls/installed-perls/host/k93focal/v5.37.2-224-g29b290ccaa/b254/lib/5.37.3/x86_64-linux
    /home/sand/src/perl/repoperls/installed-perls/host/k93focal/v5.37.2-224-g29b290ccaa/b254/lib/5.37.3
    .