Finance-Currency-Convert-WebserviceX v0.07001 Perl 5 v5.12.0 i686-linux
- Status
- Pass
- From
- Serguei Trouchelle (STRO)
- Dist
-
Finance-Currency-Convert-WebserviceX v0.07001
- Platform
- Perl 5 v5.12.0 i686-linux
- Date
- 2010-04-27 05:03:27
- ID
- 36dbb35c-51ba-11df-9e11-fa1ccb64c448
This distribution has been tested as part of the CPAN Testers
project, supporting the Perl programming language. See
http://wiki.cpantesters.org/ for more information or email
questions to cpan-testers-discuss@perl.org
--
Dear Christopher H. Laco,
This is a computer-generated report for Finance-Currency-Convert-WebserviceX-0.07001
on perl 5.12.0, created by CPAN-Reporter-1.1711.
Thank you for uploading your work to CPAN. Congratulations!
All tests were successful.
Sections of this report:
* Tester comments
* Program output
* Prerequisites
* Environment and other context
------------------------------
TESTER COMMENTS
------------------------------
Additional comments from tester:
this report is from an automated smoke testing program
and was not reviewed by a human for accuracy
------------------------------
PROGRAM OUTPUT
------------------------------
Output from 'C:\bin\dev\perl\site\bin\dmake.EXE test':
C:\home\stro\perl5120\bin\perl.exe "-MExtUtils::Command::MM" "-e" "test_harness(0, 'inc', 'blib\lib', 'blib\arch')" t/*.t
t/basic.t .......... ok
t/convert.t ........ ok
t/convert_live.t ... skipped: set TEST_AUTHOR to enable this test
t/manifest.t ....... skipped: set TEST_AUTHOR to enable this test
t/meta.t ........... skipped: set TEST_AUTHOR to enable this test
t/pod_coverage.t ... skipped: set TEST_AUTHOR to enable this test
t/pod_spelling.t ... skipped: set TEST_AUTHOR to enable this test
t/pod_syntax.t ..... skipped: set TEST_AUTHOR to enable this test
t/strict.t ......... skipped: set TEST_AUTHOR to enable this test
t/style_no_tabs.t .. skipped: set TEST_AUTHOR to enable this test
t/warnings.t ....... skipped: set TEST_AUTHOR to enable this test
All tests successful.
Files=11, Tests=19, 2 wallclock secs ( 0.03 usr + 0.09 sys = 0.13 CPU)
Result: PASS
------------------------------
PREREQUISITES
------------------------------
Prerequisite modules loaded:
requires:
Module Need Have
------------------- ---- -------
ExtUtils::MakeMaker 6.42 6.56
HTTP::Response 0 5.824
LWP 0 5.834
Memoize 0 1.01_03
configure_requires:
Module Need Have
------------------- ---- -------
ExtUtils::MakeMaker 6.42 6.56
------------------------------
ENVIRONMENT AND OTHER CONTEXT
------------------------------
Environment variables:
ACTIVEPERL_CONFIG_SILENT = 1
AUTOMATED_TESTING = 1
COMSPEC = C:\WINDOWS\system32\cmd.exe
NUMBER_OF_PROCESSORS = 2
PATH = C:\bin\apps\far\;C:\bin\dev\python\;C:\bin\dev\svn;C:\Program Files\Common Files\Microsoft Shared\Windows Live;C:\bin\dev\perl\site\bin;C:\bin\dev\perl\bin;C:\WINDOWS\system32;C:\WINDOWS;C:\WINDOWS\System32\Wbem;C:\WINDOWS\system32\WindowsPowerShell\v1.0;C:\bin\arc;C:\bin\dev\TortoiseSVN\bin;C:\bin\dev\Mercurial;C:\bin\dev\TortoiseHg;c:\bin\sys\gnuwin32\bin;C:\bin\dev\oracle\instantclient_11_1;C:\Program Files\Common Files\Microsoft Shared\Windows Live
PERL5LIB =
PERL5OPT =
PERL5_CPANPLUS_IS_RUNNING = 4304
PERL5_CPAN_IS_RUNNING = 4304
PERL5_CPAN_IS_RUNNING_IN_RECURSION = 4644,4304
PERL_CR_SMOKER_CURRENT = Data-Money-Converter-WebserviceX-0.02
PERL_EXTUTILS_AUTOINSTALL = --defaultdeps
PERL_MM_USE_DEFAULT = 1
PROCESSOR_IDENTIFIER = x86 Family 6 Model 15 Stepping 11, GenuineIntel
TEMP = C:\WINDOWS\Temp
Perl special variables (and OS-specific diagnostics, for MSWin32):
$^X = C:\home\stro\perl5120\bin\perl.exe
$UID/$EUID = 0 / 0
$GID = 0
$EGID = 0
Win32::GetOSName = WinXP/.Net
Win32::GetOSVersion = Service Pack 3, 5, 1, 2600, 2, 3, 0, 256, 1
Win32::FsType = NTFS
Win32::IsAdminUser = 1
Perl module toolchain versions installed:
Module Have
------------------- -------
CPAN 1.94_56
Cwd 3.31
ExtUtils::CBuilder 0.27
ExtUtils::Command 1.16
ExtUtils::Install 1.55
ExtUtils::MakeMaker 6.56
ExtUtils::Manifest 1.57
ExtUtils::ParseXS 2.21
File::Spec 3.31
Module::Build 0.3607
Module::Signature n/a
Test::Harness 3.17
Test::More 0.94
YAML 0.71
YAML::Syck 1.07
version 0.82
--
Summary of my perl5 (revision 5 version 12 subversion 0) configuration:
Platform:
osname=MSWin32, osvers=5.1, archname=MSWin32-x86-multi-thread
uname=''
config_args='undef'
hint=recommended, useposix=true, d_sigaction=undef
useithreads=define, usemultiplicity=define
useperlio=define, d_sfio=undef, uselargefiles=define, usesocks=undef
use64bitint=undef, use64bitall=undef, uselongdouble=undef
usemymalloc=n, bincompat5005=undef
Compiler:
cc='gcc', ccflags =' -s -O2 -DWIN32 -DHAVE_DES_FCRYPT -DPERL_IMPLICIT_CONTEXT -DPERL_IMPLICIT_SYS -fno-strict-aliasing -mms-bitfields -DPERL_MSVCRT_READFIX',
optimize='-s -O2',
cppflags='-DWIN32'
ccversion='', gccversion='3.4.5', gccosandvers=''
intsize=4, longsize=4, ptrsize=4, doublesize=8, byteorder=1234
d_longlong=undef, longlongsize=8, d_longdbl=define, longdblsize=12
ivtype='long', ivsize=4, nvtype='double', nvsize=8, Off_t='long long', lseeksize=8
alignbytes=8, prototype=define
Linker and Libraries:
ld='g++', ldflags ='-s -L"c:\home\stro\perl5120\lib\CORE" -L"C:\MinGW\lib"'
libpth=C:\MinGW\lib
libs=-lmoldname -lkernel32 -luser32 -lgdi32 -lwinspool -lcomdlg32 -ladvapi32 -lshell32 -lole32 -loleaut32 -lnetapi32 -luuid -lws2_32 -lmpr -lwinmm -lversion -lodbc32 -lodbccp32 -lcomctl32
perllibs=-lmoldname -lkernel32 -luser32 -lgdi32 -lwinspool -lcomdlg32 -ladvapi32 -lshell32 -lole32 -loleaut32 -lnetapi32 -luuid -lws2_32 -lmpr -lwinmm -lversion -lodbc32 -lodbccp32 -lcomctl32
libc=, so=dll, useshrplib=true, libperl=libperl511.a
gnulibc_version=''
Dynamic Linking:
dlsrc=dl_win32.xs, dlext=dll, d_dlsymun=undef, ccdlflags=' '
cccdlflags=' ', lddlflags='-mdll -s -L"c:\home\stro\perl5120\lib\CORE" -L"C:\MinGW\lib"'
Characteristics of this binary (from libperl):
Compile-time options: MULTIPLICITY PERL_DONT_CREATE_GVSV
PERL_IMPLICIT_CONTEXT PERL_IMPLICIT_SYS
PERL_MALLOC_WRAP PL_OP_SLAB_ALLOC USE_ITHREADS
USE_LARGE_FILES USE_PERLIO USE_PERL_ATOF
Built under MSWin32
Compiled at Apr 22 2010 14:47:42
%ENV:
PERL5_CPANPLUS_IS_RUNNING="4304"
PERL5_CPAN_IS_RUNNING="4304"
PERL5_CPAN_IS_RUNNING_IN_RECURSION="4644,4304"
PERL_CR_SMOKER_CURRENT="Data-Money-Converter-WebserviceX-0.02"
PERL_EXTUTILS_AUTOINSTALL="--defaultdeps"
PERL_MM_USE_DEFAULT="1"
@INC:
C:/home/stro/perl5120/site/lib
C:/home/stro/perl5120/lib
.