Catalyst-Devel v1.42 Perl 5 v5.35.4 amd64-freebsd
- Status
- Pass
- From
- Carlos Guevara
- Dist
-
Catalyst-Devel v1.42
- Platform
- Perl 5 v5.35.4 amd64-freebsd
- Date
- 2021-08-30 07:02:18
- ID
- 36da9034-0960-11ec-bc19-eaad13cb6623
This distribution has been tested as part of the CPAN Testers
project, supporting the Perl programming language. See
http://wiki.cpantesters.org/ for more information or email
questions to cpan-testers-discuss@perl.org
--
Dear Graham Knop,
This is a computer-generated report for Catalyst-Devel-1.42
on perl 5.35.4, created by CPAN-Reporter-1.2018.
Thank you for uploading your work to CPAN. Congratulations!
All tests were successful.
Sections of this report:
* Tester comments
* Program output
* Prerequisites
* Environment and other context
------------------------------
TESTER COMMENTS
------------------------------
Additional comments from tester:
this report is from an automated smoke testing program
and was not reviewed by a human for accuracy
------------------------------
PROGRAM OUTPUT
------------------------------
Output from '/usr/bin/make test':
Skip blib/lib/auto/share/dist/Catalyst-Devel/root/static/images/btn_120x50_powered.png.bin (unchanged)
Skip blib/lib/auto/share/dist/Catalyst-Devel/script/myapp_server.pl.tt (unchanged)
Skip blib/lib/auto/share/dist/Catalyst-Devel/Changes.tt (unchanged)
Skip blib/lib/auto/share/dist/Catalyst-Devel/t/01app.t.tt (unchanged)
Skip blib/lib/auto/share/dist/Catalyst-Devel/t/02pod.t.tt (unchanged)
Skip blib/lib/auto/share/dist/Catalyst-Devel/root/favicon.ico.bin (unchanged)
Skip blib/lib/auto/share/dist/Catalyst-Devel/README.tt (unchanged)
Skip blib/lib/auto/share/dist/Catalyst-Devel/lib/MyApp/Controller/Root.pm.tt (unchanged)
Skip blib/lib/auto/share/dist/Catalyst-Devel/root/static/images/btn_88x31_built_shadow.png.bin (unchanged)
Skip blib/lib/auto/share/dist/Catalyst-Devel/script/myapp_test.pl.tt (unchanged)
Skip blib/lib/auto/share/dist/Catalyst-Devel/root/static/images/btn_88x31_powered_shadow.png.bin (unchanged)
Skip blib/lib/auto/share/dist/Catalyst-Devel/Makefile.PL.tt (unchanged)
Skip blib/lib/auto/share/dist/Catalyst-Devel/root/static/images/btn_120x50_built.png.bin (unchanged)
Skip blib/lib/auto/share/dist/Catalyst-Devel/script/myapp_fastcgi.pl.tt (unchanged)
Skip blib/lib/auto/share/dist/Catalyst-Devel/root/static/images/btn_120x50_powered_shadow.png.bin (unchanged)
Skip blib/lib/auto/share/dist/Catalyst-Devel/myapp.psgi.tt (unchanged)
Skip blib/lib/auto/share/dist/Catalyst-Devel/script/myapp_cgi.pl.tt (unchanged)
Skip blib/lib/auto/share/dist/Catalyst-Devel/lib/MyApp.pm.tt (unchanged)
Skip blib/lib/auto/share/dist/Catalyst-Devel/t/03podcoverage.t.tt (unchanged)
Skip blib/lib/auto/share/dist/Catalyst-Devel/myapp.conf.tt (unchanged)
Skip blib/lib/auto/share/dist/Catalyst-Devel/lib/Helper/compclass.pm.tt (unchanged)
Skip blib/lib/auto/share/dist/Catalyst-Devel/script/myapp_create.pl.tt (unchanged)
Skip blib/lib/auto/share/dist/Catalyst-Devel/root/static/images/btn_120x50_built_shadow.png.bin (unchanged)
Skip blib/lib/auto/share/dist/Catalyst-Devel/t/comptest.tt (unchanged)
Skip blib/lib/auto/share/dist/Catalyst-Devel/root/static/images/btn_88x31_built.png.bin (unchanged)
Skip blib/lib/auto/share/dist/Catalyst-Devel/root/static/images/btn_88x31_powered.png.bin (unchanged)
Skip blib/lib/auto/share/dist/Catalyst-Devel/root/static/images/catalyst_logo.png.bin (unchanged)
PERL_DL_NONLAZY=1 "/usr/home/cpan/bin/perl-blead/bin/perl5.35.4" "-MExtUtils::Command::MM" "-MTest::Harness" "-e" "undef *Test::Harness::Switches; test_harness(0, 'blib/lib', 'blib/arch')" t/*.t
each on anonymous hash will always start from the beginning at /home/cpan/bin/perl-blead/lib/site_perl/5.35.4/amd64-freebsd/Template/Document.pm line 75.
each on anonymous hash will always start from the beginning at /home/cpan/bin/perl-blead/lib/site_perl/5.35.4/amd64-freebsd/Template/Provider.pm line 376.
each on anonymous hash will always start from the beginning at /home/cpan/bin/perl-blead/lib/site_perl/5.35.4/amd64-freebsd/Template/Provider.pm line 875.
each on anonymous hash will always start from the beginning at /home/cpan/bin/perl-blead/lib/site_perl/5.35.4/amd64-freebsd/Template/Provider.pm line 894.
t/01use.t ......................... ok
each on anonymous hash will always start from the beginning at /home/cpan/bin/perl-blead/lib/site_perl/5.35.4/amd64-freebsd/Template/Document.pm line 75.
each on anonymous hash will always start from the beginning at /home/cpan/bin/perl-blead/lib/site_perl/5.35.4/amd64-freebsd/Template/Provider.pm line 376.
each on anonymous hash will always start from the beginning at /home/cpan/bin/perl-blead/lib/site_perl/5.35.4/amd64-freebsd/Template/Provider.pm line 875.
each on anonymous hash will always start from the beginning at /home/cpan/bin/perl-blead/lib/site_perl/5.35.4/amd64-freebsd/Template/Provider.pm line 894.
t/back_compat.t ................... ok
each on anonymous hash will always start from the beginning at /home/cpan/bin/perl-blead/lib/site_perl/5.35.4/amd64-freebsd/Template/Document.pm line 75.
each on anonymous hash will always start from the beginning at /home/cpan/bin/perl-blead/lib/site_perl/5.35.4/amd64-freebsd/Template/Provider.pm line 376.
each on anonymous hash will always start from the beginning at /home/cpan/bin/perl-blead/lib/site_perl/5.35.4/amd64-freebsd/Template/Provider.pm line 875.
each on anonymous hash will always start from the beginning at /home/cpan/bin/perl-blead/lib/site_perl/5.35.4/amd64-freebsd/Template/Provider.pm line 894.
t/generated_app.t ................. ok
each on anonymous hash will always start from the beginning at /home/cpan/bin/perl-blead/lib/site_perl/5.35.4/amd64-freebsd/Template/Document.pm line 75.
each on anonymous hash will always start from the beginning at /home/cpan/bin/perl-blead/lib/site_perl/5.35.4/amd64-freebsd/Template/Provider.pm line 376.
each on anonymous hash will always start from the beginning at /home/cpan/bin/perl-blead/lib/site_perl/5.35.4/amd64-freebsd/Template/Provider.pm line 875.
each on anonymous hash will always start from the beginning at /home/cpan/bin/perl-blead/lib/site_perl/5.35.4/amd64-freebsd/Template/Provider.pm line 894.
t/get_sharedir_file.t ............. ok
t/optional_http-server-restart.t .. skipped: set TEST_HTTP to enable this test
each on anonymous hash will always start from the beginning at /home/cpan/bin/perl-blead/lib/site_perl/5.35.4/amd64-freebsd/Template/Document.pm line 75.
each on anonymous hash will always start from the beginning at /home/cpan/bin/perl-blead/lib/site_perl/5.35.4/amd64-freebsd/Template/Provider.pm line 376.
each on anonymous hash will always start from the beginning at /home/cpan/bin/perl-blead/lib/site_perl/5.35.4/amd64-freebsd/Template/Provider.pm line 875.
each on anonymous hash will always start from the beginning at /home/cpan/bin/perl-blead/lib/site_perl/5.35.4/amd64-freebsd/Template/Provider.pm line 894.
t/render_file_contents.t .......... ok
each on anonymous hash will always start from the beginning at /home/cpan/bin/perl-blead/lib/site_perl/5.35.4/amd64-freebsd/Template/Document.pm line 75.
each on anonymous hash will always start from the beginning at /home/cpan/bin/perl-blead/lib/site_perl/5.35.4/amd64-freebsd/Template/Provider.pm line 376.
each on anonymous hash will always start from the beginning at /home/cpan/bin/perl-blead/lib/site_perl/5.35.4/amd64-freebsd/Template/Provider.pm line 875.
each on anonymous hash will always start from the beginning at /home/cpan/bin/perl-blead/lib/site_perl/5.35.4/amd64-freebsd/Template/Provider.pm line 894.
t/render_share_dir_file.t ......... ok
All tests successful.
Files=7, Tests=91, 12 wallclock secs ( 0.04 usr 0.03 sys + 8.73 cusr 2.59 csys = 11.38 CPU)
Result: PASS
------------------------------
PREREQUISITES
------------------------------
Prerequisite modules loaded:
requires:
Module Need Have
-------------------------------------- ------- --------
Catalyst 5.90001 5.90128
Catalyst::Action::RenderView 0.10 0.16
Catalyst::Plugin::ConfigLoader 0.30 0.35
Catalyst::Plugin::Static::Simple 0.28 0.37
Config::General 2.42 2.63
File::ChangeNotify 0.07 0.31
File::Copy::Recursive 0 0.45
File::ShareDir 0 1.118
Module::Install 1.02 1.19
Moose 0 2.2015
MooseX::Emulate::Class::Accessor::Fast 0 0.009032
namespace::autoclean 0 0.29
namespace::clean 0 0.27
Path::Class 0.09 0.37
Template 2.14 3.009
build_requires:
Module Need Have
-------------------------------------- ------- --------
Test::Fatal 0.003 0.016
Test::More 0.94 1.302185
configure_requires:
Module Need Have
-------------------------------------- ------- --------
ExtUtils::MakeMaker 0 7.62
File::ShareDir::Install 0 0.13
------------------------------
ENVIRONMENT AND OTHER CONTEXT
------------------------------
Environment variables:
AUTOMATED_TESTING = 1
DATE_MANIP_TEST_DM5 = 1
LC_ALL = C
NONINTERACTIVE_TESTING = 1
PATH = /home/cpan/bin/perl-blead/bin:/home/cpan/bin:/sbin:/bin:/usr/sbin:/usr/bin:/usr/local/sbin:/usr/local/bin:/home/cpan/bin
PERL5LIB =
PERL5OPT =
PERL5_CPANPLUS_IS_RUNNING = 36856
PERL5_CPAN_IS_RUNNING = 36856
PERL_MM_USE_DEFAULT = 1
PERL_USE_UNSAFE_INC = 1
PERL_VERSION = blead
SHELL = /usr/local/bin/bash
TERM = screen
TMPDIR = /home/cpan/tmp
Perl special variables (and OS-specific diagnostics, for MSWin32):
$^X = /usr/home/cpan/bin/perl-blead/bin/perl5.35.4
$UID/$EUID = 1002 / 1002
$GID = 1002 1002
$EGID = 1002 1002
Perl module toolchain versions installed:
Module Have
------------------- --------
CPAN 2.28
CPAN::Meta 2.150010
Cwd 3.82
ExtUtils::CBuilder 0.280236
ExtUtils::Command 7.62
ExtUtils::Install 2.20
ExtUtils::MakeMaker 7.62
ExtUtils::Manifest 1.73
ExtUtils::ParseXS 3.43
File::Spec 3.81
JSON 4.03
JSON::PP 4.06
Module::Build 0.4231
Module::Signature n/a
Parse::CPAN::Meta 2.150010
Test::Harness 3.43
Test::More 1.302185
YAML 1.30
YAML::Syck n/a
version 0.9929
--
Summary of my perl5 (revision 5 version 35 subversion 4) configuration:
Commit id: 2adefdbe7526a9bca64108394d6321f34019e4bb
Platform:
osname=freebsd
osvers=12.2-release-p7
archname=amd64-freebsd
uname='freebsd cjg-freebsd12 12.2-release-p7 freebsd 12.2-release-p7 generic amd64 '
config_args='-des -Dprefix=~/bin/perl-blead -Dscriptdir=~/bin/perl-blead/bin -Dusedevel -Duse64bitall'
hint=recommended
useposix=true
d_sigaction=define
useithreads=undef
usemultiplicity=undef
use64bitint=define
use64bitall=define
uselongdouble=undef
usemymalloc=n
default_inc_excludes_dot=define
Compiler:
cc='cc'
ccflags ='-DHAS_FPSETMASK -DHAS_FLOATINGPOINT_H -fno-strict-aliasing -pipe -fstack-protector-strong -I/usr/local/include'
optimize='-O2'
cppflags='-DHAS_FPSETMASK -DHAS_FLOATINGPOINT_H -fno-strict-aliasing -pipe -fstack-protector-strong -I/usr/local/include'
ccversion=''
gccversion='FreeBSD Clang 10.0.1 (git@github.com:llvm/llvm-project.git llvmorg-10.0.1-0-gef32c611aa2)'
gccosandvers=''
intsize=4
longsize=8
ptrsize=8
doublesize=8
byteorder=12345678
doublekind=3
d_longlong=define
longlongsize=8
d_longdbl=define
longdblsize=16
longdblkind=3
ivtype='long'
ivsize=8
nvtype='double'
nvsize=8
Off_t='off_t'
lseeksize=8
alignbytes=8
prototype=define
Linker and Libraries:
ld='cc'
ldflags ='-Wl,-E -fstack-protector-strong -L/usr/local/lib'
libpth=/usr/lib /usr/local/lib /usr/lib/clang/10.0.1/lib
libs=-lpthread -lgdbm -ldl -lm -lcrypt -lutil -lc
perllibs=-lpthread -ldl -lm -lcrypt -lutil -lc
libc=
so=so
useshrplib=false
libperl=libperl.a
gnulibc_version=''
Dynamic Linking:
dlsrc=dl_dlopen.xs
dlext=so
d_dlsymun=undef
ccdlflags=' '
cccdlflags='-DPIC -fPIC'
lddlflags='-shared -L/usr/local/lib -fstack-protector-strong'
Characteristics of this binary (from libperl):
Compile-time options:
HAS_TIMES
PERLIO_LAYERS
PERL_COPY_ON_WRITE
PERL_DONT_CREATE_GVSV
PERL_MALLOC_WRAP
PERL_OP_PARENT
PERL_PRESERVE_IVUV
PERL_USE_DEVEL
USE_64_BIT_ALL
USE_64_BIT_INT
USE_LARGE_FILES
USE_LOCALE
USE_LOCALE_COLLATE
USE_LOCALE_CTYPE
USE_LOCALE_NUMERIC
USE_LOCALE_TIME
USE_PERLIO
USE_PERL_ATOF
Built under freebsd
Compiled at Aug 29 2021 23:03:00
%ENV:
PERL5LIB=""
PERL5OPT=""
PERL5_CPANPLUS_IS_RUNNING="36856"
PERL5_CPAN_IS_RUNNING="36856"
PERL_MM_USE_DEFAULT="1"
PERL_USE_UNSAFE_INC="1"
PERL_VERSION="blead"
@INC:
/home/cpan/bin/perl-blead/lib/site_perl/5.35.4/amd64-freebsd
/home/cpan/bin/perl-blead/lib/site_perl/5.35.4
/home/cpan/bin/perl-blead/lib/5.35.4/amd64-freebsd
/home/cpan/bin/perl-blead/lib/5.35.4
.