Spreadsheet-ParseXLSX v0.34 Perl 5 v5.36.0 x86_64-linux

Status
Pass
From
Slaven Rezić
Dist
Spreadsheet-ParseXLSX v0.34
Platform
Perl 5 v5.36.0 x86_64-linux
Date
2024-03-13 15:13:14
ID
36a30a8a-e14c-11ee-86be-0dec6d8775ea
This distribution has been tested as part of the CPAN Testers
project, supporting the Perl programming language.  See
http://wiki.cpantesters.org/ for more information or email
questions to cpan-testers-discuss@perl.org


--
Dear Michael Daum,

This is a computer-generated report for Spreadsheet-ParseXLSX-0.34
on perl 5.36.0, created by CPAN-Reporter-1.2019.

Thank you for uploading your work to CPAN.  Congratulations!
All tests were successful.

Sections of this report:

    * Tester comments
    * Program output
    * Prerequisites
    * Environment and other context

------------------------------
TESTER COMMENTS
------------------------------

Additional comments from tester:

none provided

------------------------------
PROGRAM OUTPUT
------------------------------

Output from '/usr/bin/make test':

PERL_DL_NONLAZY=1 "/opt/perl-5.36.0/bin/perl" "-MExtUtils::Command::MM" "-MTest::Harness" "-e" "undef *Test::Harness::Switches; test_harness(0, 'blib/lib', 'blib/arch')" t/*.t
t/00-compile.t ............. ok
t/ahihi.t .................. ok
t/author-critic.t .......... skipped: these tests are for testing by the author
t/author-eol.t ............. skipped: these tests are for testing by the author
t/author-no-tabs.t ......... skipped: these tests are for testing by the author
t/author-pod-coverage.t .... skipped: these tests are for testing by the author
t/author-pod-syntax.t ...... skipped: these tests are for testing by the author
t/basic.t .................. ok
t/bug-10.t ................. ok
t/bug-11.t ................. ok
t/bug-12.t ................. ok
t/bug-13.t ................. ok
t/bug-14.t ................. ok
t/bug-15.t ................. ok
t/bug-16.t ................. ok
t/bug-17.t ................. ok
t/bug-2.t .................. ok
t/bug-29.t ................. ok
t/bug-3.t .................. ok
t/bug-32.t ................. ok
t/bug-38.t ................. ok
t/bug-4.t .................. ok
t/bug-41.t ................. ok
t/bug-5.t .................. ok
t/bug-57.t ................. ok
t/bug-6-2.t ................ ok
t/bug-6.t .................. ok
t/bug-61.t ................. ok
t/bug-7.t .................. ok
t/bug-72.t ................. ok
t/bug-8.t .................. ok
t/bug-md-10.t .............. ok
t/bug-md-11.t .............. ok
t/bug-md-7.t ............... ok
t/cell-to-row-col.t ........ ok
t/column-formats.t ......... ok
t/encryption.t ............. ok
t/garbage-collect.t ........ ok
t/hidden-row-and-column.t .. ok
t/hidden-sheet.t ........... ok
t/hyperlinks.t ............. ok
t/page-Setup.t ............. ok
t/rich.t ................... ok
t/tab-color.t .............. ok
t/target-abspath.t ......... ok
All tests successful.

Test Summary Report
-------------------
t/hyperlinks.t           (Wstat: 0 Tests: 58 Failed: 0)
  TODO passed:   47-49, 51-53, 55-57
Files=45, Tests=1289, 61 wallclock secs ( 0.14 usr  0.06 sys + 59.74 cusr  1.17 csys = 61.11 CPU)
Result: PASS

------------------------------
PREREQUISITES
------------------------------

Prerequisite modules loaded:

requires:

    Module                             Need  Have    
    ---------------------------------- ----- --------
    Archive::Zip                       1.34  1.68    
    Crypt::Mode::CBC                   0     0.078   
    Crypt::Mode::ECB                   0     0.078   
    Digest::SHA                        0     6.04    
    Encode                             0     3.21    
    File::Temp                         0     0.2311  
    Graphics::ColorUtils               0     0.17    
    MIME::Base64                       0     3.16    
    OLE::Storage_Lite                  0     0.22    
    perl                               5.010 5.036000
    Scalar::Util                       0     1.63    
    Spreadsheet::ParseExcel            0     0.65    
    Spreadsheet::ParseExcel::Cell      0     0.65    
    Spreadsheet::ParseExcel::Worksheet 0     0.65    
    XML::Twig                          0     3.52    

build_requires:

    Module                             Need  Have    
    ---------------------------------- ----- --------
    Data::Dumper                       0     2.184   
    ExtUtils::MakeMaker                0     7.70    
    File::Spec                         0     3.84    
    IO::Handle                         0     1.51    
    IPC::Open3                         0     1.22    
    Spreadsheet::ParseExcel::Utility   0     0.65    
    Test::More                         0.88  1.302196

configure_requires:

    Module                             Need  Have    
    ---------------------------------- ----- --------
    ExtUtils::MakeMaker                0     7.70    


------------------------------
ENVIRONMENT AND OTHER CONTEXT
------------------------------

Environment variables:

    LANG = en_US.UTF-8
    PATH = /usr/local/bin:/usr/bin:/bin:/usr/local/sbin:/usr/sbin:/sbin:/home/cpansand/bin/linux-gnu:/home/cpansand/bin/sh:/home/cpansand/bin:/usr/games:/home/cpansand/devel:/home/eserte/src/srezic-misc/scripts
    PERL5LIB = /home/cpansand/.local/share/.cpan/build/2024031315/Graphics-ColorUtils-0.17-1/blib/arch:/home/cpansand/.local/share/.cpan/build/2024031315/Graphics-ColorUtils-0.17-1/blib/lib
    PERL5OPT = 
    PERL5_CPANPLUS_IS_RUNNING = 733434
    PERL5_CPAN_IS_RUNNING = 733434
    PERL5_CPAN_IS_RUNNING_IN_RECURSION = 689692,733434
    PERLDOC = -MPod::Perldoc::ToTextOverstrike
    PERL_BATCH = yes
    PERL_CANARY_STABILITY_NOPROMPT = 1
    PERL_CPAN_REPORTER_CONFIG = /var/tmp/cpansmoker-1023/2024031313/cpanreporter_000_config.ini
    PERL_EXTUTILS_AUTOINSTALL = --defaultdeps
    PERL_USE_UNSAFE_INC = 1
    SHELL = /usr/bin/zsh
    TERM = screen
    TMPDIR = /var/tmp/cpansmoker-1023/2024031313

Perl special variables (and OS-specific diagnostics, for MSWin32):

    $^X = /opt/perl-5.36.0/bin/perl
    $UID/$EUID = 1023 / 1023
    $GID = 1023 1023
    $EGID = 1023 1023

Perl module toolchain versions installed:

    Module              Have    
    ------------------- --------
    CPAN                2.33    
    CPAN::Meta          2.150010
    Cwd                 3.84    
    ExtUtils::CBuilder  0.280236
    ExtUtils::Command   7.70    
    ExtUtils::Install   2.22    
    ExtUtils::MakeMaker 7.70    
    ExtUtils::Manifest  1.75    
    ExtUtils::ParseXS   3.51    
    File::Spec          3.84    
    JSON                4.10    
    JSON::PP            4.16    
    Module::Build       0.4234  
    Module::Signature   0.88    
    Parse::CPAN::Meta   2.150010
    Test2               1.302196
    Test::Harness       3.48    
    Test::More          1.302196
    YAML                1.31    
    YAML::Syck          1.34    
    version             0.9929  


--

Summary of my perl5 (revision 5 version 36 subversion 0) configuration:
   
  Platform:
    osname=linux
    osvers=5.15.0-56-generic
    archname=x86_64-linux
    uname='linux cloud14.bbbike.org 5.15.0-56-generic #62-ubuntu smp tue nov 22 19:54:14 utc 2022 x86_64 x86_64 x86_64 gnulinux '
    config_args='-ds -e -Dprefix=/opt/perl-5.36.0 -Dcf_email=srezic@cpan.org'
    hint=recommended
    useposix=true
    d_sigaction=define
    useithreads=undef
    usemultiplicity=undef
    use64bitint=define
    use64bitall=define
    uselongdouble=undef
    usemymalloc=n
    default_inc_excludes_dot=define
  Compiler:
    cc='cc'
    ccflags ='-fwrapv -fno-strict-aliasing -pipe -fstack-protector-strong -I/usr/local/include -D_LARGEFILE_SOURCE -D_FILE_OFFSET_BITS=64'
    optimize='-O2'
    cppflags='-fwrapv -fno-strict-aliasing -pipe -fstack-protector-strong -I/usr/local/include'
    ccversion=''
    gccversion='11.3.0'
    gccosandvers=''
    intsize=4
    longsize=8
    ptrsize=8
    doublesize=8
    byteorder=12345678
    doublekind=3
    d_longlong=define
    longlongsize=8
    d_longdbl=define
    longdblsize=16
    longdblkind=3
    ivtype='long'
    ivsize=8
    nvtype='double'
    nvsize=8
    Off_t='off_t'
    lseeksize=8
    alignbytes=8
    prototype=define
  Linker and Libraries:
    ld='cc'
    ldflags =' -fstack-protector-strong -L/usr/local/lib'
    libpth=/usr/local/lib /usr/lib/x86_64-linux-gnu /usr/lib /usr/lib64
    libs=-lpthread -lnsl -lgdbm -ldb -ldl -lm -lcrypt -lutil -lc
    perllibs=-lpthread -lnsl -ldl -lm -lcrypt -lutil -lc
    libc=/lib/x86_64-linux-gnu/libc.so.6
    so=so
    useshrplib=false
    libperl=libperl.a
    gnulibc_version='2.35'
  Dynamic Linking:
    dlsrc=dl_dlopen.xs
    dlext=so
    d_dlsymun=undef
    ccdlflags='-Wl,-E'
    cccdlflags='-fPIC'
    lddlflags='-shared -O2 -L/usr/local/lib -fstack-protector-strong'


Characteristics of this binary (from libperl): 
  Compile-time options:
    HAS_TIMES
    PERLIO_LAYERS
    PERL_COPY_ON_WRITE
    PERL_DONT_CREATE_GVSV
    PERL_MALLOC_WRAP
    PERL_OP_PARENT
    PERL_PRESERVE_IVUV
    USE_64_BIT_ALL
    USE_64_BIT_INT
    USE_LARGE_FILES
    USE_LOCALE
    USE_LOCALE_COLLATE
    USE_LOCALE_CTYPE
    USE_LOCALE_NUMERIC
    USE_LOCALE_TIME
    USE_PERLIO
    USE_PERL_ATOF
  Built under linux
  Compiled at Dec 18 2022 14:30:04
  %ENV:
    PERL5LIB="/home/cpansand/.local/share/.cpan/build/2024031315/Graphics-ColorUtils-0.17-1/blib/arch:/home/cpansand/.local/share/.cpan/build/2024031315/Graphics-ColorUtils-0.17-1/blib/lib"
    PERL5OPT=""
    PERL5_CPANPLUS_IS_RUNNING="733434"
    PERL5_CPAN_IS_RUNNING="733434"
    PERL5_CPAN_IS_RUNNING_IN_RECURSION="689692,733434"
    PERLDOC="-MPod::Perldoc::ToTextOverstrike"
    PERL_BATCH="yes"
    PERL_CANARY_STABILITY_NOPROMPT="1"
    PERL_CPAN_REPORTER_CONFIG="/var/tmp/cpansmoker-1023/2024031313/cpanreporter_000_config.ini"
    PERL_EXTUTILS_AUTOINSTALL="--defaultdeps"
    PERL_USE_UNSAFE_INC="1"
  @INC:
    /home/cpansand/.local/share/.cpan/build/2024031315/Graphics-ColorUtils-0.17-1/blib/arch
    /home/cpansand/.local/share/.cpan/build/2024031315/Graphics-ColorUtils-0.17-1/blib/lib
    /opt/perl-5.36.0/lib/site_perl/5.36.0/x86_64-linux
    /opt/perl-5.36.0/lib/site_perl/5.36.0
    /opt/perl-5.36.0/lib/5.36.0/x86_64-linux
    /opt/perl-5.36.0/lib/5.36.0
    .